Workbook

Sheet JAN
A1: LAPORAN PENCAPAIAN PIAGAM PELANGGAN BAGI PERMOHONAN IMPORT & EKSPORT
A2: CAWANGAN KUALA LUMPUR BAGI BULAN JANUARI 2015
A4: Aktiviti Utama Dalam Piagam Pelanggan | B4: Bil. Permohonan | D4: Permohonan Lulus | F4: Permohonan Tolak | H4: Permohonan Diproses | L4: Workflow & Status | N4: Slip Batal | O4: Belum Cetak | Q4: % Capaian Piagam
B5: A | C5: B | D5: C | E5: D | F5: E | G5: F | H5: G | I5: H | J5: I | K5: J | L5: K | M5: L | N5: M | O5: N | P5: O | Q5: P = (G +H)/A x 100 | R5: Q =(I+J)/ B x 100
A6: Produk | B6: Kaunter | C6: Online | D6: Kaunter | E6: Online | F6: Kaunter | G6: Online | H6: Kaunter (7 Hari Bekerja) | I6: Kaunter Reject (7 hari bekerja) | J6: Online (5 Hari Bekerja) | K6: Online Reject (5 hari bekerja) | L6: Kaunter | M6: Online | N6: Bil. | O6: Kaunter | P6: Online | Q6: Kaunter | R6: Online
A7: IMPORT
A8: Kenderaan Berkuota | B8: 1102 | C8: 9172 | D8: 4 | E8: 8423 | F8: 0 | G8: 567 | H8: 3 | I8: 0 | J8: 8674 | K8: 542 | L8: 0 | M8: 0 | N8: 65 | O8: 1 | P8: 182 | Q8: =IF(B8=0,0,(H8+I8)/B8*100) -> 0.2722323 | R8: =IF(C8=0,0,(J8+K8)/C8*100) -> 100.47972
A9: Ken. Luar Kuota | B9: 153 | C9: 920 | D9: 138 | E9: 784 | F9: 1 | G9: 71 | H9: 134 | I9: 1 | J9: 874 | K9: 45 | L9: 0 | M9: 13 | N9: 51 | O9: 2 | P9: 52 | Q9: =IF(B9=0,0,(H9+I9)/B9*100) -> 88.235294 | R9: =IF(C9=0,0,(J9+K9)/C9*100) -> 99.891304
A10: Ken. Persendirian | B10: 125 | C10: 0 | D10: 95 | E10: 0 | F10: 22 | G10: 0 | H10: 68 | I10: 21 | J10: 0 | K10: 0 | L10: 5 | M10: 0 | N10: 1 | O10: 1 | P10: 0 | Q10: =IF(B10=0,0,(H10+I10)/B10*100) -> 71.2 | R10: =IF(C10=0,0,(J10+K10)/C10*100) -> 0
A11: Jentera & Alat Ganti | B11: 5 | C11: 184 | D11: 5 | E11: 120 | F11: 0 | G11: 62 | H11: 5 | I11: 0 | J11: 121 | K11: 63 | L11: 0 | M11: 0 | N11: 0 | O11: 0 | P11: 2 | Q11: =IF(B11=0,0,(H11+H12+H13+I11+I12+I13)/B11*100) -> 100 | R11: =IF(C11=0,0,(J11+K11)/C11*100) -> 100
A12: Prime Mover | C12: 0 | D12: 0 | E12: 0 | F12: 0 | G12: 0 | H12: 0 | I12: 0 | J12: 0 | K12: 0 | L12: 0 | M12: 0 | O12: 0 | P12: 0 | R12: =IF(C12=0,0,(J12+K12)/C12*100) -> 0
A13: Dump Truck | C13: 0 | D13: 0 | E13: 0 | F13: 0 | G13: 0 | H13: 0 | I13: 0 | J13: 0 | K13: 0 | L13: 0 | M13: 0 | O13: 0 | P13: 0 | R13: =IF(C13=0,0,(J13+K13)/C13*100) -> 0
A14: Hot Rolled | B14: 17 | C14: 670 | D14: 0 | E14: 598 | F14: 0 | G14: 65 | H14: 0 | I14: 0 | J14: 584 | K14: 65 | L14: 0 | M14: 1 | N14: 0 | O14: 0 | P14: 6 | Q14: =IF(B14=0,0,(H14+H15+H16+H17+H18+H19+H20+I14+I15+I16+I17+I18+I19+I20)/B14*100) -> 88.235294 | R14: =IF(C14=0,0,(J14+K14)/C14*100) -> 96.865672
A15: Cold Rolled | C15: 436 | D15: 0 | E15: 390 | F15: 0 | G15: 38 | H15: 0 | I15: 0 | J15: 377 | K15: 38 | L15: 0 | M15: 0 | O15: 0 | P15: 8 | R15: =IF(C15=0,0,(J15+K15)/C15*100) -> 95.183486
A16: Pipe and Tube | C16: 1068 | D16: 10 | E16: 824 | F16: 0 | G16: 222 | H16: 10 | I16: 0 | J16: 950 | K16: 221 | L16: 0 | M16: 0 | O16: 0 | P16: 21 | R16: =IF(C16=0,0,(J16+K16)/C16*100) -> 109.64419
A17: Elec. Galvanised | C17: 642 | D17: 4 | E17: 525 | F17: 0 | G17: 96 | H17: 4 | I17: 0 | J17: 529 | K17: 96 | L17: 0 | M17: 2 | O17: 0 | P17: 19 | R17: =IF(C17=0,0,(J17+K17)/C17*100) -> 97.352025
A18: Galvanised Iron | C18: 34 | D18: 1 | E18: 27 | F18: 0 | G18: 7 | H18: 1 | I18: 0 | J18: 27 | K18: 7 | L18: 0 | M18: 0 | O18: 0 | P18: 0 | R18: =IF(C18=0,0,(J18+K18)/C18*100) -> 100
A19: Strip | C19: 59 | D19: 0 | E19: 46 | F19: 0 | G19: 13 | H19: 0 | I19: 0 | J19: 38 | K19: 16 | L19: 0 | M19: 0 | O19: 0 | P19: 0 | R19: =IF(C19=0,0,(J19+K19)/C19*100) -> 91.525424
A20: Besi Keluli | C20: 0 | D20: 0 | E20: 0 | F20: 0 | G20: 0 | H20: 0 | I20: 0 | J20: 0 | K20: 0 | L20: 0 | M20: 0 | O20: 0 | P20: 0 | R20: =IF(C20=0,0,(J20+K20)/C20*100) -> 0
A21: Gula | B21: 0 | C21: 30 | D21: 0 | E21: 25 | F21: 0 | G21: 0 | H21: 0 | I21: 0 | J21: 25 | K21: 0 | L21: 0 | M21: 0 | N21: 0 | O21: 0 | P21: 5 | Q21: =IF(B21=0,0,(H21+I21)/B21*100) -> 0 | R21: =IF(C21=0,0,(J21+K21)/C21*100) -> 83.333333
A22: Tepung | B22: 31 | C22: 46 | D22: 6 | E22: 37 | F22: 0 | G22: 10 | H22: 4 | I22: 0 | J22: 32 | K22: 10 | L22: 0 | M22: 0 | N22: 0 | O22: 0 | P22: 0 | Q22: =IF(B22=0,0,(H22+H23+H24+H25+I22+I23+I24+I25)/B22*100) -> 129.03226 | R22: =IF(C22=0,0,(J22+K22)/C22*100) -> 91.304348
A23: Lain-lain Gula | C23: 57 | D23: 4 | E23: 40 | F23: 1 | G23: 13 | H23: 4 | I23: 1 | J23: 39 | K23: 13 | L23: 0 | M23: 0 | O23: 0 | P23: 4 | R23: =IF(C23=0,0,(J23+K23)/C23*100) -> 91.22807
A24: Lain-lain | C24: 397 | D24: 31 | E24: 224 | F24: 1 | G24: 158 | H24: 30 | I24: 1 | J24: 238 | K24: 147 | L24: 2 | M24: 0 | O24: 0 | P24: 15 | R24: =IF(C24=0,0,(J24+K24)/C24*100) -> 96.97733
A25: Dari Israel | C25: 270 | D25: 0 | E25: 217 | F25: 0 | G25: 33 | H25: 0 | I25: 0 | J25: 144 | K25: 24 | L25: 0 | M25: 0 | O25: 0 | P25: 10 | R25: =IF(C25=0,0,(J25+K25)/C25*100) -> 62.222222
A26: JUMLAH | B26: =SUM(B8:B25) -> 1433 | C26: =SUM(C8:C25) -> 13985 | D26: =SUM(D8:D25) -> 298 | E26: =SUM(E8:E25) -> 12280 | F26: =SUM(F8:F25) -> 25 | G26: =SUM(G8:G25) -> 1355 | H26: =SUM(H8:H25) -> 263 | I26: =SUM(I8:I25) -> 24 | ... P26: =SUM(P8:P25) -> 324 | Q26: =IF(B26=0,0,(H26+I26)/B26*100) -> 20.027913 | R26: =IF(C26=0,0,(J26+K26)/C26*100) -> 99.671076
A27: =A4 -> Aktiviti Utama Dalam Piagam Pelanggan | B27: =B4 -> Bil. Permohonan | D27: =D4 -> Permohonan Lulus | F27: =F4 -> Permohonan Tolak | L27: =L4 -> Workflow & Status | N27: =N4 -> Slip Batal | O27: =O4 -> Belum Cetak | Q27: =Q4 -> % Capaian Piagam
B28: A | C28: B | D28: C | E28: D | F28: E | G28: F | H28: G | I28: H | J28: I | K28: J | L28: K | M28: L | N28: M | O28: N | P28: O | Q28: P = (G +H)/A x 100 | R28: Q =(I+J)/ B x 100
A29: =A6 -> Produk | B29: =B6 -> Kaunter | C29: =C6 -> Online | D29: =D6 -> Kaunter | E29: =E6 -> Online | F29: =F6 -> Kaunter | G29: =G6 -> Online | H29: Kaunter (7 Hari Bekerja) | I29: Kaunter Reject (7 hari bekerja) | J29: Online (5 Hari Bekerja) | K29: Online Reject (5 hari bekerja) | L29: =L6 -> Kaunter | M29: =M6 -> Online | N29: =N6 -> Bil. | O29: =O6 -> Kaunter | P29: =P6 -> Online | Q29: =Q6 -> Kaunter | R29: =R6 -> Online
A30: EKSPORT
A31: Besi Keluli (Long Product) | B31: 0 | C31: 0 | D31: 0 | E31: 0 | F31: 0 | G31: 0 | H31: 0 | I31: 0 | J31: 0 | K31: 0 | L31: 0 | M31: 0 | N31: 0 | O31: 0 | P31: 0 | Q31: =IF(B31=0,0,(H31+H32+#REF!+H33+H34+H35+H36+I31+I32+#REF!+I33+I34+I35+I36)/B31*100) -> 0 | R31: =IF(C31=0,0,(J31+K31)/C31*100) -> 0
A32: Scrap | C32: 51 | D32: 0 | E32: 48 | F32: 0 | G32: 3 | H32: 0 | I32: 0 | J32: 48 | K32: 3 | L32: 0 | M32: 0 | O32: 0 | P32: 0 | R32: =IF(C32=0,0,(J32+K32)/C32*100) -> 100
A33: Gula | C33: 78 | D33: 0 | E33: 75 | F33: 0 | G33: 3 | H33: 0 | I33: 0 | J33: 75 | K33: 3 | L33: 0 | M33: 0 | O33: 0 | P33: 0 | R33: =IF(C33=0,0,(J33+K33)/C33*100) -> 100
A34: Lain-lain Gula | C34: 6 | D34: 0 | E34: 6 | F34: 0 | G34: 0 | H34: 0 | I34: 0 | J34: 6 | K34: 0 | L34: 0 | M34: 0 | O34: 0 | P34: 0 | R34: =IF(C34=0,0,(J34+K34)/C34*100) -> 100
A35: Lain-lain | C35: 17 | D35: 0 | E35: 8 | F35: 0 | G35: 9 | H35: 0 | I35: 0 | J35: 8 | K35: 9 | L35: 0 | M35: 0 | O35: 0 | P35: 0 | R35: =IF(C35=0,0,(J35+K35)/C35*100) -> 100
A36: Israel | C36: 64 | D36: 0 | E36: 58 | F36: 0 | G36: 6 | H36: 0 | I36: 0 | J36: 58 | K36: 6 | L36: 0 | M36: 0 | O36: 0 | P36: 0 | R36: =IF(C36=0,0,(J36+K36)/C36*100) -> 100
A37: JUMLAH | B37: =SUM(B31:B36) -> 0 | C37: =SUM(C31:C36) -> 216 | D37: =SUM(D31:D36) -> 0 | E37: =SUM(E31:E36) -> 195 | F37: =SUM(F31:F36) -> 0 | G37: =SUM(G31:G36) -> 21 | H37: =SUM(H31:H36) -> 0 | I37: =SUM(I31:I36) -> 0 | ... P37: =SUM(P31:P36) -> 0 | Q37: =IF(B37=0,0,(H37+I37)/B37*100) -> 0 | R37: =IF(C37=0,0,(J37+K37)/C37*100) -> 100
A39: Makluman | B39: : | C39: Peratusan Piagam Pelanggan bagi Kaunter diambil daripada Permohonan lengkap diterima di kaunter sehingga AP dicetak
C40: Peratusan Piagam Pelanggan bagi Online diambil daripada Permohonan diterima sehingga AP diluluskan.

Sheet FEB
A1: LAPORAN PENCAPAIAN PIAGAM PELANGGAN BAGI PERMOHONAN IMPORT & EKSPORT
A2: CAWANGAN KUALA LUMPUR BAGI BULAN FEBRUARI 2015
A4: Aktiviti Utama Dalam Piagam Pelanggan | B4: Bil. Permohonan | D4: Permohonan Lulus | F4: Permohonan Tolak | H4: Permohonan Diproses | L4: Workflow & Status | N4: Slip Batal | O4: Belum Cetak | Q4: % Capaian Piagam
B5: A | C5: B | D5: C | E5: D | F5: E | G5: F | H5: G | I5: H | J5: I | K5: J | L5: K | M5: L | N5: M | O5: N | P5: O | Q5: P = (G +H)/A x 100 | R5: Q =(I+J)/ B x 100
A6: Produk | B6: Kaunter | C6: Online | D6: Kaunter | E6: Online | F6: Kaunter | G6: Online | H6: Kaunter (7 Hari Bekerja) | I6: Kaunter Reject (7 hari bekerja) | J6: Online (5 Hari Bekerja) | K6: Online Reject (5 hari bekerja) | L6: Kaunter | M6: Online | N6: Bil. | O6: Kaunter | P6: Online | Q6: Kaunter | R6: Online
A7: IMPORT
A8: Kenderaan Berkuota | B8: 132 | C8: 8200 | D8: 11 | E8: 7335 | F8: 0 | G8: 458 | H8: 0 | I8: 0 | J8: 7840 | K8: 280 | L8: 0 | M8: 2 | N8: 0 | O8: 0 | P8: 404 | Q8: =IF(B8=0,0,(H8+I8)/B8*100) -> 0 | R8: =IF(C8=0,0,(J8+K8)/C8*100) -> 99.02439
A9: Ken. Luar Kuota | B9: 22 | C9: 1217 | D9: 13 | E9: 948 | F9: 5 | G9: 99 | H9: 11 | I9: 1 | J9: 1012 | K9: 80 | L9: 2 | M9: 8 | N9: 14 | O9: 1 | P9: 17 | Q9: =IF(B9=0,0,(H9+I9)/B9*100) -> 54.545455 | R9: =IF(C9=0,0,(J9+K9)/C9*100) -> 89.728841
A10: Ken. Persendirian | B10: 88 | C10: 0 | D10: 64 | E10: 0 | F10: 13 | G10: 0 | H10: 67 | I10: 13 | J10: 0 | K10: 0 | L10: 5 | M10: 0 | N10: 2 | O10: 1 | P10: 0 | Q10: =IF(B10=0,0,(H10+I10)/B10*100) -> 90.909091 | R10: =IF(C10=0,0,(J10+K10)/C10*100) -> 0
A11: Jentera & Alat Ganti | B11: 12 | C11: 113 | D11: 9 | E11: 57 | F11: 3 | G11: 46 | H11: 9 | I11: 3 | J11: 64 | K11: 45 | L11: 0 | M11: 0 | N11: 1 | O11: 0 | P11: 10 | Q11: =IF(B11=0,0,(H11+H12+H13+I11+I12+I13)/B11*100) -> 100 | R11: =IF(C11=0,0,(J11+K11)/C11*100) -> 96.460177
A12: Prime Mover | C12: 0 | D12: 0 | E12: 0 | F12: 0 | G12: 0 | H12: 0 | I12: 0 | J12: 0 | K12: 0 | L12: 0 | M12: 0 | O12: 0 | P12: 0 | R12: =IF(C12=0,0,(J12+K12)/C12*100) -> 0
A13: Dump Truck | C13: 29 | D13: 0 | E13: 11 | F13: 0 | G13: 18 | H13: 0 | I13: 0 | J13: 8 | K13: 113 | L13: 0 | M13: 0 | O13: 0 | P13: 0 | R13: =IF(C13=0,0,(J13+K13)/C13*100) -> 417.24138
A14: Hot Rolled | B14: 5 | C14: 779 | D14: 0 | E14: 397 | F14: 3 | G14: 145 | H14: 0 | I14: 3 | J14: 469 | K14: 69 | L14: 0 | M14: 4 | N14: 2 | O14: 0 | P14: 7 | Q14: =IF(B14=0,0,(H14+H15+H16+H17+H18+H19+H20+I14+I15+I16+I17+I18+I19+I20)/B14*100) -> 100 | R14: =IF(C14=0,0,(J14+K14)/C14*100) -> 69.062901
A15: Cold Rolled | C15: 353 | D15: 0 | E15: 281 | F15: 2 | G15: 51 | H15: 0 | I15: 2 | J15: 219 | K15: 109 | L15: 0 | M15: 0 | O15: 0 | P15: 21 | R15: =IF(C15=0,0,(J15+K15)/C15*100) -> 92.917847
A16: Pipe and Tube | C16: 1003 | D16: 0 | E16: 766 | F16: 0 | G16: 208 | H16: 0 | I16: 0 | J16: 676 | K16: 128 | L16: 0 | M16: 7 | O16: 0 | P16: 23 | R16: =IF(C16=0,0,(J16+K16)/C16*100) -> 80.159521
A17: Elec. Galvanised | C17: 486 | D17: 0 | E17: 368 | F17: 0 | G17: 80 | H17: 0 | I17: 0 | J17: 368 | K17: 48 | L17: 0 | M17: 9 | O17: 0 | P17: 29 | R17: =IF(C17=0,0,(J17+K17)/C17*100) -> 85.596708
A18: Galvanised Iron | C18: 66 | D18: 0 | E18: 30 | F18: 0 | G18: 29 | H18: 0 | I18: 0 | J18: 24 | K18: 27 | L18: 0 | M18: 0 | O18: 0 | P18: 7 | R18: =IF(C18=0,0,(J18+K18)/C18*100) -> 77.272727
A19: Strip | C19: 45 | D19: 0 | E19: 37 | F19: 0 | G19: 5 | H19: 0 | I19: 0 | J19: 30 | K19: 4 | L19: 0 | M19: 1 | O19: 0 | P19: 2 | R19: =IF(C19=0,0,(J19+K19)/C19*100) -> 75.555556
A20: Besi Keluli | C20: 0 | D20: 0 | E20: 0 | F20: 0 | G20: 0 | H20: 0 | I20: 0 | J20: 0 | K20: 0 | L20: 0 | M20: 0 | O20: 0 | P20: 0 | R20: =IF(C20=0,0,(J20+K20)/C20*100) -> 0
A21: Gula | B21: 12 | C21: 0 | D21: 0 | E21: 0 | F21: 0 | G21: 0 | H21: 0 | I21: 0 | J21: 0 | K21: 0 | L21: 0 | M21: 0 | N21: 0 | O21: 0 | P21: 0 | Q21: =IF(B21=0,0,(H21+I21)/B21*100) -> 0 | R21: =IF(C21=0,0,(J21+K21)/C21*100) -> 0
A22: Tepung | B22: 0 | C22: 0 | D22: 0 | E22: 0 | F22: 0 | G22: 0 | H22: 0 | I22: 0 | J22: 0 | K22: 0 | L22: 0 | M22: 0 | N22: 0 | O22: 0 | P22: 0 | Q22: =IF(B22=0,0,(H22+H23+H24+H25+I22+I23+I24+I25)/B22*100) -> 0 | R22: =IF(C22=0,0,(J22+K22)/C22*100) -> 0
A23: Lain-lain Gula | C23: 0 | D23: 0 | E23: 0 | F23: 0 | G23: 0 | H23: 0 | I23: 0 | J23: 0 | K23: 0 | L23: 0 | M23: 0 | O23: 0 | P23: 0 | R23: =IF(C23=0,0,(J23+K23)/C23*100) -> 0
A24: Lain-lain | C24: 177 | D24: 9 | E24: 96 | F24: 0 | G24: 68 | H24: 9 | I24: 0 | J24: 104 | K24: 66 | L24: 0 | M24: 0 | O24: 0 | P24: 13 | R24: =IF(C24=0,0,(J24+K24)/C24*100) -> 96.045198
A25: Dari Israel | C25: 144 | D25: 1 | E25: 55 | F25: 0 | G25: 82 | H25: 1 | I25: 0 | J25: 16 | K25: 77 | L25: 0 | M25: 0 | O25: 0 | P25: 7 | R25: =IF(C25=0,0,(J25+K25)/C25*100) -> 64.583333
A26: JUMLAH | B26: =SUM(B8:B25) -> 271 | C26: =SUM(C8:C25) -> 12612 | D26: =SUM(D8:D25) -> 107 | E26: =SUM(E8:E25) -> 10381 | F26: =SUM(F8:F25) -> 26 | G26: =SUM(G8:G25) -> 1289 | H26: =SUM(H8:H25) -> 97 | I26: =SUM(I8:I25) -> 22 | ... P26: =SUM(P8:P25) -> 540 | Q26: =IF(B26=0,0,(H26+I26)/B26*100) -> 43.911439 | R26: =IF(C26=0,0,(J26+K26)/C26*100) -> 94.164288
A27: =A4 -> Aktiviti Utama Dalam Piagam Pelanggan | B27: =B4 -> Bil. Permohonan | D27: =D4 -> Permohonan Lulus | F27: =F4 -> Permohonan Tolak | H27: Permohonan Diproses | L27: =L4 -> Workflow & Status | N27: =N4 -> Slip Batal | O27: =O4 -> Belum Cetak | Q27: =Q4 -> % Capaian Piagam
B28: A | C28: B | D28: C | E28: D | F28: E | G28: F | H28: G | I28: H | J28: I | K28: J | L28: K | M28: L | N28: M | O28: N | P28: O | Q28: P = (G +H)/A x 100 | R28: Q =(I+J)/ B x 100
A29: =A6 -> Produk | B29: =B6 -> Kaunter | C29: =C6 -> Online | D29: =D6 -> Kaunter | E29: =E6 -> Online | F29: =F6 -> Kaunter | G29: =G6 -> Online | H29: Kaunter (7 Hari Bekerja) | I29: Kaunter Reject (7 hari bekerja) | J29: Online (5 Hari Bekerja) | K29: Online Reject (5 hari bekerja) | L29: =L6 -> Kaunter | M29: =M6 -> Online | N29: =N6 -> Bil. | O29: =O6 -> Kaunter | P29: =P6 -> Online | Q29: =Q6 -> Kaunter | R29: =R6 -> Online
A30: EKSPORT
A31: Besi Keluli (Long Product) | B31: 0 | C31: 0 | D31: 0 | E31: 0 | F31: 0 | G31: 0 | H31: 0 | I31: 0 | J31: 0 | K31: 0 | L31: 0 | M31: 0 | N31: 0 | O31: 0 | P31: 0 | Q31: 0 | R31: =IF(C31=0,0,(J31+K31)/C31*100) -> 0
A32: Scrap | C32: 56 | D32: 0 | E32: 41 | F32: 0 | G32: 15 | H32: 0 | I32: 0 | J32: 41 | K32: 15 | L32: 0 | M32: 0 | O32: 0 | P32: 0 | R32: =IF(C32=0,0,(J32+K32)/C32*100) -> 100
A33: Gula | C33: 1 | D33: 0 | E33: 0 | F33: 0 | G33: 1 | H33: 0 | I33: 0 | J33: 0 | K33: 1 | L33: 0 | M33: 0 | O33: 0 | P33: 0 | R33: =IF(C33=0,0,(J33+K33)/C33*100) -> 100
A34: Lain-lain Gula | C34: 0 | D34: 0 | E34: 0 | F34: 0 | G34: 0 | H34: 0 | I34: 0 | J34: 0 | K34: 0 | L34: 0 | M34: 0 | O34: 0 | P34: 0 | R34: =IF(C34=0,0,(J34+K34)/C34*100) -> 0
A35: Lain-lain | C35: 7 | D35: 0 | E35: 3 | F35: 0 | G35: 4 | H35: 0 | I35: 0 | J35: 3 | K35: 4 | L35: 0 | M35: 0 | O35: 0 | P35: 0 | R35: =IF(C35=0,0,(J35+K35)/C35*100) -> 100
A36: Israel | C36: 34 | D36: 0 | E36: 32 | F36: 0 | G36: 2 | H36: 0 | I36: 0 | J36: 32 | K36: 2 | L36: 0 | M36: 0 | O36: 0 | P36: 0 | R36: =IF(C36=0,0,(J36+K36)/C36*100) -> 100
A37: JUMLAH | B37: =SUM(B31:B36) -> 0 | C37: =SUM(C31:C36) -> 98 | D37: =SUM(D31:D36) -> 0 | E37: =SUM(E31:E36) -> 76 | F37: =SUM(F31:F36) -> 0 | G37: =SUM(G31:G36) -> 22 | H37: =SUM(H31:H36) -> 0 | I37: =SUM(I31:I36) -> 0 | ... P37: =SUM(P31:P36) -> 0 | Q37: =IF(B37=0,0,(H37+I37)/B37*100) -> 0 | R37: =IF(C37=0,0,(J37+K37)/C37*100) -> 100
A39: Makluman | B39: : | C39: Peratusan Piagam Pelanggan bagi Kaunter diambil daripada Permohonan lengkap diterima di kaunter sehingga AP dicetak
C40: Peratusan Piagam Pelanggan bagi Online diambil daripada Permohonan diterima sehingga AP diluluskan.

Sheet MAC
A1: LAPORAN PENCAPAIAN PIAGAM PELANGGAN BAGI PERMOHONAN IMPORT & EKSPORT
A2: CAWANGAN KUALA LUMPUR BAGI BULAN MAC 2015
A4: Aktiviti Utama Dalam Piagam Pelanggan | B4: Bil. Permohonan | D4: Permohonan Lulus | F4: Permohonan Tolak | H4: Permohonan Diproses | L4: Workflow & Status | N4: Slip Batal | O4: Belum Cetak | Q4: % Capaian Piagam
B5: A | C5: B | D5: C | E5: D | F5: E | G5: F | H5: G | I5: H | J5: I | K5: J | L5: K | M5: L | N5: M | O5: N | P5: O | Q5: P = (G +H)/A x 100 | R5: Q =(I+J)/ B x 100
A6: Produk | B6: Kaunter | C6: Online | D6: Kaunter | E6: Online | F6: Kaunter | G6: Online | H6: Kaunter (7 Hari Bekerja) | I6: Kaunter Reject (7 hari bekerja) | J6: Online (5 Hari Bekerja) | K6: Online Reject (5 hari bekerja) | L6: Kaunter | M6: Online | N6: Bil. | O6: Kaunter | P6: Online | Q6: Kaunter | R6: Online
A7: IMPORT
A8: Kenderaan Berkuota | B8: 95 | C8: 13093 | H8: 0 | I8: 1 | J8: 12647 | K8: 456 | Q8: =IF(B8=0,0,(H8+I8)/B8*100) -> 1.0526316 | R8: =IF(C8=0,0,(J8+K8)/C8*100) -> 100.07638
A9: Ken. Luar Kuota | B9: 48 | C9: 1987 | H9: 41 | I9: 2 | J9: 1925 | K9: 64 | Q9: =IF(B9=0,0,(H9+I9)/B9*100) -> 89.583333 | R9: =IF(C9=0,0,(J9+K9)/C9*100) -> 100.10065
A10: Ken. Persendirian | B10: 100 | C10: 0 | H10: 69 | I10: 13 | J10: 0 | K10: 0 | Q10: =IF(B10=0,0,(H10+I10)/B10*100) -> 82 | R10: =IF(C10=0,0,(J10+K10)/C10*100) -> 0
A11: Jentera & Alat Ganti | B11: 20 | C11: 203 | H11: 19 | I11: 0 | J11: 158 | K11: 41 | Q11: =IF(B11=0,0,(H11+H12+H13+I11+I12+I13)/B11*100) -> 95 | R11: =IF(C11=0,0,(J11+K11)/C11*100) -> 98.029557
A12: Prime Mover | C12: 0 | H12: 0 | I12: 0 | J12: 0 | K12: 0 | R12: =IF(C12=0,0,(J12+K12)/C12*100) -> 0
A13: Dump Truck | C13: 23 | H13: 0 | I13: 0 | J13: 22 | K13: 1 | R13: =IF(C13=0,0,(J13+K13)/C13*100) -> 100
A14: Hot Rolled | B14: 37 | C14: 1072 | H14: 0 | I14: 0 | J14: 1016 | K14: 104 | Q14: =IF(B14=0,0,(H14+H15+H16+H17+H18+H19+H20+I14+I15+I16+I17+I18+I19+I20)/B14*100) -> 75.675676 | R14: =IF(C14=0,0,(J14+K14)/C14*100) -> 104.47761
A15: Cold Rolled | C15: 472 | H15: 0 | I15: 0 | J15: 394 | K15: 54 | R15: =IF(C15=0,0,(J15+K15)/C15*100) -> 94.915254
A16: Pipe and Tube | C16: 1046 | H16: 24 | I16: 0 | J16: 857 | K16: 177 | R16: =IF(C16=0,0,(J16+K16)/C16*100) -> 98.852772
A17: Elec. Galvanised | C17: 673 | H17: 4 | I17: 0 | J17: 606 | K17: 50 | R17: =IF(C17=0,0,(J17+K17)/C17*100) -> 97.473997
A18: Galvanised Iron | C18: 50 | H18: 0 | I18: 0 | J18: 45 | K18: 4 | R18: =IF(C18=0,0,(J18+K18)/C18*100) -> 98
A19: Strip | C19: 53 | H19: 0 | I19: 0 | J19: 42 | K19: 8 | R19: =IF(C19=0,0,(J19+K19)/C19*100) -> 94.339623
A20: Besi Keluli | C20: 0 | H20: 0 | I20: 0 | J20: 0 | K20: 0 | R20: =IF(C20=0,0,(J20+K20)/C20*100) -> 0
A21: Tepung | B21: 21 | C21: 37 | H21: 0 | I21: 0 | J21: 24 | K21: 13 | Q21: =IF(B21=0,0,(H21+H22+I21+I22)/B21*100) -> 95.238095 | R21: =IF(C21=0,0,(J21+K21)/C21*100) -> 100
A22: Lain-lain | C22: 155 | H22: 19 | I22: 1 | J22: 85 | K22: 58 | R22: =IF(C22=0,0,(J22+K22)/C22*100) -> 92.258065
A23: JUMLAH | B23: =SUM(B7:B22) -> 321 | C23: =SUM(C8:C22) -> 18864 | D23: =SUM(D8:D22) -> 0 | E23: =SUM(E8:E22) -> 0 | F23: =SUM(F8:F22) -> 0 | G23: =SUM(G8:G22) -> 0 | H23: =SUM(H8:H22) -> 176 | I23: =SUM(I8:I22) -> 17 | J23: =SUM(J8:J22) -> 17821 | ... P23: =SUM(P8:P22) -> 0 | Q23: =IF(B23=0,0,(H23+I23)/B23*100) -> 60.124611 | R23: =IF(C23=0,0,(J23+K23)/C23*100) -> 99.931086
A24: =A4 -> Aktiviti Utama Dalam Piagam Pelanggan | B24: =B4 -> Bil. Permohonan | D24: =D4 -> Permohonan Lulus | F24: =F4 -> Permohonan Tolak | H24: Permohonan Diproses | L24: =L4 -> Workflow & Status | N24: =N4 -> Slip Batal | O24: =O4 -> Belum Cetak | Q24: =Q4 -> % Capaian Piagam
B25: A | C25: B | D25: C | E25: D | F25: E | G25: F | H25: G | I25: H | J25: I | K25: J | L25: K | M25: L | N25: M | O25: N | P25: O | Q25: P = (G +H)/A x 100 | R25: Q =(I+J)/ B x 100
A26: =A6 -> Produk | B26: =B6 -> Kaunter | C26: =C6 -> Online | D26: =D6 -> Kaunter | E26: =E6 -> Online | F26: =F6 -> Kaunter | G26: =G6 -> Online | H26: Kaunter (7 Hari Bekerja) | I26: Kaunter Reject (7 hari bekerja) | J26: Online (5 Hari Bekerja) | K26: Online Reject (5 hari bekerja) | L26: =L6 -> Kaunter | M26: =M6 -> Online | N26: =N6 -> Bil. | O26: =O6 -> Kaunter | P26: =P6 -> Online | Q26: =Q6 -> Kaunter | R26: =R6 -> Online
A27: EKSPORT | B27: =SUM(B8:B23) -> 642
A28: Besi Keluli (Long Product) | B28: 0 | C28: 109 | J28: 108 | K28: 1 | Q28: =IF(B28=0,0,(H28+H29+#REF!+#REF!+#REF!+H30+#REF!+I28+I29+#REF!+#REF!+#REF!+I30+#REF!)/B28*100) -> 0 | R28: =IF(C28=0,0,(J28+K28)/C28*100) -> 100
A29: Scrap | C29: 0 | K29: 0 | R29: =IF(C29=0,0,(J29+K29)/C29*100) -> 0
A30: Lain-lain | C30: 8 | J30: 0 | K30: 8 | R30: =IF(C30=0,0,(J30+K30)/C30*100) -> 100
A31: JUMLAH | B31: =SUM(B28:B30) -> 0 | C31: =SUM(C28:C30) -> 117 | D31: =SUM(D28:D30) -> 0 | E31: =SUM(E28:E30) -> 0 | F31: =SUM(F28:F30) -> 0 | G31: =SUM(G28:G30) -> 0 | H31: =SUM(H28:H30) -> 0 | I31: =SUM(I28:I30) -> 0 | ... P31: =SUM(P28:P30) -> 0 | Q31: =IF(B31=0,0,(H31+I31)/B31*100) -> 0 | R31: =IF(C31=0,0,(J31+K31)/C31*100) -> 100
A33: Makluman | B33: : | C33: Peratusan Piagam Pelanggan bagi Kaunter diambil daripada Permohonan lengkap diterima di kaunter sehingga AP dicetak
C34: Peratusan Piagam Pelanggan bagi Online diambil daripada Permohonan diterima sehingga AP diluluskan.

Sheet APRIL
A1: LAPORAN PENCAPAIAN PIAGAM PELANGGAN BAGI PERMOHONAN IMPORT & EKSPORT
A2: CAWANGAN KUALA LUMPUR BAGI BULAN APRIL 2015
A4: Aktiviti Utama Dalam Piagam Pelanggan | B4: Bil. Permohonan | D4: Permohonan Lulus | F4: Permohonan Tolak | H4: Permohonan Diproses | L4: Workflow & Status | N4: Slip Batal | O4: Belum Cetak | Q4: % Capaian Piagam
B5: A | C5: B | D5: C | E5: D | F5: E | G5: F | H5: G | I5: H | J5: I | K5: J | L5: K | M5: L | N5: M | O5: N | P5: O | Q5: P = (G +H)/A x 100 | R5: Q =(I+J)/ B x 100
A6: Produk | B6: Kaunter | C6: Online | D6: Kaunter | E6: Online | F6: Kaunter | G6: Online | H6: Kaunter (7 Hari Bekerja) | I6: Kaunter Reject (7 hari bekerja) | J6: Online (5 Hari Bekerja) | K6: Online Reject (5 hari bekerja) | L6: Kaunter | M6: Online | N6: Bil. | O6: Kaunter | P6: Online | Q6: Kaunter | R6: Online
A7: IMPORT
A8: Kenderaan Berkuota | B8: 219 | C8: 9403 | H8: 8 | I8: 0 | J8: 8572 | K8: 254 | Q8: =IF(B8=0,0,(H8+I8)/B8*100) -> 3.652968 | R8: =IF(C8=0,0,(J8+K8)/C8*100) -> 93.863661
A9: Ken. Luar Kuota | B9: 27 | C9: 2533 | H9: 20 | I9: 3 | J9: 2236 | K9: 163 | Q9: =IF(B9=0,0,(H9+I9)/B9*100) -> 85.185185 | R9: =IF(C9=0,0,(J9+K9)/C9*100) -> 94.70983
A10: Ken. Persendirian | B10: 117 | C10: 0 | H10: 57 | I10: 6 | J10: 0 | K10: 0 | Q10: =IF(B10=0,0,(H10+I10)/B10*100) -> 53.846154 | R10: =IF(C10=0,0,(J10+K10)/C10*100) -> 0
A11: Jentera & Alat Ganti | B11: 7 | C11: 257 | H11: 3 | I11: 3 | J11: 195 | K11: 59 | Q11: =IF(B11=0,0,(H11+H12+H13+I11+I12+I13)/B11*100) -> 85.714286 | R11: =IF(C11=0,0,(J11+K11)/C11*100) -> 98.832685
A12: Prime Mover | C12: 0 | H12: 0 | I12: 0 | J12: 0 | K12: 0 | R12: =IF(C12=0,0,(J12+K12)/C12*100) -> 0
A13: Dump Truck | C13: 33 | H13: 0 | I13: 0 | J13: 21 | K13: 11 | R13: =IF(C13=0,0,(J13+K13)/C13*100) -> 96.969697
A14: Hot Rolled | B14: 23 | C14: 786 | H14: 8 | I14: 0 | J14: 636 | K14: 96 | Q14: =IF(B14=0,0,(H14+H15+H16+H17+H18+H19+H20+I14+I15+I16+I17+I18+I19+I20)/B14*100) -> 43.478261 | R14: =IF(C14=0,0,(J14+K14)/C14*100) -> 93.129771
A15: Cold Rolled | C15: 321 | H15: 0 | I15: 0 | J15: 278 | K15: 26 | R15: =IF(C15=0,0,(J15+K15)/C15*100) -> 94.70405
A16: Pipe and Tube | C16: 992 | H16: 2 | I16: 0 | J16: 798 | K16: 159 | R16: =IF(C16=0,0,(J16+K16)/C16*100) -> 96.471774
A17: Elec. Galvanised | C17: 827 | H17: 0 | I17: 0 | J17: 659 | K17: 78 | R17: =IF(C17=0,0,(J17+K17)/C17*100) -> 89.117291
A18: Galvanised Iron | C18: 68 | H18: 0 | I18: 0 | J18: 42 | K18: 17 | R18: =IF(C18=0,0,(J18+K18)/C18*100) -> 86.764706
A19: Strip | C19: 46 | H19: 0 | I19: 0 | J19: 29 | K19: 9 | R19: =IF(C19=0,0,(J19+K19)/C19*100) -> 82.608696
A20: Besi Keluli | C20: 0 | H20: 0 | I20: 0 | J20: 0 | K20: 0 | R20: =IF(C20=0,0,(J20+K20)/C20*100) -> 0
A21: Tepung | B21: 17 | C21: 61 | H21: 0 | I21: 0 | J21: 38 | K21: 14 | Q21: =IF(B21=0,0,(H21+H22+I21+I22)/B21*100) -> 100 | R21: =IF(C21=0,0,(J21+K21)/C21*100) -> 85.245902
A22: Lain-lain | C22: 260 | H22: 17 | I22: 0 | J22: 181 | K22: 69 | R22: =IF(C22=0,0,(J22+K22)/C22*100) -> 96.153846
A23: JUMLAH | B23: =SUM(B8:B22) -> 410 | C23: =SUM(C8:C22) -> 15587 | D23: =SUM(D8:D22) -> 0 | E23: =SUM(E8:E22) -> 0 | F23: =SUM(F8:F22) -> 0 | G23: =SUM(G8:G22) -> 0 | H23: =SUM(H8:H22) -> 115 | I23: =SUM(I8:I22) -> 12 | ... P23: =SUM(P8:P22) -> 0 | Q23: =IF(B23=0,0,(H23+I23)/B23*100) -> 30.97561 | R23: =IF(C23=0,0,(J23+K23)/C23*100) -> 93.924424
A24: =A4 -> Aktiviti Utama Dalam Piagam Pelanggan | B24: =B4 -> Bil. Permohonan | D24: =D4 -> Permohonan Lulus | F24: =F4 -> Permohonan Tolak | H24: Permohonan Diproses | L24: =L4 -> Workflow & Status | N24: =N4 -> Slip Batal | O24: =O4 -> Belum Cetak | Q24: =Q4 -> % Capaian Piagam
B25: A | C25: B | D25: C | E25: D | F25: E | G25: F | H25: G | I25: H | J25: I | K25: J | L25: K | M25: L | N25: M | O25: N | P25: O | Q25: P = (G +H)/A x 100 | R25: Q =(I+J)/ B x 100
A26: =A6 -> Produk | B26: =B6 -> Kaunter | C26: =C6 -> Online | D26: =D6 -> Kaunter | E26: =E6 -> Online | F26: =F6 -> Kaunter | G26: =G6 -> Online | H26: Kaunter (7 Hari Bekerja) | I26: Kaunter Reject (7 hari bekerja) | J26: Online (5 Hari Bekerja) | K26: Online Reject (5 hari bekerja) | L26: =L6 -> Kaunter | M26: =M6 -> Online | N26: =N6 -> Bil. | O26: =O6 -> Kaunter | P26: =P6 -> Online | Q26: =Q6 -> Kaunter | R26: =R6 -> Online
A27: EKSPORT
A28: Besi Keluli (Long Product) | C28: 133 | J28: 127 | K28: 6 | Q28: =IF(B28=0,0,(H28+H29+#REF!+#REF!+#REF!+H30+#REF!+I28+I29+#REF!+#REF!+#REF!+I30+#REF!)/B28*100) -> 0 | R28: =IF(C28=0,0,(J28+K28)/C28*100) -> 100
A29: Scrap | R29: =IF(C29=0,0,(J29+K29)/C29*100) -> 0
A30: Lain-lain | C30: 16 | J30: 15 | K30: 1 | R30: =IF(C30=0,0,(J30+K30)/C30*100) -> 100
A31: JUMLAH | B31: =SUM(B28:B30) -> 0 | C31: =SUM(C28:C30) -> 149 | D31: =SUM(D28:D30) -> 0 | E31: =SUM(E28:E30) -> 0 | F31: =SUM(F28:F30) -> 0 | G31: =SUM(G28:G30) -> 0 | H31: =SUM(H28:H30) -> 0 | I31: =SUM(I28:I30) -> 0 | ... P31: =SUM(P28:P30) -> 0 | Q31: =IF(B31=0,0,(H31+I31)/B31*100) -> 0 | R31: =IF(C31=0,0,(J31+K31)/C31*100) -> 100
A33: Makluman | B33: : | C33: Peratusan Piagam Pelanggan bagi Kaunter diambil daripada Permohonan lengkap diterima di kaunter sehingga AP dicetak
C34: Peratusan Piagam Pelanggan bagi Online diambil daripada Permohonan diterima sehingga AP diluluskan.

Sheet MEI
A1: LAPORAN PENCAPAIAN PIAGAM PELANGGAN BAGI PERMOHONAN IMPORT & EKSPORT
A2: CAWANGAN KUALA LUMPUR BAGI BULAN MEI 2015
A4: Aktiviti Utama Dalam Piagam Pelanggan | B4: Bil. Permohonan | D4: Permohonan Lulus | F4: Permohonan Tolak | H4: Permohonan Diproses | L4: Workflow & Status | N4: Slip Batal | O4: Belum Cetak | Q4: % Capaian Piagam
B5: A | C5: B | D5: C | E5: D | F5: E | G5: F | H5: G | I5: H | J5: I | K5: J | L5: K | M5: L | N5: M | O5: N | P5: O | Q5: P = (G +H)/A x 100 | R5: Q =(I+J)/ B x 100
A6: Produk | B6: Kaunter | C6: Online | D6: Kaunter | E6: Online | F6: Kaunter | G6: Online | H6: Kaunter (7 Hari Bekerja) | I6: Kaunter Reject (7 hari bekerja) | J6: Online (5 Hari Bekerja) | K6: Online Reject (5 hari bekerja) | L6: Kaunter | M6: Online | N6: Bil. | O6: Kaunter | P6: Online | Q6: Kaunter | R6: Online
A7: IMPORT
A8: Kenderaan Berkuota | B8: 42 | C8: 11806 | H8: 0 | I8: 0 | J8: 11107 | K8: 220 | Q8: =IF(B8=0,0,(H8+I8)/B8*100) -> 0 | R8: =IF(C8=0,0,(J8+K8)/C8*100) -> 95.942741
A9: Ken. Luar Kuota | B9: 62 | C9: 1901 | H9: 57 | I9: 2 | J9: 1680 | K9: 134 | Q9: =IF(B9=0,0,(H9+I9)/B9*100) -> 95.16129 | R9: =IF(C9=0,0,(J9+K9)/C9*100) -> 95.423461
A10: Ken. Persendirian | B10: 88 | C10: 0 | H10: 41 | I10: 1 | J10: 0 | K10: 0 | Q10: =IF(B10=0,0,(H10+I10)/B10*100) -> 47.727273 | R10: =IF(C10=0,0,(J10+K10)/C10*100) -> 0
A11: Jentera & Alat Ganti | B11: 23 | C11: 163 | H11: 15 | I11: 2 | J11: 92 | K11: 69 | Q11: =IF(B11=0,0,(H11+H12+H13+I11+I12+I13)/B11*100) -> 95.652174 | R11: =IF(C11=0,0,(J11+K11)/C11*100) -> 98.773006
A12: Prime Mover | C12: 0 | H12: 0 | I12: 0 | J12: 0 | K12: 0 | R12: =IF(C12=0,0,(J12+K12)/C12*100) -> 0
A13: Dump Truck | C13: 48 | H13: 2 | I13: 3 | J13: 32 | K13: 16 | R13: =IF(C13=0,0,(J13+K13)/C13*100) -> 100
A14: Hot Rolled | B14: 40 | C14: 854 | H14: 1 | I14: 0 | J14: 672 | K14: 105 | Q14: =IF(B14=0,0,(H14+H15+H16+H17+H18+H19+H20+I14+I15+I16+I17+I18+I19+I20)/B14*100) -> 87.5 | R14: =IF(C14=0,0,(J14+K14)/C14*100) -> 90.983607
A15: Cold Rolled | C15: 406 | H15: 2 | I15: 0 | J15: 307 | K15: 18 | R15: =IF(C15=0,0,(J15+K15)/C15*100) -> 80.049261
A16: Pipe and Tube | C16: 1061 | H16: 25 | I16: 0 | J16: 720 | K16: 230 | R16: =IF(C16=0,0,(J16+K16)/C16*100) -> 89.538172
A17: Elec. Galvanised | C17: 570 | H17: 3 | I17: 0 | J17: 487 | K17: 62 | R17: =IF(C17=0,0,(J17+K17)/C17*100) -> 96.315789
A18: Galvanised Iron | C18: 69 | H18: 0 | I18: 0 | J18: 53 | K18: 13 | R18: =IF(C18=0,0,(J18+K18)/C18*100) -> 95.652174
A19: Strip | C19: 82 | H19: 4 | I19: 0 | J19: 56 | K19: 23 | R19: =IF(C19=0,0,(J19+K19)/C19*100) -> 96.341463
A20: Besi Keluli | C20: 0 | H20: 0 | I20: 0 | J20: 0 | K20: 0 | R20: =IF(C20=0,0,(J20+K20)/C20*100) -> 0
A21: Tepung | B21: 18 | C21: 66 | H21: 0 | I21: 0 | J21: 48 | K21: 18 | Q21: =IF(B21=0,0,(H21+H22+I21+I22)/B21*100) -> 83.333333 | R21: =IF(C21=0,0,(J21+K21)/C21*100) -> 100
A22: Lain-lain | C22: 166 | H22: 15 | I22: 0 | J22: 101 | K22: 61 | R22: =IF(C22=0,0,(J22+K22)/C22*100) -> 97.590361
A23: JUMLAH | B23: =SUM(B8:B22) -> 273 | C23: =SUM(C8:C22) -> 17192 | D23: =SUM(D8:D22) -> 0 | E23: =SUM(E8:E22) -> 0 | F23: =SUM(F8:F22) -> 0 | G23: =SUM(G8:G22) -> 0 | H23: =SUM(H8:H22) -> 165 | I23: =SUM(I8:I22) -> 8 | ... P23: =SUM(P8:P22) -> 0 | Q23: =IF(B23=0,0,(H23+I23)/B23*100) -> 63.369963 | R23: =IF(C23=0,0,(J23+K23)/C23*100) -> 94.95114
A24: =A4 -> Aktiviti Utama Dalam Piagam Pelanggan | B24: =B4 -> Bil. Permohonan | D24: =D4 -> Permohonan Lulus | F24: =F4 -> Permohonan Tolak | H24: Permohonan Diproses | L24: =L4 -> Workflow & Status | N24: =N4 -> Slip Batal | O24: =O4 -> Belum Cetak | Q24: =Q4 -> % Capaian Piagam
B25: A | C25: B | D25: C | E25: D | F25: E | G25: F | H25: G | I25: H | J25: I | K25: J | L25: K | M25: L | N25: M | O25: N | P25: O | Q25: P = (G +H)/A x 100 | R25: Q =(I+J)/ B x 100
A26: =A6 -> Produk | B26: =B6 -> Kaunter | C26: =C6 -> Online | D26: =D6 -> Kaunter | E26: =E6 -> Online | F26: =F6 -> Kaunter | G26: =G6 -> Online | H26: Kaunter (7 Hari Bekerja) | I26: Kaunter Reject (7 hari bekerja) | J26: Online (5 Hari Bekerja) | K26: Online Reject (5 hari bekerja) | L26: =L6 -> Kaunter | M26: =M6 -> Online | N26: =N6 -> Bil. | O26: =O6 -> Kaunter | P26: =P6 -> Online | Q26: =Q6 -> Kaunter | R26: =R6 -> Online
A27: EKSPORT
A28: Besi Keluli (Long Product) | C28: 61 | J28: 60 | K28: 1 | Q28: =IF(B28=0,0,(H28+H29+#REF!+#REF!+#REF!+H30+#REF!+I28+I29+#REF!+#REF!+#REF!+I30+#REF!)/B28*100) -> 0 | R28: =IF(C28=0,0,(J28+K28)/C28*100) -> 100
A29: Scrap | R29: =IF(C29=0,0,(J29+K29)/C29*100) -> 0
A30: Lain-lain | C30: 11 | J30: 9 | K30: 2 | R30: =IF(C30=0,0,(J30+K30)/C30*100) -> 100
A31: JUMLAH | B31: =SUM(B28:B30) -> 0 | C31: =SUM(C28:C30) -> 72 | D31: =SUM(D28:D30) -> 0 | E31: =SUM(E28:E30) -> 0 | F31: =SUM(F28:F30) -> 0 | G31: =SUM(G28:G30) -> 0 | H31: =SUM(H28:H30) -> 0 | I31: =SUM(I28:I30) -> 0 | ... P31: =SUM(P28:P30) -> 0 | Q31: =IF(B31=0,0,(H31+I31)/B31*100) -> 0 | R31: =IF(C31=0,0,(J31+K31)/C31*100) -> 100
A33: Makluman | B33: : | C33: Peratusan Piagam Pelanggan bagi Kaunter diambil daripada Permohonan lengkap diterima di kaunter sehingga AP dicetak
C34: Peratusan Piagam Pelanggan bagi Online diambil daripada Permohonan diterima sehingga AP diluluskan.

Sheet JUN
A1: LAPORAN PENCAPAIAN PIAGAM PELANGGAN BAGI PERMOHONAN IMPORT & EKSPORT
A2: CAWANGAN KUALA LUMPUR BAGI BULAN JUN 2015
A4: Aktiviti Utama Dalam Piagam Pelanggan | B4: Bil. Permohonan | D4: Permohonan Lulus | F4: Permohonan Tolak | H4: Permohonan Diproses | L4: Workflow & Status | N4: Slip Batal | O4: Belum Cetak | Q4: % Capaian Piagam
B5: A | C5: B | D5: C | E5: D | F5: E | G5: F | H5: G | I5: H | J5: I | K5: J | L5: K | M5: L | N5: M | O5: N | P5: O | Q5: P = (G +H)/A x 100 | R5: Q =(I+J)/ B x 100
A6: Produk | B6: Kaunter | C6: Online | D6: Kaunter | E6: Online | F6: Kaunter | G6: Online | H6: Kaunter (7 Hari Bekerja) | I6: Kaunter Reject (7 hari bekerja) | J6: Online (5 Hari Bekerja) | K6: Online Reject (5 hari bekerja) | L6: Kaunter | M6: Online | N6: Bil. | O6: Kaunter | P6: Online | Q6: Kaunter | R6: Online
A7: IMPORT
A8: Kenderaan Berkuota | B8: 14 | C8: 21607 | H8: 4 | I8: 0 | J8: 10546 | K8: 233 | Q8: =IF(B8=0,0,(H8+I8)/B8*100) -> 28.571429 | R8: =IF(C8=0,0,(J8+K8)/C8*100) -> 49.886611
A9: Ken. Luar Kuota | B9: 98 | C9: 4343 | H9: 89 | I9: 7 | J9: 3077 | K9: 46 | Q9: =IF(B9=0,0,(H9+I9)/B9*100) -> 97.959184 | R9: =IF(C9=0,0,(J9+K9)/C9*100) -> 71.908819
A10: Ken. Persendirian | B10: 123 | C10: 0 | H10: 73 | I10: 2 | J10: 0 | K10: 0 | Q10: =IF(B10=0,0,(H10+I10)/B10*100) -> 60.97561 | R10: =IF(C10=0,0,(J10+K10)/C10*100) -> 0
A11: Jentera & Alat Ganti | B11: 10 | C11: 348 | H11: 6 | I11: 0 | J11: 214 | K11: 36 | Q11: =IF(B11=0,0,(H11+H12+H13+I11+I12+I13)/B11*100) -> 70 | R11: =IF(C11=0,0,(J11+K11)/C11*100) -> 71.83908
A12: Prime Mover | C12: 0 | H12: 0 | I12: 0 | J12: 0 | K12: 0 | R12: =IF(C12=0,0,(J12+K12)/C12*100) -> 0
A13: Dump Truck | C13: 134 | H13: 1 | I13: 0 | J13: 80 | K13: 33 | R13: =IF(C13=0,0,(J13+K13)/C13*100) -> 84.328358
A14: Hot Rolled | B14: 142 | C14: 1030 | H14: 27 | I14: 9 | J14: 633 | K14: 80 | Q14: =IF(B14=0,0,(H14+H15+H16+H17+H18+H19+H20+I14+I15+I16+I17+I18+I19+I20)/B14*100) -> 84.507042 | R14: =IF(C14=0,0,(J14+K14)/C14*100) -> 69.223301
A15: Cold Rolled | C15: 366 | H15: 20 | I15: 0 | J15: 76 | K15: 6 | R15: =IF(C15=0,0,(J15+K15)/C15*100) -> 22.404372
A16: Pipe and Tube | C16: 1277 | H16: 34 | I16: 0 | J16: 788 | K16: 150 | R16: =IF(C16=0,0,(J16+K16)/C16*100) -> 73.453406
A17: Elec. Galvanised | C17: 684 | H17: 27 | I17: 0 | J17: 316 | K17: 42 | R17: =IF(C17=0,0,(J17+K17)/C17*100) -> 52.339181
A18: Galvanised Iron | C18: 62 | H18: 1 | I18: 0 | J18: 31 | K18: 0 | R18: =IF(C18=0,0,(J18+K18)/C18*100) -> 50
A19: Strip | C19: 115 | H19: 2 | I19: 0 | J19: 36 | K19: 12 | R19: =IF(C19=0,0,(J19+K19)/C19*100) -> 41.73913
A20: Besi Keluli | C20: 24 | H20: 0 | I20: 0 | J20: 2 | K20: 22 | R20: =IF(C20=0,0,(J20+K20)/C20*100) -> 100
A21: Tepung | B21: 35 | C21: 119 | H21: 0 | I21: 0 | J21: 30 | K21: 27 | Q21: =IF(B21=0,0,(H21+H22+I21+I22)/B21*100) -> 71.428571 | R21: =IF(C21=0,0,(J21+K21)/C21*100) -> 47.89916
A22: Lain-lain | C22: 346 | H22: 24 | I22: 1 | J22: 236 | K22: 40 | R22: =IF(C22=0,0,(J22+K22)/C22*100) -> 79.768786
A23: JUMLAH | B23: =SUM(B8:B22) -> 422 | C23: =SUM(C8:C22) -> 30455 | D23: =SUM(D8:D22) -> 0 | E23: =SUM(E8:E22) -> 0 | F23: =SUM(F8:F22) -> 0 | G23: =SUM(G8:G22) -> 0 | H23: =SUM(H8:H22) -> 308 | I23: =SUM(I8:I22) -> 19 | ... P23: =SUM(P8:P22) -> 0 | Q23: =IF(B23=0,0,(H23+I23)/B23*100) -> 77.488152 | R23: =IF(C23=0,0,(J23+K23)/C23*100) -> 55.137088
A24: =A4 -> Aktiviti Utama Dalam Piagam Pelanggan | B24: =B4 -> Bil. Permohonan | D24: =D4 -> Permohonan Lulus | F24: =F4 -> Permohonan Tolak | H24: Permohonan Diproses | L24: =L4 -> Workflow & Status | N24: =N4 -> Slip Batal | O24: =O4 -> Belum Cetak | Q24: =Q4 -> % Capaian Piagam
B25: A | C25: B | D25: C | E25: D | F25: E | G25: F | H25: G | I25: H | J25: I | K25: J | L25: K | M25: L | N25: M | O25: N | P25: O | Q25: P = (G +H)/A x 100 | R25: Q =(I+J)/ B x 100
A26: =A6 -> Produk | B26: =B6 -> Kaunter | C26: =C6 -> Online | D26: =D6 -> Kaunter | E26: =E6 -> Online | F26: =F6 -> Kaunter | G26: =G6 -> Online | H26: Kaunter (7 Hari Bekerja) | I26: Kaunter Reject (7 hari bekerja) | J26: Online (5 Hari Bekerja) | K26: Online Reject (5 hari bekerja) | L26: =L6 -> Kaunter | M26: =M6 -> Online | N26: =N6 -> Bil. | O26: =O6 -> Kaunter | P26: =P6 -> Online | Q26: =Q6 -> Kaunter | R26: =R6 -> Online
A27: EKSPORT
A28: Besi Keluli (Long Product) | C28: 77 | J28: 70 | K28: 7 | Q28: =IF(B28=0,0,(H28+H29+#REF!+#REF!+#REF!+H30+#REF!+I28+I29+#REF!+#REF!+#REF!+I30+#REF!)/B28*100) -> 0 | R28: =IF(C28=0,0,(J28+K28)/C28*100) -> 100
A29: Scrap | R29: =IF(C29=0,0,(J29+K29)/C29*100) -> 0
A30: Lain-lain | C30: 13 | J30: 2 | K30: 11 | R30: =IF(C30=0,0,(J30+K30)/C30*100) -> 100
A31: JUMLAH | B31: =SUM(B28:B30) -> 0 | C31: =SUM(C28:C30) -> 90 | D31: =SUM(D28:D30) -> 0 | E31: =SUM(E28:E30) -> 0 | F31: =SUM(F28:F30) -> 0 | G31: =SUM(G28:G30) -> 0 | H31: =SUM(H28:H30) -> 0 | I31: =SUM(I28:I30) -> 0 | ... P31: =SUM(P28:P30) -> 0 | Q31: =IF(B31=0,0,(H31+I31)/B31*100) -> 0 | R31: =IF(C31=0,0,(J31+K31)/C31*100) -> 100
A32: Makluman | B32: : | C32: Peratusan Piagam Pelanggan bagi Kaunter diambil daripada Permohonan lengkap diterima di kaunter sehingga AP dicetak
C33: Peratusan Piagam Pelanggan bagi Online diambil daripada Permohonan diterima sehingga AP diluluskan.

Sheet JULAI
A1: LAPORAN PENCAPAIAN PIAGAM PELANGGAN BAGI PERMOHONAN IMPORT & EKSPORT
A2: CAWANGAN KUALA LUMPUR BAGI BULAN JULAI 2015
A4: Aktiviti Utama Dalam Piagam Pelanggan | B4: Bil. Permohonan | D4: Permohonan Lulus | F4: Permohonan Tolak | H4: Permohonan Diproses | L4: Workflow & Status | N4: Slip Batal | O4: Belum Cetak | Q4: % Capaian Piagam
B5: A | C5: B | D5: C | E5: D | F5: E | G5: F | H5: G | I5: H | J5: I | K5: J | L5: K | M5: L | N5: M | O5: N | P5: O | Q5: P = (G +H)/A x 100 | R5: Q =(I+J)/ B x 100
A6: Produk | B6: Kaunter | C6: Online | D6: Kaunter | E6: Online | F6: Kaunter | G6: Online | H6: Kaunter (7 Hari Bekerja) | I6: Kaunter Reject (7 hari bekerja) | J6: Online (5 Hari Bekerja) | K6: Online Reject (5 hari bekerja) | L6: Kaunter | M6: Online | N6: Bil. | O6: Kaunter | P6: Online | Q6: Kaunter | R6: Online
A7: IMPORT
A8: Kenderaan Berkuota | B8: 6 | C8: 6485 | H8: 4 | I8: 0 | J8: 6254 | K8: 155 | Q8: =IF(B8=0,0,(H8+I8)/B8*100) -> 66.666667 | R8: =IF(C8=0,0,(J8+K8)/C8*100) -> 98.828065
A9: Ken. Luar Kuota | B9: 148 | C9: 1833 | H9: 75 | I9: 33 | J9: 1794 | K9: 44 | Q9: =IF(B9=0,0,(H9+I9)/B9*100) -> 72.972973 | R9: =IF(C9=0,0,(J9+K9)/C9*100) -> 100.27278
A10: Ken. Persendirian | B10: 96 | C10: 0 | H10: 56 | I10: 0 | J10: 0 | K10: 0 | Q10: =IF(B10=0,0,(H10+I10)/B10*100) -> 58.333333 | R10: =IF(C10=0,0,(J10+K10)/C10*100) -> 0
A11: Jentera & Alat Ganti | B11: 14 | C11: 123 | H11: 6 | I11: 0 | J11: 95 | K11: 14 | Q11: =IF(B11=0,0,(H11+H12+H13+I11+I12+I13)/B11*100) -> 85.714286 | R11: =IF(C11=0,0,(J11+K11)/C11*100) -> 88.617886
A12: Prime Mover | C12: 0 | H12: 0 | I12: 0 | J12: 0 | K12: 0 | R12: =IF(C12=0,0,(J12+K12)/C12*100) -> 0
A13: Dump Truck | C13: 31 | H13: 6 | I13: 0 | J13: 30 | K13: 0 | R13: =IF(C13=0,0,(J13+K13)/C13*100) -> 96.774194
A14: Hot Rolled | B14: 29 | C14: 270 | H14: 4 | I14: 0 | J14: 220 | K14: 17 | Q14: =IF(B14=0,0,(H14+H15+H16+H17+H18+H19+H20+I14+I15+I16+I17+I18+I19+I20)/B14*100) -> 82.758621 | R14: =IF(C14=0,0,(J14+K14)/C14*100) -> 87.777778
A15: Cold Rolled | C15: 163 | H15: 6 | I15: 0 | J15: 168 | K15: 15 | R15: =IF(C15=0,0,(J15+K15)/C15*100) -> 112.26994
A16: Pipe and Tube | C16: 375 | H16: 9 | I16: 1 | J16: 375 | K16: 61 | R16: =IF(C16=0,0,(J16+K16)/C16*100) -> 116.26667
A17: Elec. Galvanised | C17: 322 | H17: 3 | I17: 0 | J17: 232 | K17: 34 | R17: =IF(C17=0,0,(J17+K17)/C17*100) -> 82.608696
A18: Galvanised Iron | C18: 25 | H18: 0 | I18: 0 | J18: 15 | K18: 10 | R18: =IF(C18=0,0,(J18+K18)/C18*100) -> 100
A19: Strip | C19: 32 | H19: 1 | I19: 0 | J19: 27 | K19: 2 | R19: =IF(C19=0,0,(J19+K19)/C19*100) -> 90.625
A20: Besi Keluli | C20: 5 | H20: 0 | I20: 0 | J20: 3 | K20: 1 | R20: =IF(C20=0,0,(J20+K20)/C20*100) -> 80
A21: Tepung | B21: 16 | C21: 148 | H21: 0 | I21: 0 | J21: 106 | K21: 13 | Q21: =IF(B21=0,0,(H21+H22+I21+I22)/B21*100) -> 100 | R21: =IF(C21=0,0,(J21+K21)/C21*100) -> 80.405405
A22: Lain-lain | C22: 146 | H22: 16 | I22: 0 | J22: 108 | K22: 11 | R22: =IF(C22=0,0,(J22+K22)/C22*100) -> 81.506849
A23: JUMLAH | B23: =SUM(B8:B22) -> 309 | C23: =SUM(C8:C22) -> 9958 | D23: =SUM(D8:D22) -> 0 | E23: =SUM(E8:E22) -> 0 | F23: =SUM(F8:F22) -> 0 | G23: =SUM(G8:G22) -> 0 | H23: =SUM(H8:H22) -> 186 | I23: =SUM(I8:I22) -> 34 | ... P23: =SUM(P8:P22) -> 0 | Q23: =IF(B23=0,0,(H23+I23)/B23*100) -> 71.197411 | R23: =IF(C23=0,0,(J23+K23)/C23*100) -> 98.453505
A24: =A4 -> Aktiviti Utama Dalam Piagam Pelanggan | B24: =B4 -> Bil. Permohonan | D24: =D4 -> Permohonan Lulus | F24: =F4 -> Permohonan Tolak | H24: Permohonan Diproses | L24: =L4 -> Workflow & Status | N24: =N4 -> Slip Batal | O24: =O4 -> Belum Cetak | Q24: =Q4 -> % Capaian Piagam
B25: A | C25: B | D25: C | E25: D | F25: E | G25: F | H25: G | I25: H | J25: I | K25: J | L25: K | M25: L | N25: M | O25: N | P25: O | Q25: P = (G +H)/A x 100 | R25: Q =(I+J)/ B x 100
A26: =A6 -> Produk | B26: =B6 -> Kaunter | C26: =C6 -> Online | D26: =D6 -> Kaunter | E26: =E6 -> Online | F26: =F6 -> Kaunter | G26: =G6 -> Online | H26: Kaunter (7 Hari Bekerja) | I26: Kaunter Reject (7 hari bekerja) | J26: Online (5 Hari Bekerja) | K26: Online Reject (5 hari bekerja) | L26: =L6 -> Kaunter | M26: =M6 -> Online | N26: =N6 -> Bil. | O26: =O6 -> Kaunter | P26: =P6 -> Online | Q26: =Q6 -> Kaunter | R26: =R6 -> Online
A27: EKSPORT
A28: Besi Keluli (Long Product) | C28: 59 | J28: 55 | K28: 4 | Q28: =IF(B28=0,0,(H28+H29+#REF!+#REF!+#REF!+H30+#REF!+I28+I29+#REF!+#REF!+#REF!+I30+#REF!)/B28*100) -> 0 | R28: =IF(C28=0,0,(J28+K28)/C28*100) -> 100
A29: Scrap | R29: =IF(C29=0,0,(J29+K29)/C29*100) -> 0
A30: Lain-lain | C30: 7 | J30: 5 | K30: 2 | R30: =IF(C30=0,0,(J30+K30)/C30*100) -> 100
A31: JUMLAH | B31: =SUM(B28:B30) -> 0 | C31: =SUM(C28:C30) -> 66 | D31: =SUM(D28:D30) -> 0 | E31: =SUM(E28:E30) -> 0 | F31: =SUM(F28:F30) -> 0 | G31: =SUM(G28:G30) -> 0 | H31: =SUM(H28:H30) -> 0 | I31: =SUM(I28:I30) -> 0 | ... P31: =SUM(P28:P30) -> 0 | Q31: =IF(B31=0,0,(H31+I31)/B31*100) -> 0 | R31: =IF(C31=0,0,(J31+K31)/C31*100) -> 100
A33: Makluman | B33: : | C33: Peratusan Piagam Pelanggan bagi Kaunter diambil daripada Permohonan lengkap diterima di kaunter sehingga AP dicetak
C34: Peratusan Piagam Pelanggan bagi Online diambil daripada Permohonan diterima sehingga AP diluluskan.

Sheet OGOS
A1: LAPORAN PENCAPAIAN PIAGAM PELANGGAN BAGI PERMOHONAN IMPORT & EKSPORT
A2: CAWANGAN KUALA LUMPUR BAGI BULAN OGOS 2015
A4: Aktiviti Utama Dalam Piagam Pelanggan | B4: Bil. Permohonan | D4: Permohonan Lulus | F4: Permohonan Tolak | H4: Permohonan Diproses | L4: Workflow & Status | N4: Slip Batal | O4: Belum Cetak | Q4: % Capaian Piagam
B5: A | C5: B | D5: C | E5: D | F5: E | G5: F | H5: G | I5: H | J5: I | K5: J | L5: K | M5: L | N5: M | O5: N | P5: O | Q5: P = (G +H)/A x 100 | R5: Q =(I+J)/ B x 100
A6: Produk | B6: Kaunter | C6: Online | D6: Kaunter | E6: Online | F6: Kaunter | G6: Online | H6: Kaunter (7 Hari Bekerja) | I6: Kaunter Reject (7 hari bekerja) | J6: Online (5 Hari Bekerja) | K6: Online Reject (5 hari bekerja) | L6: Kaunter | M6: Online | N6: Bil. | O6: Kaunter | P6: Online | Q6: Kaunter | R6: Online
A7: IMPORT
A8: Kenderaan Berkuota | B8: 0 | C8: 6135 | H8: 0 | I8: 0 | J8: 5361 | K8: 419 | L8: 0 | M8: 1 | N8: 2 | O8: 0 | P8: 36 | Q8: =IF(B8=0,0,(H8+I8)/B8*100) -> 0 | R8: =IF(C8=0,0,(J8+K8)/C8*100) -> 94.213529
A9: Ken. Luar Kuota | B9: 63 | C9: 2161 | H9: 46 | I9: 3 | J9: 1801 | K9: 267 | L9: 0 | M9: 0 | N9: 4 | O9: 0 | P9: 21 | Q9: =IF(B9=0,0,(H9+I9)/B9*100) -> 77.777778 | R9: =IF(C9=0,0,(J9+K9)/C9*100) -> 95.696437
A10: Ken. Persendirian | B10: 107 | C10: 0 | H10: 68 | I10: 4 | J10: 0 | K10: 0 | L10: 6 | M10: 0 | N10: 4 | O10: 2 | P10: 0 | Q10: =IF(B10=0,0,(H10+I10)/B10*100) -> 67.28972 | R10: =IF(C10=0,0,(J10+K10)/C10*100) -> 0
A11: Jentera & Alat Ganti | B11: 20 | C11: 212 | H11: 15 | I11: 2 | J11: 148 | K11: 61 | L11: 0 | M11: 0 | N11: 0 | O11: 0 | P11: 0 | Q11: =IF(B11=0,0,(H11+H12+H13+I11+I12+I13)/B11*100) -> 85 | R11: =IF(C11=0,0,(J11+K11)/C11*100) -> 98.584906
A12: Prime Mover | C12: 0 | H12: 0 | I12: 0 | J12: 0 | K12: 0 | L12: 0 | M12: 0 | O12: 0 | P12: 0 | R12: =IF(C12=0,0,(J12+K12)/C12*100) -> 0
A13: Dump Truck | C13: 40 | H13: 0 | I13: 0 | J13: 25 | K13: 15 | L13: 0 | M13: 0 | O13: 0 | P13: 0 | R13: =IF(C13=0,0,(J13+K13)/C13*100) -> 100
A14: Hot Rolled | B14: 36 | C14: 438 | H14: 19 | I14: 0 | J14: 358 | K14: 72 | L14: 0 | M14: 0 | N14: 1 | O14: 0 | P14: 28 | Q14: =IF(B14=0,0,(H14+H15+H16+H17+H18+H19+H20+I14+I15+I16+I17+I18+I19+I20)/B14*100) -> 91.666667 | R14: =IF(C14=0,0,(J14+K14)/C14*100) -> 98.173516
A15: Cold Rolled | C15: 151 | H15: 10 | I15: 0 | J15: 139 | K15: 10 | L15: 0 | M15: 0 | O15: 0 | P15: 20 | R15: =IF(C15=0,0,(J15+K15)/C15*100) -> 98.675497
A16: Pipe and Tube | C16: 371 | H16: 4 | I16: 0 | J16: 300 | K16: 65 | L16: 0 | M16: 0 | O16: 0 | P16: 17 | R16: =IF(C16=0,0,(J16+K16)/C16*100) -> 98.382749
A17: Elec. Galvanised | C17: 192 | H17: 0 | I17: 0 | J17: 159 | K17: 21 | L17: 0 | M17: 0 | O17: 0 | P17: 25 | R17: =IF(C17=0,0,(J17+K17)/C17*100) -> 93.75
A18: Galvanised Iron | C18: 47 | H18: 0 | I18: 0 | J18: 37 | K18: 10 | L18: 0 | M18: 0 | O18: 0 | P18: 3 | R18: =IF(C18=0,0,(J18+K18)/C18*100) -> 100
A19: Strip | C19: 39 | H19: 0 | I19: 0 | J19: 25 | K19: 14 | L19: 0 | M19: 0 | O19: 0 | P19: 1 | R19: =IF(C19=0,0,(J19+K19)/C19*100) -> 100
A20: Besi Keluli | C20: 4 | H20: 0 | I20: 0 | J20: 0 | K20: 4 | L20: 0 | M20: 0 | O20: 0 | P20: 0 | R20: =IF(C20=0,0,(J20+K20)/C20*100) -> 100
A21: Tepung | B21: 10 | C21: 47 | H21: 0 | I21: 0 | J21: 33 | K21: 7 | L21: 0 | M21: 0 | N21: 1 | O21: 0 | P21: 3 | Q21: =IF(B21=0,0,(H21+H22+I21+I22)/B21*100) -> 80 | R21: =IF(C21=0,0,(J21+K21)/C21*100) -> 85.106383
A22: Lain-lain | C22: 152 | H22: 8 | I22: 0 | J22: 109 | K22: 43 | L22: 0 | M22: 1 | O22: 0 | P22: 4 | R22: =IF(C22=0,0,(J22+K22)/C22*100) -> 100
A23: JUMLAH | B23: =SUM(B8:B22) -> 236 | C23: =SUM(C8:C22) -> 9989 | D23: =SUM(D8:D22) -> 0 | E23: =SUM(E8:E22) -> 0 | F23: =SUM(F8:F22) -> 0 | G23: =SUM(G8:G22) -> 0 | H23: =SUM(H9:H22) -> 170 | I23: =SUM(I9:I22) -> 9 | J23: =SUM(J8:J22) -> 8495 | K23: =SUM(K8:K22) -> 1008 | L23: =SUM(L8:L22) -> 6 | M23: =SUM(M8:M22) -> 2 | N23: =SUM(N8:N22) -> 12 | O23: =SUM(O8:O22) -> 2 | P23: =SUM(P8:P22) -> 158 | Q23: =IF(B23=0,0,(H23+I23)/B23*100) -> 75.847458 | R23: =IF(C23=0,0,(J23+K23)/C23*100) -> 95.134648
A24: =A4 -> Aktiviti Utama Dalam Piagam Pelanggan | B24: =B4 -> Bil. Permohonan | D24: =D4 -> Permohonan Lulus | F24: =F4 -> Permohonan Tolak | H24: Permohonan Diproses | L24: =L4 -> Workflow & Status | N24: =N4 -> Slip Batal | O24: =O4 -> Belum Cetak | Q24: =Q4 -> % Capaian Piagam
B25: A | C25: B | D25: C | E25: D | F25: E | G25: F | H25: G | I25: H | J25: I | K25: J | L25: K | M25: L | N25: M | O25: N | P25: O | Q25: P = (G +H)/A x 100 | R25: Q =(I+J)/ B x 100
A26: =A6 -> Produk | B26: =B6 -> Kaunter | C26: =C6 -> Online | D26: =D6 -> Kaunter | E26: =E6 -> Online | F26: =F6 -> Kaunter | G26: =G6 -> Online | H26: Kaunter (7 Hari Bekerja) | I26: Kaunter Reject (7 hari bekerja) | J26: Online (5 Hari Bekerja) | K26: Online Reject (5 hari bekerja) | L26: =L6 -> Kaunter | M26: =M6 -> Online | N26: =N6 -> Bil. | O26: =O6 -> Kaunter | P26: =P6 -> Online | Q26: =Q6 -> Kaunter | R26: =R6 -> Online
A27: EKSPORT
A28: Besi Keluli (Long Product) | B28: 0 | C28: 0 | D28: 0 | E28: 0 | F28: 0 | G28: 0 | H28: 0 | I28: 0 | J28: 0 | K28: 0 | L28: 0 | M28: 0 | N28: 0 | O28: 0 | P28: 0 | Q28: =IF(B28=0,0,(H28+H29+#REF!+#REF!+#REF!+H30+#REF!+I28+I29+#REF!+#REF!+#REF!+I30+#REF!)/B28*100) -> 0 | R28: =IF(C28=0,0,(J28+K28)/C28*100) -> 0
A29: Scrap | C29: 157 | D29: 0 | E29: 156 | F29: 0 | G29: 1 | H29: 0 | I29: 0 | J29: 156 | K29: 1 | L29: 0 | M29: 0 | O29: 0 | P29: 0 | R29: =IF(C29=0,0,(J29+K29)/C29*100) -> 100
A30: Lain-lain | C30: 26 | D30: 0 | E30: 26 | F30: 0 | G30: 0 | H30: 0 | I30: 0 | J30: 26 | K30: 0 | L30: 0 | M30: 0 | O30: 0 | P30: 0 | R30: =IF(C30=0,0,(J30+K30)/C30*100) -> 100
A31: JUMLAH | B31: =SUM(B28:B30) -> 0 | C31: =SUM(C28:C30) -> 183 | D31: =SUM(D28:D30) -> 0 | E31: =SUM(E28:E30) -> 182 | F31: =SUM(F28:F30) -> 0 | G31: =SUM(G28:G30) -> 1 | H31: =SUM(H28:H30) -> 0 | I31: =SUM(I28:I30) -> 0 | ... P31: =SUM(P28:P30) -> 0 | Q31: =IF(B31=0,0,(H31+I31)/B31*100) -> 0 | R31: =IF(C31=0,0,(J31+K31)/C31*100) -> 100
A33: Makluman | B33: : | C33: Peratusan Piagam Pelanggan bagi Kaunter diambil daripada Permohonan lengkap diterima di kaunter sehingga AP dicetak
C34: Peratusan Piagam Pelanggan bagi Online diambil daripada Permohonan diterima sehingga AP diluluskan.
C36: Eksport: Data daripada e-Permit -Dagangnet

Sheet SEPT
A1: LAPORAN PENCAPAIAN PIAGAM PELANGGAN BAGI PERMOHONAN IMPORT & EKSPORT
A2: CAWANGAN KUALA LUMPUR BAGI BULAN SEPT 2015
A4: Aktiviti Utama Dalam Piagam Pelanggan | B4: Bil. Permohonan | D4: Permohonan Lulus | F4: Permohonan Tolak | H4: Permohonan Diproses | L4: Workflow & Status | N4: Slip Batal | O4: Belum Cetak | Q4: % Capaian Piagam
B5: A | C5: B | D5: C | E5: D | F5: E | G5: F | H5: G | I5: H | J5: I | K5: J | L5: K | M5: L | N5: M | O5: N | P5: O | Q5: P = (G +H)/A x 100 | R5: Q =(I+J)/ B x 100
A6: Produk | B6: Kaunter | C6: Online | D6: Kaunter | E6: Online | F6: Kaunter | G6: Online | H6: Kaunter (7 Hari Bekerja) | I6: Kaunter Reject (7 hari bekerja) | J6: Online (5 Hari Bekerja) | K6: Online Reject (5 hari bekerja) | L6: Kaunter | M6: Online | N6: Bil. | O6: Kaunter | P6: Online | Q6: Kaunter | R6: Online
A7: IMPORT
A8: Kenderaan Berkuota | B8: 1 | C8: 7281 | H8: 1 | I8: 0 | J8: 7099 | K8: 234 | Q8: =IF(B8=0,0,(H8+I8)/B8*100) -> 100 | R8: =IF(C8=0,0,(J8+K8)/C8*100) -> 100.71419
A9: Ken. Luar Kuota | B9: 84 | C9: 1502 | H9: 77 | I9: 3 | J9: 1314 | K9: 122 | Q9: =IF(B9=0,0,(H9+I9)/B9*100) -> 95.238095 | R9: =IF(C9=0,0,(J9+K9)/C9*100) -> 95.605859
A10: Ken. Persendirian | B10: 91 | C10: 0 | H10: 66 | I10: 0 | J10: 0 | K10: 0 | Q10: =IF(B10=0,0,(H10+I10)/B10*100) -> 72.527473 | R10: =IF(C10=0,0,(J10+K10)/C10*100) -> 0
A11: Jentera & Alat Ganti | B11: 112 | C11: 114 | H11: 8 | I11: 0 | J11: 89 | K11: 23 | Q11: =IF(B11=0,0,(H11+H12+H13+I11+I12+I13)/B11*100) -> 96.428571 | R11: =IF(C11=0,0,(J11+K11)/C11*100) -> 98.245614
A12: Prime Mover | C12: 0 | H12: 0 | I12: 0 | J12: 0 | K12: 0 | R12: =IF(C12=0,0,(J12+K12)/C12*100) -> 0
A13: Dump Truck | C13: 26 | H13: 50 | I13: 50 | J13: 14 | K13: 12 | R13: =IF(C13=0,0,(J13+K13)/C13*100) -> 100
A14: Hot Rolled | B14: 8 | C14: 270 | H14: 7 | I14: 0 | J14: 216 | K14: 46 | Q14: =IF(B14=0,0,(H14+H15+H16+H17+H18+H19+H20+I14+I15+I16+I17+I18+I19+I20)/B14*100) -> 100 | R14: =IF(C14=0,0,(J14+K14)/C14*100) -> 97.037037
A15: Cold Rolled | C15: 167 | H15: 0 | I15: 0 | J15: 154 | K15: 10 | R15: =IF(C15=0,0,(J15+K15)/C15*100) -> 98.203593
A16: Pipe and Tube | C16: 342 | H16: 1 | I16: 0 | J16: 253 | K16: 74 | R16: =IF(C16=0,0,(J16+K16)/C16*100) -> 95.614035
A17: Elec. Galvanised | C17: 154 | H17: 0 | I17: 0 | J17: 137 | K17: 9 | R17: =IF(C17=0,0,(J17+K17)/C17*100) -> 94.805195
A18: Galvanised Iron | C18: 33 | H18: 0 | I18: 0 | J18: 23 | K18: 10 | R18: =IF(C18=0,0,(J18+K18)/C18*100) -> 100
A19: Strip | C19: 32 | H19: 0 | I19: 0 | J19: 29 | K19: 3 | R19: =IF(C19=0,0,(J19+K19)/C19*100) -> 100
A20: Besi Keluli | C20: 0 | H20: 0 | I20: 0 | J20: 0 | K20: 0 | R20: =IF(C20=0,0,(J20+K20)/C20*100) -> 0
A21: Tepung | B21: 21 | C21: 68 | H21: 0 | I21: 0 | J21: 40 | K21: 24 | Q21: =IF(B21=0,0,(H21+H22+I21+I22)/B21*100) -> 80.952381 | R21: =IF(C21=0,0,(J21+K21)/C21*100) -> 94.117647
A22: Lain-lain | C22: 412 | H22: 16 | I22: 1 | J22: 293 | K22: 85 | R22: =IF(C22=0,0,(J22+K22)/C22*100) -> 91.747573
A23: JUMLAH | B23: =SUM(B8:B22) -> 317 | C23: =SUM(C8:C22) -> 10401 | D23: =SUM(D8:D22) -> 0 | E23: =SUM(E8:E22) -> 0 | F23: =SUM(F8:F22) -> 0 | G23: =SUM(G8:G22) -> 0 | H23: =SUM(H8:H22) -> 226 | I23: =SUM(I8:I22) -> 54 | ... P23: =SUM(P8:P22) -> 0 | Q23: =IF(B23=0,0,(H23+I23)/B23*100) -> 88.328076 | R23: =IF(C23=0,0,(J23+K23)/C23*100) -> 99.153928
A24: =A4 -> Aktiviti Utama Dalam Piagam Pelanggan | B24: =B4 -> Bil. Permohonan | D24: =D4 -> Permohonan Lulus | F24: =F4 -> Permohonan Tolak | H24: Permohonan Diproses | L24: =L4 -> Workflow & Status | N24: =N4 -> Slip Batal | O24: =O4 -> Belum Cetak | Q24: =Q4 -> % Capaian Piagam
B25: A | C25: B | D25: C | E25: D | F25: E | G25: F | H25: G | I25: H | J25: I | K25: J | L25: K | M25: L | N25: M | O25: N | P25: O | Q25: P = (G +H)/A x 100 | R25: Q =(I+J)/ B x 100
A26: =A6 -> Produk | B26: =B6 -> Kaunter | C26: =C6 -> Online | D26: =D6 -> Kaunter | E26: =E6 -> Online | F26: =F6 -> Kaunter | G26: =G6 -> Online | H26: Kaunter (7 Hari Bekerja) | I26: Kaunter Reject (7 hari bekerja) | J26: Online (5 Hari Bekerja) | K26: Online Reject (5 hari bekerja) | L26: =L6 -> Kaunter | M26: =M6 -> Online | N26: =N6 -> Bil. | O26: =O6 -> Kaunter | P26: =P6 -> Online | Q26: =Q6 -> Kaunter | R26: =R6 -> Online
A27: EKSPORT
A28: Besi Keluli (Long Product) | B28: 0 | C28: 42 | H28: 0 | I28: 0 | J28: 42 | K28: 0 | L28: 0 | M28: 0 | N28: 0 | O28: 0 | P28: 0 | Q28: =IF(B28=0,0,(H28+H29+#REF!+#REF!+#REF!+H30+#REF!+I28+I29+#REF!+#REF!+#REF!+I30+#REF!)/B28*100) -> 0 | R28: =IF(C28=0,0,(J28+K28)/C28*100) -> 100
A29: Scrap | C29: 0 | H29: 0 | I29: 0 | J29: 0 | K29: 0 | L29: 0 | M29: 0 | O29: 0 | P29: 0 | R29: =IF(C29=0,0,(J29+K29)/C29*100) -> 0
A30: Lain-lain | C30: 2 | H30: 0 | I30: 0 | J30: 1 | K30: 1 | L30: 0 | M30: 0 | O30: 0 | P30: 0 | R30: =IF(C30=0,0,(J30+K30)/C30*100) -> 100
A31: JUMLAH | B31: =SUM(B28:B30) -> 0 | C31: =SUM(C28:C30) -> 44 | D31: =SUM(D28:D30) -> 0 | E31: =SUM(E28:E30) -> 0 | F31: =SUM(F28:F30) -> 0 | G31: =SUM(G28:G30) -> 0 | H31: =SUM(H28:H30) -> 0 | I31: =SUM(I28:I30) -> 0 | ... P31: =SUM(P28:P30) -> 0 | Q31: =IF(B31=0,0,(H31+I31)/B31*100) -> 0 | R31: =IF(C31=0,0,(J31+K31)/C31*100) -> 100
A33: Makluman | B33: : | C33: Peratusan Piagam Pelanggan bagi Kaunter diambil daripada Permohonan lengkap diterima di kaunter sehingga AP dicetak
C34: Peratusan Piagam Pelanggan bagi Online diambil daripada Permohonan diterima sehingga AP diluluskan.
C36: Eksport: Data daripada e-Permit -Dagangnet

Sheet OKT
A1: LAPORAN PENCAPAIAN PIAGAM PELANGGAN BAGI PERMOHONAN IMPORT & EKSPORT
A2: CAWANGAN KUALA LUMPUR BAGI BULAN OKTOBER 2015
A4: Aktiviti Utama Dalam Piagam Pelanggan | B4: Bil. Permohonan | D4: Permohonan Lulus | F4: Permohonan Tolak | H4: Permohonan Diproses | L4: Workflow & Status | N4: Slip Batal | O4: Belum Cetak | Q4: % Capaian Piagam
B5: A | C5: B | D5: C | E5: D | F5: E | G5: F | H5: G | I5: H | J5: I | K5: J | L5: K | M5: L | N5: M | O5: N | P5: O | Q5: P = (G +H)/A x 100 | R5: Q =(I+J)/ B x 100
A6: Produk | B6: Kaunter | C6: Online | D6: Kaunter | E6: Online | F6: Kaunter | G6: Online | H6: Kaunter (7 Hari Bekerja) | I6: Kaunter Reject (7 hari bekerja) | J6: Online (5 Hari Bekerja) | K6: Online Reject (5 hari bekerja) | L6: Kaunter | M6: Online | N6: Bil. | O6: Kaunter | P6: Online | Q6: Kaunter | R6: Online
A7: IMPORT
A8: Kenderaan Berkuota | B8: 36 | C8: 7788 | H8: 3 | I8: 0 | J8: 7076 | K8: 321 | L8: 0 | M8: 0 | N8: 0 | O8: 0 | P8: 14 | Q8: =IF(B8=0,0,(H8+I8)/B8*100) -> 8.3333333 | R8: =IF(C8=0,0,(J8+K8)/C8*100) -> 94.979456
A9: Ken. Luar Kuota | B9: 164 | C9: 1642 | H9: 114 | I9: 0 | J9: 1600 | K9: 53 | L9: 1 | M9: 20 | N9: 1 | O9: 0 | P9: 33 | Q9: =IF(B9=0,0,(H9+I9)/B9*100) -> 69.512195 | R9: =IF(C9=0,0,(J9+K9)/C9*100) -> 100.66991
A10: Ken. Persendirian | B10: 151 | C10: 0 | H10: 115 | I10: 2 | J10: 0 | K10: 0 | L10: 3 | M10: 0 | N10: 2 | O10: 0 | P10: 0 | Q10: =IF(B10=0,0,(H10+I10)/B10*100) -> 77.483444 | R10: =IF(C10=0,0,(J10+K10)/C10*100) -> 0
A11: Jentera & Alat Ganti | B11: 4 | C11: 79 | H11: 4 | I11: 0 | J11: 66 | K11: 12 | L11: 0 | M11: 0 | N11: 0 | O11: 0 | P11: 2 | Q11: =IF(B11=0,0,(H11+H12+H13+I11+I12+I13)/B11*100) -> 100 | R11: =IF(C11=0,0,(J11+K11)/C11*100) -> 98.734177
A12: Prime Mover | C12: 0 | H12: 0 | I12: 0 | J12: 0 | K12: 0 | L12: 0 | M12: 0 | O12: 0 | P12: 0 | R12: =IF(C12=0,0,(J12+K12)/C12*100) -> 0
A13: Dump Truck | C13: 35 | H13: 0 | I13: 0 | J13: 21 | K13: 14 | L13: 0 | M13: 0 | O13: 0 | P13: 9 | R13: =IF(C13=0,0,(J13+K13)/C13*100) -> 100
A14: Hot Rolled | B14: 40 | C14: 394 | H14: 0 | I14: 0 | J14: 306 | K14: 76 | L14: 0 | M14: 0 | N14: 5 | O14: 0 | P14: 4 | Q14: =IF(B14=0,0,(H14+H15+H16+H17+H18+H19+H20+I14+I15+I16+I17+I18+I19+I20)/B14*100) -> 57.5 | R14: =IF(C14=0,0,(J14+K14)/C14*100) -> 96.954315
A15: Cold Rolled | C15: 110 | H15: 3 | I15: 0 | J15: 100 | K15: 8 | L15: 0 | M15: 0 | O15: 0 | P15: 8 | R15: =IF(C15=0,0,(J15+K15)/C15*100) -> 98.181818
A16: Pipe and Tube | C16: 338 | H16: 20 | I16: 0 | J16: 292 | K16: 36 | L16: 0 | M16: 0 | O16: 0 | P16: 6 | R16: =IF(C16=0,0,(J16+K16)/C16*100) -> 97.04142
A17: Elec. Galvanised | C17: 162 | H17: 0 | I17: 0 | J17: 135 | K17: 14 | L17: 0 | M17: 0 | O17: 0 | P17: 0 | R17: =IF(C17=0,0,(J17+K17)/C17*100) -> 91.975309
A18: Galvanised Iron | C18: 31 | H18: 0 | I18: 0 | J18: 21 | K18: 8 | L18: 0 | M18: 0 | O18: 0 | P18: 0 | R18: =IF(C18=0,0,(J18+K18)/C18*100) -> 93.548387
A19: Strip | C19: 40 | H19: 0 | I19: 0 | J19: 20 | K19: 0 | L19: 0 | M19: 0 | O19: 0 | P19: 0 | R19: =IF(C19=0,0,(J19+K19)/C19*100) -> 50
A20: Besi Keluli | C20: 3 | H20: 0 | I20: 0 | J20: 0 | K20: 3 | L20: 0 | M20: 0 | O20: 0 | P20: 0 | R20: =IF(C20=0,0,(J20+K20)/C20*100) -> 100
A21: Tepung | B21: 16 | C21: 35 | H21: 0 | I21: 0 | J21: 21 | K21: 7 | L21: 0 | M21: 0 | N21: 0 | O21: 0 | P21: 4 | Q21: =IF(B21=0,0,(H21+H22+I21+I22)/B21*100) -> 81.25 | R21: =IF(C21=0,0,(J21+K21)/C21*100) -> 80
A22: Lain-lain | C22: 149 | H22: 13 | I22: 0 | J22: 98 | K22: 28 | L22: 0 | M22: 2 | O22: 0 | P22: 9 | R22: =IF(C22=0,0,(J22+K22)/C22*100) -> 84.563758
A23: JUMLAH | B23: =SUM(B8:B22) -> 411 | C23: =SUM(C8:C22) -> 10806 | H23: =SUM(H8:H22) -> 272 | I23: =SUM(I8:I22) -> 2 | J23: =SUM(J8:J22) -> 9756 | K23: =SUM(K8:K22) -> 580 | L23: =SUM(L8:L22) -> 4 | M23: =SUM(M8:M22) -> 22 | N23: =SUM(N8:N22) -> 8 | O23: =SUM(O8:O22) -> 0 | P23: =SUM(P8:P22) -> 89 | Q23: =IF(B23=0,0,(H23+I23)/B23*100) -> 66.666667 | R23: =IF(C23=0,0,(J23+K23)/C23*100) -> 95.650565
A24: =A4 -> Aktiviti Utama Dalam Piagam Pelanggan | B24: =B4 -> Bil. Permohonan | D24: =D4 -> Permohonan Lulus | F24: =F4 -> Permohonan Tolak | H24: Permohonan Diproses | L24: =L4 -> Workflow & Status | N24: =N4 -> Slip Batal | O24: =O4 -> Belum Cetak | Q24: =Q4 -> % Capaian Piagam
B25: A | C25: B | D25: C | E25: D | F25: E | G25: F | H25: G | I25: H | J25: I | K25: J | L25: K | M25: L | N25: M | O25: N | P25: O | Q25: P = (G +H)/A x 100 | R25: Q =(I+J)/ B x 100
A26: =A6 -> Produk | B26: =B6 -> Kaunter | C26: =C6 -> Online | D26: =D6 -> Kaunter | E26: =E6 -> Online | F26: =F6 -> Kaunter | G26: =G6 -> Online | H26: Kaunter (7 Hari Bekerja) | I26: Kaunter Reject (7 hari bekerja) | J26: Online (5 Hari Bekerja) | K26: Online Reject (5 hari bekerja) | L26: =L6 -> Kaunter | M26: =M6 -> Online | N26: =N6 -> Bil. | O26: =O6 -> Kaunter | P26: =P6 -> Online | Q26: =Q6 -> Kaunter | R26: =R6 -> Online
A27: EKSPORT
A28: Besi Keluli (Long Product) | B28: 0 | C28: 0 | D28: 0 | E28: 0 | F28: 0 | G28: 0 | H28: 0 | I28: 0 | J28: 0 | K28: 0 | L28: 0 | M28: 0 | N28: 0 | O28: 0 | P28: 0 | Q28: =IF(B28=0,0,(H28+H29+#REF!+#REF!+#REF!+H30+#REF!+I28+I29+#REF!+#REF!+#REF!+I30+#REF!)/B28*100) -> 0 | R28: =IF(C28=0,0,(J28+K28)/C28*100) -> 0
A29: Scrap | C29: 42 | D29: 0 | E29: 100 | F29: 0 | G29: 3 | H29: 0 | I29: 0 | J29: 42 | K29: 0 | L29: 0 | M29: 0 | O29: 0 | P29: 0 | R29: =IF(C29=0,0,(J29+K29)/C29*100) -> 100
A30: Lain-lain | C30: 2 | D30: 0 | E30: 12 | F30: 0 | G30: 4 | H30: 0 | I30: 0 | J30: 1 | K30: 1 | L30: 0 | M30: 0 | O30: 0 | P30: 0 | R30: =IF(C30=0,0,(J30+K30)/C30*100) -> 100
A31: JUMLAH | B31: =SUM(B28:B30) -> 0 | C31: =SUM(C28:C30) -> 44 | D31: =SUM(D28:D30) -> 0 | E31: =SUM(E28:E30) -> 112 | F31: =SUM(F28:F30) -> 0 | G31: =SUM(G28:G30) -> 7 | H31: =SUM(H28:H30) -> 0 | I31: =SUM(I28:I30) -> 0 | ... P31: =SUM(P28:P30) -> 0 | Q31: =IF(B31=0,0,(H31+I31)/B31*100) -> 0 | R31: =IF(C31=0,0,(J31+K31)/C31*100) -> 100
A33: Makluman | B33: : | C33: Peratusan Piagam Pelanggan bagi Kaunter diambil daripada Permohonan lengkap diterima di kaunter sehingga AP dicetak
C34: Peratusan Piagam Pelanggan bagi Online diambil daripada Permohonan diterima sehingga AP diluluskan.
C36: Eksport: Data daripada e-Permit -Dagangnet

Sheet NOV
A1: LAPORAN PENCAPAIAN PIAGAM PELANGGAN BAGI PERMOHONAN IMPORT & EKSPORT
A2: CAWANGAN KUALA LUMPUR BAGI BULAN NOV 2015
A4: Aktiviti Utama Dalam Piagam Pelanggan | B4: Bil. Permohonan | D4: Permohonan Lulus | F4: Permohonan Tolak | H4: Permohonan Diproses | L4: Workflow & Status | N4: Slip Batal | O4: Belum Cetak | Q4: % Capaian Piagam
