Workbook

Sheet JAN
A1: LAPORAN PENCAPAIAN PIAGAM PELANGGAN BAGI PERMOHONAN IMPORT & EKSPORT
A2: CAWANGAN KUALA LUMPUR BAGI BULAN JANUARI 2015
A4: Aktiviti Utama Dalam Piagam Pelanggan | B4: Bil. Permohonan | D4: Permohonan Lulus | F4: Permohonan Tolak | H4: Permohonan Diproses | L4: Workflow & Status | N4: Slip Batal | O4: Belum Cetak | Q4: % Capaian Piagam
B5: A | C5: B | D5: C | E5: D | F5: E | G5: F | H5: G | I5: H | J5: I | K5: J | L5: K | M5: L | N5: M | O5: N | P5: O | Q5: P = (G +H)/A x 100 | R5: Q =(I+J)/ B x 100
A6: Produk | B6: Kaunter | C6: Online | D6: Kaunter | E6: Online | F6: Kaunter | G6: Online | H6: Kaunter (7 Hari Bekerja) | I6: Kaunter Reject (7 hari bekerja) | J6: Online (5 Hari Bekerja) | K6: Online Reject (5 hari bekerja) | L6: Kaunter | M6: Online | N6: Bil. | O6: Kaunter | P6: Online | Q6: Kaunter | R6: Online
A7: IMPORT
A8: Kenderaan Berkuota | B8: 1102 | C8: 9172 | D8: 4 | E8: 8423 | F8: 0 | G8: 567 | H8: 3 | I8: 0 | J8: 8674 | K8: 542 | L8: 0 | M8: 0 | N8: 65 | O8: 1 | P8: 182 | Q8: =IF(B8=0,0,(H8+I8)/B8*100) -> 0.2722323 | R8: =IF(C8=0,0,(J8+K8)/C8*100) -> 100.47972
A9: Ken. Luar Kuota | B9: 153 | C9: 920 | D9: 138 | E9: 784 | F9: 1 | G9: 71 | H9: 134 | I9: 1 | J9: 874 | K9: 45 | L9: 0 | M9: 13 | N9: 51 | O9: 2 | P9: 52 | Q9: =IF(B9=0,0,(H9+I9)/B9*100) -> 88.235294 | R9: =IF(C9=0,0,(J9+K9)/C9*100) -> 99.891304
A10: Ken. Persendirian | B10: 125 | C10: 0 | D10: 95 | E10: 0 | F10: 22 | G10: 0 | H10: 68 | I10: 21 | J10: 0 | K10: 0 | L10: 5 | M10: 0 | N10: 1 | O10: 1 | P10: 0 | Q10: =IF(B10=0,0,(H10+I10)/B10*100) -> 71.2 | R10: =IF(C10=0,0,(J10+K10)/C10*100) -> 0
A11: Jentera & Alat Ganti | B11: 5 | C11: 184 | D11: 5 | E11: 120 | F11: 0 | G11: 62 | H11: 5 | I11: 0 | J11: 121 | K11: 63 | L11: 0 | M11: 0 | N11: 0 | O11: 0 | P11: 2 | Q11: =IF(B11=0,0,(H11+H12+H13+I11+I12+I13)/B11*100) -> 100 | R11: =IF(C11=0,0,(J11+K11)/C11*100) -> 100
A12: Prime Mover | C12: 0 | D12: 0 | E12: 0 | F12: 0 | G12: 0 | H12: 0 | I12: 0 | J12: 0 | K12: 0 | L12: 0 | M12: 0 | O12: 0 | P12: 0 | R12: =IF(C12=0,0,(J12+K12)/C12*100) -> 0
A13: Dump Truck | C13: 0 | D13: 0 | E13: 0 | F13: 0 | G13: 0 | H13: 0 | I13: 0 | J13: 0 | K13: 0 | L13: 0 | M13: 0 | O13: 0 | P13: 0 | R13: =IF(C13=0,0,(J13+K13)/C13*100) -> 0
A14: Hot Rolled | B14: 17 | C14: 670 | D14: 0 | E14: 598 | F14: 0 | G14: 65 | H14: 0 | I14: 0 | J14: 584 | K14: 65 | L14: 0 | M14: 1 | N14: 0 | O14: 0 | P14: 6 | Q14: =IF(B14=0,0,(H14+H15+H16+H17+H18+H19+H20+I14+I15+I16+I17+I18+I19+I20)/B14*100) -> 88.235294 | R14: =IF(C14=0,0,(J14+K14)/C14*100) -> 96.865672
A15: Cold Rolled | C15: 436 | D15: 0 | E15: 390 | F15: 0 | G15: 38 | H15: 0 | I15: 0 | J15: 377 | K15: 38 | L15: 0 | M15: 0 | O15: 0 | P15: 8 | R15: =IF(C15=0,0,(J15+K15)/C15*100) -> 95.183486
A16: Pipe and Tube | C16: 1068 | D16: 10 | E16: 824 | F16: 0 | G16: 222 | H16: 10 | I16: 0 | J16: 950 | K16: 221 | L16: 0 | M16: 0 | O16: 0 | P16: 21 | R16: =IF(C16=0,0,(J16+K16)/C16*100) -> 109.64419
A17: Elec. Galvanised | C17: 642 | D17: 4 | E17: 525 | F17: 0 | G17: 96 | H17: 4 | I17: 0 | J17: 529 | K17: 96 | L17: 0 | M17: 2 | O17: 0 | P17: 19 | R17: =IF(C17=0,0,(J17+K17)/C17*100) -> 97.352025
A18: Galvanised Iron | C18: 34 | D18: 1 | E18: 27 | F18: 0 | G18: 7 | H18: 1 | I18: 0 | J18: 27 | K18: 7 | L18: 0 | M18: 0 | O18: 0 | P18: 0 | R18: =IF(C18=0,0,(J18+K18)/C18*100) -> 100
A19: Strip | C19: 59 | D19: 0 | E19: 46 | F19: 0 | G19: 13 | H19: 0 | I19: 0 | J19: 38 | K19: 16 | L19: 0 | M19: 0 | O19: 0 | P19: 0 | R19: =IF(C19=0,0,(J19+K19)/C19*100) -> 91.525424
A20: Besi Keluli | C20: 0 | D20: 0 | E20: 0 | F20: 0 | G20: 0 | H20: 0 | I20: 0 | J20: 0 | K20: 0 | L20: 0 | M20: 0 | O20: 0 | P20: 0 | R20: =IF(C20=0,0,(J20+K20)/C20*100) -> 0
A21: Gula | B21: 0 | C21: 30 | D21: 0 | E21: 25 | F21: 0 | G21: 0 | H21: 0 | I21: 0 | J21: 25 | K21: 0 | L21: 0 | M21: 0 | N21: 0 | O21: 0 | P21: 5 | Q21: =IF(B21=0,0,(H21+I21)/B21*100) -> 0 | R21: =IF(C21=0,0,(J21+K21)/C21*100) -> 83.333333
A22: Tepung | B22: 31 | C22: 46 | D22: 6 | E22: 37 | F22: 0 | G22: 10 | H22: 4 | I22: 0 | J22: 32 | K22: 10 | L22: 0 | M22: 0 | N22: 0 | O22: 0 | P22: 0 | Q22: =IF(B22=0,0,(H22+H23+H24+H25+I22+I23+I24+I25)/B22*100) -> 129.03226 | R22: =IF(C22=0,0,(J22+K22)/C22*100) -> 91.304348
A23: Lain-lain Gula | C23: 57 | D23: 4 | E23: 40 | F23: 1 | G23: 13 | H23: 4 | I23: 1 | J23: 39 | K23: 13 | L23: 0 | M23: 0 | O23: 0 | P23: 4 | R23: =IF(C23=0,0,(J23+K23)/C23*100) -> 91.22807
A24: Lain-lain | C24: 397 | D24: 31 | E24: 224 | F24: 1 | G24: 158 | H24: 30 | I24: 1 | J24: 238 | K24: 147 | L24: 2 | M24: 0 | O24: 0 | P24: 15 | R24: =IF(C24=0,0,(J24+K24)/C24*100) -> 96.97733
A25: Dari Israel | C25: 270 | D25: 0 | E25: 217 | F25: 0 | G25: 33 | H25: 0 | I25: 0 | J25: 144 | K25: 24 | L25: 0 | M25: 0 | O25: 0 | P25: 10 | R25: =IF(C25=0,0,(J25+K25)/C25*100) -> 62.222222
A26: JUMLAH | B26: =SUM(B8:B25) -> 1433 | C26: =SUM(C8:C25) -> 13985 | D26: =SUM(D8:D25) -> 298 | E26: =SUM(E8:E25) -> 12280 | F26: =SUM(F8:F25) -> 25 | G26: =SUM(G8:G25) -> 1355 | H26: =SUM(H8:H25) -> 263 | I26: =SUM(I8:I25) -> 24 | ... P26: =SUM(P8:P25) -> 324 | Q26: =IF(B26=0,0,(H26+I26)/B26*100) -> 20.027913 | R26: =IF(C26=0,0,(J26+K26)/C26*100) -> 99.671076
A27: =A4 -> Aktiviti Utama Dalam Piagam Pelanggan | B27: =B4 -> Bil. Permohonan | D27: =D4 -> Permohonan Lulus | F27: =F4 -> Permohonan Tolak | L27: =L4 -> Workflow & Status | N27: =N4 -> Slip Batal | O27: =O4 -> Belum Cetak | Q27: =Q4 -> % Capaian Piagam
B28: A | C28: B | D28: C | E28: D | F28: E | G28: F | H28: G | I28: H | J28: I | K28: J | L28: K | M28: L | N28: M | O28: N | P28: O | Q28: P = (G +H)/A x 100 | R28: Q =(I+J)/ B x 100
A29: =A6 -> Produk | B29: =B6 -> Kaunter | C29: =C6 -> Online | D29: =D6 -> Kaunter | E29: =E6 -> Online | F29: =F6 -> Kaunter | G29: =G6 -> Online | H29: Kaunter (7 Hari Bekerja) | I29: Kaunter Reject (7 hari bekerja) | J29: Online (5 Hari Bekerja) | K29: Online Reject (5 hari bekerja) | L29: =L6 -> Kaunter | M29: =M6 -> Online | N29: =N6 -> Bil. | O29: =O6 -> Kaunter | P29: =P6 -> Online | Q29: =Q6 -> Kaunter | R29: =R6 -> Online
A30: EKSPORT
A31: Besi Keluli (Long Product) | B31: 0 | C31: 0 | D31: 0 | E31: 0 | F31: 0 | G31: 0 | H31: 0 | I31: 0 | J31: 0 | K31: 0 | L31: 0 | M31: 0 | N31: 0 | O31: 0 | P31: 0 | Q31: =IF(B31=0,0,(H31+H32+#REF!+H33+H34+H35+H36+I31+I32+#REF!+I33+I34+I35+I36)/B31*100) -> 0 | R31: =IF(C31=0,0,(J31+K31)/C31*100) -> 0
A32: Scrap | C32: 51 | D32: 0 | E32: 48 | F32: 0 | G32: 3 | H32: 0 | I32: 0 | J32: 48 | K32: 3 | L32: 0 | M32: 0 | O32: 0 | P32: 0 | R32: =IF(C32=0,0,(J32+K32)/C32*100) -> 100
A33: Gula | C33: 78 | D33: 0 | E33: 75 | F33: 0 | G33: 3 | H33: 0 | I33: 0 | J33: 75 | K33: 3 | L33: 0 | M33: 0 | O33: 0 | P33: 0 | R33: =IF(C33=0,0,(J33+K33)/C33*100) -> 100
A34: Lain-lain Gula | C34: 6 | D34: 0 | E34: 6 | F34: 0 | G34: 0 | H34: 0 | I34: 0 | J34: 6 | K34: 0 | L34: 0 | M34: 0 | O34: 0 | P34: 0 | R34: =IF(C34=0,0,(J34+K34)/C34*100) -> 100
A35: Lain-lain | C35: 17 | D35: 0 | E35: 8 | F35: 0 | G35: 9 | H35: 0 | I35: 0 | J35: 8 | K35: 9 | L35: 0 | M35: 0 | O35: 0 | P35: 0 | R35: =IF(C35=0,0,(J35+K35)/C35*100) -> 100
A36: Israel | C36: 64 | D36: 0 | E36: 58 | F36: 0 | G36: 6 | H36: 0 | I36: 0 | J36: 58 | K36: 6 | L36: 0 | M36: 0 | O36: 0 | P36: 0 | R36: =IF(C36=0,0,(J36+K36)/C36*100) -> 100
A37: JUMLAH | B37: =SUM(B31:B36) -> 0 | C37: =SUM(C31:C36) -> 216 | D37: =SUM(D31:D36) -> 0 | E37: =SUM(E31:E36) -> 195 | F37: =SUM(F31:F36) -> 0 | G37: =SUM(G31:G36) -> 21 | H37: =SUM(H31:H36) -> 0 | I37: =SUM(I31:I36) -> 0 | ... P37: =SUM(P31:P36) -> 0 | Q37: =IF(B37=0,0,(H37+I37)/B37*100) -> 0 | R37: =IF(C37=0,0,(J37+K37)/C37*100) -> 100
A39: Makluman | B39: : | C39: Peratusan Piagam Pelanggan bagi Kaunter diambil daripada Permohonan lengkap diterima di kaunter sehingga AP dicetak
C40: Peratusan Piagam Pelanggan bagi Online diambil daripada Permohonan diterima sehingga AP diluluskan.

Sheet FEB
A1: LAPORAN PENCAPAIAN PIAGAM PELANGGAN BAGI PERMOHONAN IMPORT & EKSPORT
A2: CAWANGAN KUALA LUMPUR BAGI BULAN FEBRUARI 2015
A4: Aktiviti Utama Dalam Piagam Pelanggan | B4: Bil. Permohonan | D4: Permohonan Lulus | F4: Permohonan Tolak | H4: Permohonan Diproses | L4: Workflow & Status | N4: Slip Batal | O4: Belum Cetak | Q4: % Capaian Piagam
B5: A | C5: B | D5: C | E5: D | F5: E | G5: F | H5: G | I5: H | J5: I | K5: J | L5: K | M5: L | N5: M | O5: N | P5: O | Q5: P = (G +H)/A x 100 | R5: Q =(I+J)/ B x 100
A6: Produk | B6: Kaunter | C6: Online | D6: Kaunter | E6: Online | F6: Kaunter | G6: Online | H6: Kaunter (7 Hari Bekerja) | I6: Kaunter Reject (7 hari bekerja) | J6: Online (5 Hari Bekerja) | K6: Online Reject (5 hari bekerja) | L6: Kaunter | M6: Online | N6: Bil. | O6: Kaunter | P6: Online | Q6: Kaunter | R6: Online
A7: IMPORT
A8: Kenderaan Berkuota | B8: 132 | C8: 8200 | D8: 11 | E8: 7335 | F8: 0 | G8: 458 | H8: 0 | I8: 0 | J8: 7840 | K8: 280 | L8: 0 | M8: 2 | N8: 0 | O8: 0 | P8: 404 | Q8: =IF(B8=0,0,(H8+I8)/B8*100) -> 0 | R8: =IF(C8=0,0,(J8+K8)/C8*100) -> 99.02439
A9: Ken. Luar Kuota | B9: 22 | C9: 1217 | D9: 13 | E9: 948 | F9: 5 | G9: 99 | H9: 11 | I9: 1 | J9: 1012 | K9: 80 | L9: 2 | M9: 8 | N9: 14 | O9: 1 | P9: 17 | Q9: =IF(B9=0,0,(H9+I9)/B9*100) -> 54.545455 | R9: =IF(C9=0,0,(J9+K9)/C9*100) -> 89.728841
A10: Ken. Persendirian | B10: 88 | C10: 0 | D10: 64 | E10: 0 | F10: 13 | G10: 0 | H10: 67 | I10: 13 | J10: 0 | K10: 0 | L10: 5 | M10: 0 | N10: 2 | O10: 1 | P10: 0 | Q10: =IF(B10=0,0,(H10+I10)/B10*100) -> 90.909091 | R10: =IF(C10=0,0,(J10+K10)/C10*100) -> 0
A11: Jentera & Alat Ganti | B11: 12 | C11: 113 | D11: 9 | E11: 57 | F11: 3 | G11: 46 | H11: 9 | I11: 3 | J11: 64 | K11: 45 | L11: 0 | M11: 0 | N11: 1 | O11: 0 | P11: 10 | Q11: =IF(B11=0,0,(H11+H12+H13+I11+I12+I13)/B11*100) -> 100 | R11: =IF(C11=0,0,(J11+K11)/C11*100) -> 96.460177
A12: Prime Mover | C12: 0 | D12: 0 | E12: 0 | F12: 0 | G12: 0 | H12: 0 | I12: 0 | J12: 0 | K12: 0 | L12: 0 | M12: 0 | O12: 0 | P12: 0 | R12: =IF(C12=0,0,(J12+K12)/C12*100) -> 0
A13: Dump Truck | C13: 29 | D13: 0 | E13: 11 | F13: 0 | G13: 18 | H13: 0 | I13: 0 | J13: 8 | K13: 113 | L13: 0 | M13: 0 | O13: 0 | P13: 0 | R13: =IF(C13=0,0,(J13+K13)/C13*100) -> 417.24138
A14: Hot Rolled | B14: 5 | C14: 779 | D14: 0 | E14: 397 | F14: 3 | G14: 145 | H14: 0 | I14: 3 | J14: 469 | K14: 69 | L14: 0 | M14: 4 | N14: 2 | O14: 0 | P14: 7 | Q14: =IF(B14=0,0,(H14+H15+H16+H17+H18+H19+H20+I14+I15+I16+I17+I18+I19+I20)/B14*100) -> 100 | R14: =IF(C14=0,0,(J14+K14)/C14*100) -> 69.062901
A15: Cold Rolled | C15: 353 | D15: 0 | E15: 281 | F15: 2 | G15: 51 | H15: 0 | I15: 2 | J15: 219 | K15: 109 | L15: 0 | M15: 0 | O15: 0 | P15: 21 | R15: =IF(C15=0,0,(J15+K15)/C15*100) -> 92.917847
A16: Pipe and Tube | C16: 1003 | D16: 0 | E16: 766 | F16: 0 | G16: 208 | H16: 0 | I16: 0 | J16: 676 | K16: 128 | L16: 0 | M16: 7 | O16: 0 | P16: 23 | R16: =IF(C16=0,0,(J16+K16)/C16*100) -> 80.159521
A17: Elec. Galvanised | C17: 486 | D17: 0 | E17: 368 | F17: 0 | G17: 80 | H17: 0 | I17: 0 | J17: 368 | K17: 48 | L17: 0 | M17: 9 | O17: 0 | P17: 29 | R17: =IF(C17=0,0,(J17+K17)/C17*100) -> 85.596708
A18: Galvanised Iron | C18: 66 | D18: 0 | E18: 30 | F18: 0 | G18: 29 | H18: 0 | I18: 0 | J18: 24 | K18: 27 | L18: 0 | M18: 0 | O18: 0 | P18: 7 | R18: =IF(C18=0,0,(J18+K18)/C18*100) -> 77.272727
A19: Strip | C19: 45 | D19: 0 | E19: 37 | F19: 0 | G19: 5 | H19: 0 | I19: 0 | J19: 30 | K19: 4 | L19: 0 | M19: 1 | O19: 0 | P19: 2 | R19: =IF(C19=0,0,(J19+K19)/C19*100) -> 75.555556
A20: Besi Keluli | C20: 0 | D20: 0 | E20: 0 | F20: 0 | G20: 0 | H20: 0 | I20: 0 | J20: 0 | K20: 0 | L20: 0 | M20: 0 | O20: 0 | P20: 0 | R20: =IF(C20=0,0,(J20+K20)/C20*100) -> 0
A21: Gula | B21: 12 | C21: 0 | D21: 0 | E21: 0 | F21: 0 | G21: 0 | H21: 0 | I21: 0 | J21: 0 | K21: 0 | L21: 0 | M21: 0 | N21: 0 | O21: 0 | P21: 0 | Q21: =IF(B21=0,0,(H21+I21)/B21*100) -> 0 | R21: =IF(C21=0,0,(J21+K21)/C21*100) -> 0
A22: Tepung | B22: 0 | C22: 0 | D22: 0 | E22: 0 | F22: 0 | G22: 0 | H22: 0 | I22: 0 | J22: 0 | K22: 0 | L22: 0 | M22: 0 | N22: 0 | O22: 0 | P22: 0 | Q22: =IF(B22=0,0,(H22+H23+H24+H25+I22+I23+I24+I25)/B22*100) -> 0 | R22: =IF(C22=0,0,(J22+K22)/C22*100) -> 0
A23: Lain-lain Gula | C23: 0 | D23: 0 | E23: 0 | F23: 0 | G23: 0 | H23: 0 | I23: 0 | J23: 0 | K23: 0 | L23: 0 | M23: 0 | O23: 0 | P23: 0 | R23: =IF(C23=0,0,(J23+K23)/C23*100) -> 0
A24: Lain-lain | C24: 177 | D24: 9 | E24: 96 | F24: 0 | G24: 68 | H24: 9 | I24: 0 | J24: 104 | K24: 66 | L24: 0 | M24: 0 | O24: 0 | P24: 13 | R24: =IF(C24=0,0,(J24+K24)/C24*100) -> 96.045198
A25: Dari Israel | C25: 144 | D25: 1 | E25: 55 | F25: 0 | G25: 82 | H25: 1 | I25: 0 | J25: 16 | K25: 77 | L25: 0 | M25: 0 | O25: 0 | P25: 7 | R25: =IF(C25=0,0,(J25+K25)/C25*100) -> 64.583333
A26: JUMLAH | B26: =SUM(B8:B25) -> 271 | C26: =SUM(C8:C25) -> 12612 | D26: =SUM(D8:D25) -> 107 | E26: =SUM(E8:E25) -> 10381 | F26: =SUM(F8:F25) -> 26 | G26: =SUM(G8:G25) -> 1289 | H26: =SUM(H8:H25) -> 97 | I26: =SUM(I8:I25) -> 22 | ... P26: =SUM(P8:P25) -> 540 | Q26: =IF(B26=0,0,(H26+I26)/B26*100) -> 43.911439 | R26: =IF(C26=0,0,(J26+K26)/C26*100) -> 94.164288
A27: =A4 -> Aktiviti Utama Dalam Piagam Pelanggan | B27: =B4 -> Bil. Permohonan | D27: =D4 -> Permohonan Lulus | F27: =F4 -> Permohonan Tolak | H27: Permohonan Diproses | L27: =L4 -> Workflow & Status | N27: =N4 -> Slip Batal | O27: =O4 -> Belum Cetak | Q27: =Q4 -> % Capaian Piagam
B28: A | C28: B | D28: C | E28: D | F28: E | G28: F | H28: G | I28: H | J28: I | K28: J | L28: K | M28: L | N28: M | O28: N | P28: O | Q28: P = (G +H)/A x 100 | R28: Q =(I+J)/ B x 100
A29: =A6 -> Produk | B29: =B6 -> Kaunter | C29: =C6 -> Online | D29: =D6 -> Kaunter | E29: =E6 -> Online | F29: =F6 -> Kaunter | G29: =G6 -> Online | H29: Kaunter (7 Hari Bekerja) | I29: Kaunter Reject (7 hari bekerja) | J29: Online (5 Hari Bekerja) | K29: Online Reject (5 hari bekerja) | L29: =L6 -> Kaunter | M29: =M6 -> Online | N29: =N6 -> Bil. | O29: =O6 -> Kaunter | P29: =P6 -> Online | Q29: =Q6 -> Kaunter | R29: =R6 -> Online
A30: EKSPORT
A31: Besi Keluli (Long Product) | B31: 0 | C31: 0 | D31: 0 | E31: 0 | F31: 0 | G31: 0 | H31: 0 | I31: 0 | J31: 0 | K31: 0 | L31: 0 | M31: 0 | N31: 0 | O31: 0 | P31: 0 | Q31: 0 | R31: =IF(C31=0,0,(J31+K31)/C31*100) -> 0
A32: Scrap | C32: 56 | D32: 0 | E32: 41 | F32: 0 | G32: 15 | H32: 0 | I32: 0 | J32: 41 | K32: 15 | L32: 0 | M32: 0 | O32: 0 | P32: 0 | R32: =IF(C32=0,0,(J32+K32)/C32*100) -> 100
A33: Gula | C33: 1 | D33: 0 | E33: 0 | F33: 0 | G33: 1 | H33: 0 | I33: 0 | J33: 0 | K33: 1 | L33: 0 | M33: 0 | O33: 0 | P33: 0 | R33: =IF(C33=0,0,(J33+K33)/C33*100) -> 100
A34: Lain-lain Gula | C34: 0 | D34: 0 | E34: 0 | F34: 0 | G34: 0 | H34: 0 | I34: 0 | J34: 0 | K34: 0 | L34: 0 | M34: 0 | O34: 0 | P34: 0 | R34: =IF(C34=0,0,(J34+K34)/C34*100) -> 0
A35: Lain-lain | C35: 7 | D35: 0 | E35: 3 | F35: 0 | G35: 4 | H35: 0 | I35: 0 | J35: 3 | K35: 4 | L35: 0 | M35: 0 | O35: 0 | P35: 0 | R35: =IF(C35=0,0,(J35+K35)/C35*100) -> 100
A36: Israel | C36: 34 | D36: 0 | E36: 32 | F36: 0 | G36: 2 | H36: 0 | I36: 0 | J36: 32 | K36: 2 | L36: 0 | M36: 0 | O36: 0 | P36: 0 | R36: =IF(C36=0,0,(J36+K36)/C36*100) -> 100
A37: JUMLAH | B37: =SUM(B31:B36) -> 0 | C37: =SUM(C31:C36) -> 98 | D37: =SUM(D31:D36) -> 0 | E37: =SUM(E31:E36) -> 76 | F37: =SUM(F31:F36) -> 0 | G37: =SUM(G31:G36) -> 22 | H37: =SUM(H31:H36) -> 0 | I37: =SUM(I31:I36) -> 0 | ... P37: =SUM(P31:P36) -> 0 | Q37: =IF(B37=0,0,(H37+I37)/B37*100) -> 0 | R37: =IF(C37=0,0,(J37+K37)/C37*100) -> 100
A39: Makluman | B39: : | C39: Peratusan Piagam Pelanggan bagi Kaunter diambil daripada Permohonan lengkap diterima di kaunter sehingga AP dicetak
C40: Peratusan Piagam Pelanggan bagi Online diambil daripada Permohonan diterima sehingga AP diluluskan.

Sheet MAC
A1: LAPORAN PENCAPAIAN PIAGAM PELANGGAN BAGI PERMOHONAN IMPORT & EKSPORT
A2: CAWANGAN KUALA LUMPUR BAGI BULAN MAC 2015
A4: Aktiviti Utama Dalam Piagam Pelanggan | B4: Bil. Permohonan | D4: Permohonan Lulus | F4: Permohonan Tolak | H4: Permohonan Diproses | L4: Workflow & Status | N4: Slip Batal | O4: Belum Cetak | Q4: % Capaian Piagam
B5: A | C5: B | D5: C | E5: D | F5: E | G5: F | H5: G | I5: H | J5: I | K5: J | L5: K | M5: L | N5: M | O5: N | P5: O | Q5: P = (G +H)/A x 100 | R5: Q =(I+J)/ B x 100
A6: Produk | B6: Kaunter | C6: Online | D6: Kaunter | E6: Online | F6: Kaunter | G6: Online | H6: Kaunter (7 Hari Bekerja) | I6: Kaunter Reject (7 hari bekerja) | J6: Online (5 Hari Bekerja) | K6: Online Reject (5 hari bekerja) | L6: Kaunter | M6: Online | N6: Bil. | O6: Kaunter | P6: Online | Q6: Kaunter | R6: Online
A7: IMPORT
A8: Kenderaan Berkuota | B8: 95 | C8: 13093 | H8: 0 | I8: 1 | J8: 12647 | K8: 456 | Q8: =IF(B8=0,0,(H8+I8)/B8*100) -> 1.0526316 | R8: =IF(C8=0,0,(J8+K8)/C8*100) -> 100.07638
A9: Ken. Luar Kuota | B9: 48 | C9: 1987 | H9: 41 | I9: 2 | J9: 1925 | K9: 64 | Q9: =IF(B9=0,0,(H9+I9)/B9*100) -> 89.583333 | R9: =IF(C9=0,0,(J9+K9)/C9*100) -> 100.10065
A10: Ken. Persendirian | B10: 100 | C10: 0 | H10: 69 | I10: 13 | J10: 0 | K10: 0 | Q10: =IF(B10=0,0,(H10+I10)/B10*100) -> 82 | R10: =IF(C10=0,0,(J10+K10)/C10*100) -> 0
A11: Jentera & Alat Ganti | B11: 20 | C11: 203 | H11: 19 | I11: 0 | J11: 158 | K11: 41 | Q11: =IF(B11=0,0,(H11+H12+H13+I11+I12+I13)/B11*100) -> 95 | R11: =IF(C11=0,0,(J11+K11)/C11*100) -> 98.029557
A12: Prime Mover | C12: 0 | H12: 0 | I12: 0 | J12: 0 | K12: 0 | R12: =IF(C12=0,0,(J12+K12)/C12*100) -> 0
A13: Dump Truck | C13: 23 | H13: 0 | I13: 0 | J13: 22 | K13: 1 | R13: =IF(C13=0,0,(J13+K13)/C13*100) -> 100
A14: Hot Rolled | B14: 37 | C14: 1072 | H14: 0 | I14: 0 | J14: 1016 | K14: 104 | Q14: =IF(B14=0,0,(H14+H15+H16+H17+H18+H19+H20+I14+I15+I16+I17+I18+I19+I20)/B14*100) -> 75.675676 | R14: =IF(C14=0,0,(J14+K14)/C14*100) -> 104.47761
A15: Cold Rolled | C15: 472 | H15: 0 | I15: 0 | J15: 394 | K15: 54 | R15: =IF(C15=0,0,(J15+K15)/C15*100) -> 94.915254
A16: Pipe and Tube | C16: 1046 | H16: 24 | I16: 0 | J16: 857 | K16: 177 | R16: =IF(C16=0,0,(J16+K16)/C16*100) -> 98.852772
A17: Elec. Galvanised | C17: 673 | H17: 4 | I17: 0 | J17: 606 | K17: 50 | R17: =IF(C17=0,0,(J17+K17)/C17*100) -> 97.473997
A18: Galvanised Iron | C18: 50 | H18: 0 | I18: 0 | J18: 45 | K18: 4 | R18: =IF(C18=0,0,(J18+K18)/C18*100) -> 98
A19: Strip | C19: 53 | H19: 0 | I19: 0 | J19: 42 | K19: 8 | R19: =IF(C19=0,0,(J19+K19)/C19*100) -> 94.339623
A20: Besi Keluli | C20: 0 | H20: 0 | I20: 0 | J20: 0 | K20: 0 | R20: =IF(C20=0,0,(J20+K20)/C20*100) -> 0
A21: Tepung | B21: 21 | C21: 37 | H21: 0 | I21: 0 | J21: 24 | K21: 13 | Q21: =IF(B21=0,0,(H21+H22+I21+I22)/B21*100) -> 95.238095 | R21: =IF(C21=0,0,(J21+K21)/C21*100) -> 100
A22: Lain-lain | C22: 155 | H22: 19 | I22: 1 | J22: 85 | K22: 58 | R22: =IF(C22=0,0,(J22+K22)/C22*100) -> 92.258065
A23: JUMLAH | B23: =SUM(B7:B22) -> 321 | C23: =SUM(C8:C22) -> 18864 | D23: =SUM(D8:D22) -> 0 | E23: =SUM(E8:E22) -> 0 | F23: =SUM(F8:F22) -> 0 | G23: =SUM(G8:G22) -> 0 | H23: =SUM(H8:H22) -> 176 | I23: =SUM(I8:I22) -> 17 | J23: =SUM(J8:J22) -> 17821 | ... P23: =SUM(P8:P22) -> 0 | Q23: =IF(B23=0,0,(H23+I23)/B23*100) -> 60.124611 | R23: =IF(C23=0,0,(J23+K23)/C23*100) -> 99.931086
A24: =A4 -> Aktiviti Utama Dalam Piagam Pelanggan | B24: =B4 -> Bil. Permohonan | D24: =D4 -> Permohonan Lulus | F24: =F4 -> Permohonan Tolak | H24: Permohonan Diproses | L24: =L4 -> Workflow & Status | N24: =N4 -> Slip Batal | O24: =O4 -> Belum Cetak | Q24: =Q4 -> % Capaian Piagam
B25: A | C25: B | D25: C | E25: D | F25: E | G25: F | H25: G | I25: H | J25: I | K25: J | L25: K | M25: L | N25: M | O25: N | P25: O | Q25: P = (G +H)/A x 100 | R25: Q =(I+J)/ B x 100
A26: =A6 -> Produk | B26: =B6 -> Kaunter | C26: =C6 -> Online | D26: =D6 -> Kaunter | E26: =E6 -> Online | F26: =F6 -> Kaunter | G26: =G6 -> Online | H26: Kaunter (7 Hari Bekerja) | I26: Kaunter Reject (7 hari bekerja) | J26: Online (5 Hari Bekerja) | K26: Online Reject (5 hari bekerja) | L26: =L6 -> Kaunter | M26: =M6 -> Online | N26: =N6 -> Bil. | O26: =O6 -> Kaunter | P26: =P6 -> Online | Q26: =Q6 -> Kaunter | R26: =R6 -> Online
A27: EKSPORT | B27: =SUM(B8:B23) -> 642
A28: Besi Keluli (Long Product) | B28: 0 | C28: 109 | J28: 108 | K28: 1 | Q28: =IF(B28=0,0,(H28+H29+#REF!+#REF!+#REF!+H30+#REF!+I28+I29+#REF!+#REF!+#REF!+I30+#REF!)/B28*100) -> 0 | R28: =IF(C28=0,0,(J28+K28)/C28*100) -> 100
A29: Scrap | C29: 0 | K29: 0 | R29: =IF(C29=0,0,(J29+K29)/C29*100) -> 0
A30: Lain-lain | C30: 8 | J30: 0 | K30: 8 | R30: =IF(C30=0,0,(J30+K30)/C30*100) -> 100
A31: JUMLAH | B31: =SUM(B28:B30) -> 0 | C31: =SUM(C28:C30) -> 117 | D31: =SUM(D28:D30) -> 0 | E31: =SUM(E28:E30) -> 0 | F31: =SUM(F28:F30) -> 0 | G31: =SUM(G28:G30) -> 0 | H31: =SUM(H28:H30) -> 0 | I31: =SUM(I28:I30) -> 0 | ... P31: =SUM(P28:P30) -> 0 | Q31: =IF(B31=0,0,(H31+I31)/B31*100) -> 0 | R31: =IF(C31=0,0,(J31+K31)/C31*100) -> 100
A33: Makluman | B33: : | C33: Peratusan Piagam Pelanggan bagi Kaunter diambil daripada Permohonan lengkap diterima di kaunter sehingga AP dicetak
C34: Peratusan Piagam Pelanggan bagi Online diambil daripada Permohonan diterima sehingga AP diluluskan.

Sheet APRIL
A1: LAPORAN PENCAPAIAN PIAGAM PELANGGAN BAGI PERMOHONAN IMPORT & EKSPORT
A2: CAWANGAN KUALA LUMPUR BAGI BULAN APRIL 2015
A4: Aktiviti Utama Dalam Piagam Pelanggan | B4: Bil. Permohonan | D4: Permohonan Lulus | F4: Permohonan Tolak | H4: Permohonan Diproses | L4: Workflow & Status | N4: Slip Batal | O4: Belum Cetak | Q4: % Capaian Piagam
B5: A | C5: B | D5: C | E5: D | F5: E | G5: F | H5: G | I5: H | J5: I | K5: J | L5: K | M5: L | N5: M | O5: N | P5: O | Q5: P = (G +H)/A x 100 | R5: Q =(I+J)/ B x 100
A6: Produk | B6: Kaunter | C6: Online | D6: Kaunter | E6: Online | F6: Kaunter | G6: Online | H6: Kaunter (7 Hari Bekerja) | I6: Kaunter Reject (7 hari bekerja) | J6: Online (5 Hari Bekerja) | K6: Online Reject (5 hari bekerja) | L6: Kaunter | M6: Online | N6: Bil. | O6: Kaunter | P6: Online | Q6: Kaunter | R6: Online
A7: IMPORT
A8: Kenderaan Berkuota | B8: 219 | C8: 9403 | H8: 8 | I8: 0 | J8: 8572 | K8: 254 | Q8: =IF(B8=0,0,(H8+I8)/B8*100) -> 3.652968 | R8: =IF(C8=0,0,(J8+K8)/C8*100) -> 93.863661
A9: Ken. Luar Kuota | B9: 27 | C9: 2533 | H9: 20 | I9: 3 | J9: 2236 | K9: 163 | Q9: =IF(B9=0,0,(H9+I9)/B9*100) -> 85.185185 | R9: =IF(C9=0,0,(J9+K9)/C9*100) -> 94.70983
A10: Ken. Persendirian | B10: 117 | C10: 0 | H10: 57 | I10: 6 | J10: 0 | K10: 0 | Q10: =IF(B10=0,0,(H10+I10)/B10*100) -> 53.846154 | R10: =IF(C10=0,0,(J10+K10)/C10*100) -> 0
A11: Jentera & Alat Ganti | B11: 7 | C11: 257 | H11: 3 | I11: 3 | J11: 195 | K11: 59 | Q11: =IF(B11=0,0,(H11+H12+H13+I11+I12+I13)/B11*100) -> 85.714286 | R11: =IF(C11=0,0,(J11+K11)/C11*100) -> 98.832685
A12: Prime Mover | C12: 0 | H12: 0 | I12: 0 | J12: 0 | K12: 0 | R12: =IF(C12=0,0,(J12+K12)/C12*100) -> 0
A13: Dump Truck | C13: 33 | H13: 0 | I13: 0 | J13: 21 | K13: 11 | R13: =IF(C13=0,0,(J13+K13)/C13*100) -> 96.969697
A14: Hot Rolled | B14: 23 | C14: 786 | H14: 8 | I14: 0 | J14: 636 | K14: 96 | Q14: =IF(B14=0,0,(H14+H15+H16+H17+H18+H19+H20+I14+I15+I16+I17+I18+I19+I20)/B14*100) -> 43.478261 | R14: =IF(C14=0,0,(J14+K14)/C14*100) -> 93.129771
A15: Cold Rolled | C15: 321 | H15: 0 | I15: 0 | J15: 278 | K15: 26 | R15: =IF(C15=0,0,(J15+K15)/C15*100) -> 94.70405
A16: Pipe and Tube | C16: 992 | H16: 2 | I16: 0 | J16: 798 | K16: 159 | R16: =IF(C16=0,0,(J16+K16)/C16*100) -> 96.471774
A17: Elec. Galvanised | C17: 827 | H17: 0 | I17: 0 | J17: 659 | K17: 78 | R17: =IF(C17=0,0,(J17+K17)/C17*100) -> 89.117291
A18: Galvanised Iron | C18: 68 | H18: 0 | I18: 0 | J18: 42 | K18: 17 | R18: =IF(C18=0,0,(J18+K18)/C18*100) -> 86.764706
A19: Strip | C19: 46 | H19: 0 | I19: 0 | J19: 29 | K19: 9 | R19: =IF(C19=0,0,(J19+K19)/C19*100) -> 82.608696
A20: Besi Keluli | C20: 0 | H20: 0 | I20: 0 | J20: 0 | K20: 0 | R20: =IF(C20=0,0,(J20+K20)/C20*100) -> 0
A21: Tepung | B21: 17 | C21: 61 | H21: 0 | I21: 0 | J21: 38 | K21: 14 | Q21: =IF(B21=0,0,(H21+H22+I21+I22)/B21*100) -> 100 | R21: =IF(C21=0,0,(J21+K21)/C21*100) -> 85.245902
A22: Lain-lain | C22: 260 | H22: 17 | I22: 0 | J22: 181 | K22: 69 | R22: =IF(C22=0,0,(J22+K22)/C22*100) -> 96.153846
A23: JUMLAH | B23: =SUM(B8:B22) -> 410 | C23: =SUM(C8:C22) -> 15587 | D23: =SUM(D8:D22) -> 0 | E23: =SUM(E8:E22) -> 0 | F23: =SUM(F8:F22) -> 0 | G23: =SUM(G8:G22) -> 0 | H23: =SUM(H8:H22) -> 115 | I23: =SUM(I8:I22) -> 12 | ... P23: =SUM(P8:P22) -> 0 | Q23: =IF(B23=0,0,(H23+I23)/B23*100) -> 30.97561 | R23: =IF(C23=0,0,(J23+K23)/C23*100) -> 93.924424
A24: =A4 -> Aktiviti Utama Dalam Piagam Pelanggan | B24: =B4 -> Bil. Permohonan | D24: =D4 -> Permohonan Lulus | F24: =F4 -> Permohonan Tolak | H24: Permohonan Diproses | L24: =L4 -> Workflow & Status | N24: =N4 -> Slip Batal | O24: =O4 -> Belum Cetak | Q24: =Q4 -> % Capaian Piagam
B25: A | C25: B | D25: C | E25: D | F25: E | G25: F | H25: G | I25: H | J25: I | K25: J | L25: K | M25: L | N25: M | O25: N | P25: O | Q25: P = (G +H)/A x 100 | R25: Q =(I+J)/ B x 100
A26: =A6 -> Produk | B26: =B6 -> Kaunter | C26: =C6 -> Online | D26: =D6 -> Kaunter | E26: =E6 -> Online | F26: =F6 -> Kaunter | G26: =G6 -> Online | H26: Kaunter (7 Hari Bekerja) | I26: Kaunter Reject (7 hari bekerja) | J26: Online (5 Hari Bekerja) | K26: Online Reject (5 hari bekerja) | L26: =L6 -> Kaunter | M26: =M6 -> Online | N26: =N6 -> Bil. | O26: =O6 -> Kaunter | P26: =P6 -> Online | Q26: =Q6 -> Kaunter | R26: =R6 -> Online
A27: EKSPORT
A28: Besi Keluli (Long Product) | C28: 133 | J28: 127 | K28: 6 | Q28: =IF(B28=0,0,(H28+H29+#REF!+#REF!+#REF!+H30+#REF!+I28+I29+#REF!+#REF!+#REF!+I30+#REF!)/B28*100) -> 0 | R28: =IF(C28=0,0,(J28+K28)/C28*100) -> 100
A29: Scrap | R29: =IF(C29=0,0,(J29+K29)/C29*100) -> 0
A30: Lain-lain | C30: 16 | J30: 15 | K30: 1 | R30: =IF(C30=0,0,(J30+K30)/C30*100) -> 100
A31: JUMLAH | B31: =SUM(B28:B30) -> 0 | C31: =SUM(C28:C30) -> 149 | D31: =SUM(D28:D30) -> 0 | E31: =SUM(E28:E30) -> 0 | F31: =SUM(F28:F30) -> 0 | G31: =SUM(G28:G30) -> 0 | H31: =SUM(H28:H30) -> 0 | I31: =SUM(I28:I30) -> 0 | ... P31: =SUM(P28:P30) -> 0 | Q31: =IF(B31=0,0,(H31+I31)/B31*100) -> 0 | R31: =IF(C31=0,0,(J31+K31)/C31*100) -> 100
A33: Makluman | B33: : | C33: Peratusan Piagam Pelanggan bagi Kaunter diambil daripada Permohonan lengkap diterima di kaunter sehingga AP dicetak
C34: Peratusan Piagam Pelanggan bagi Online diambil daripada Permohonan diterima sehingga AP diluluskan.

Sheet MEI
A1: LAPORAN PENCAPAIAN PIAGAM PELANGGAN BAGI PERMOHONAN IMPORT & EKSPORT
A2: CAWANGAN KUALA LUMPUR BAGI BULAN MEI 2015
A4: Aktiviti Utama Dalam Piagam Pelanggan | B4: Bil. Permohonan | D4: Permohonan Lulus | F4: Permohonan Tolak | H4: Permohonan Diproses | L4: Workflow & Status | N4: Slip Batal | O4: Belum Cetak | Q4: % Capaian Piagam
B5: A | C5: B | D5: C | E5: D | F5: E | G5: F | H5: G | I5: H | J5: I | K5: J | L5: K | M5: L | N5: M | O5: N | P5: O | Q5: P = (G +H)/A x 100 | R5: Q =(I+J)/ B x 100
A6: Produk | B6: Kaunter | C6: Online | D6: Kaunter | E6: Online | F6: Kaunter | G6: Online | H6: Kaunter (7 Hari Bekerja) | I6: Kaunter Reject (7 hari bekerja) | J6: Online (5 Hari Bekerja) | K6: Online Reject (5 hari bekerja) | L6: Kaunter | M6: Online | N6: Bil. | O6: Kaunter | P6: Online | Q6: Kaunter | R6: Online
A7: IMPORT
A8: Kenderaan Berkuota | B8: 42 | C8: 11806 | H8: 0 | I8: 0 | J8: 11107 | K8: 220 | Q8: =IF(B8=0,0,(H8+I8)/B8*100) -> 0 | R8: =IF(C8=0,0,(J8+K8)/C8*100) -> 95.942741
A9: Ken. Luar Kuota | B9: 62 | C9: 1901 | H9: 57 | I9: 2 | J9: 1680 | K9: 134 | Q9: =IF(B9=0,0,(H9+I9)/B9*100) -> 95.16129 | R9: =IF(C9=0,0,(J9+K9)/C9*100) -> 95.423461
A10: Ken. Persendirian | B10: 88 | C10: 0 | H10: 41 | I10: 1 | J10: 0 | K10: 0 | Q10: =IF(B10=0,0,(H10+I10)/B10*100) -> 47.727273 | R10: =IF(C10=0,0,(J10+K10)/C10*100) -> 0
A11: Jentera & Alat Ganti | B11: 23 | C11: 163 | H11: 15 | I11: 2 | J11: 92 | K11: 69 | Q11: =IF(B11=0,0,(H11+H12+H13+I11+I12+I13)/B11*100) -> 95.652174 | R11: =IF(C11=0,0,(J11+K11)/C11*100) -> 98.773006
A12: Prime Mover | C12: 0 | H12: 0 | I12: 0 | J12: 0 | K12: 0 | R12: =IF(C12=0,0,(J12+K12)/C12*100) -> 0
A13: Dump Truck | C13: 48 | H13: 2 | I13: 3 | J13: 32 | K13: 16 | R13: =IF(C13=0,0,(J13+K13)/C13*100) -> 100
A14: Hot Rolled | B14: 40 | C14: 854 | H14: 1 | I14: 0 | J14: 672 | K14: 105 | Q14: =IF(B14=0,0,(H14+H15+H16+H17+H18+H19+H20+I14+I15+I16+I17+I18+I19+I20)/B14*100) -> 87.5 | R14: =IF(C14=0,0,(J14+K14)/C14*100) -> 90.983607
A15: Cold Rolled | C15: 406 | H15: 2 | I15: 0 | J15: 307 | K15: 18 | R15: =IF(C15=0,0,(J15+K15)/C15*100) -> 80.049261
A16: Pipe and Tube | C16: 1061 | H16: 25 | I16: 0 | J16: 720 | K16: 230 | R16: =IF(C16=0,0,(J16+K16)/C16*100) -> 89.538172
A17: Elec. Galvanised | C17: 570 | H17: 3 | I17: 0 | J17: 487 | K17: 62 | R17: =IF(C17=0,0,(J17+K17)/C17*100) -> 96.315789
A18: Galvanised Iron | C18: 69 | H18: 0 | I18: 0 | J18: 53 | K18: 13 | R18: =IF(C18=0,0,(J18+K18)/C18*100) -> 95.652174
A19: Strip | C19: 82 | H19: 4 | I19: 0 | J19: 56 | K19: 23 | R19: =IF(C19=0,0,(J19+K19)/C19*100) -> 96.341463
A20: Besi Keluli | C20: 0 | H20: 0 | I20: 0 | J20: 0 | K20: 0 | R20: =IF(C20=0,0,(J20+K20)/C20*100) -> 0
A21: Tepung | B21: 18 | C21: 66 | H21: 0 | I21: 0 | J21: 48 | K21: 18 | Q21: =IF(B21=0,0,(H21+H22+I21+I22)/B21*100) -> 83.333333 | R21: =IF(C21=0,0,(J21+K21)/C21*100) -> 100
A22: Lain-lain | C22: 166 | H22: 15 | I22: 0 | J22: 101 | K22: 61 | R22: =IF(C22=0,0,(J22+K22)/C22*100) -> 97.590361
A23: JUMLAH | B23: =SUM(B8:B22) -> 273 | C23: =SUM(C8:C22) -> 17192 | D23: =SUM(D8:D22) -> 0 | E23: =SUM(E8:E22) -> 0 | F23: =SUM(F8:F22) -> 0 | G23: =SUM(G8:G22) -> 0 | H23: =SUM(H8:H22) -> 165 | I23: =SUM(I8:I22) -> 8 | ... P23: =SUM(P8:P22) -> 0 | Q23: =IF(B23=0,0,(H23+I23)/B23*100) -> 63.369963 | R23: =IF(C23=0,0,(J23+K23)/C23*100) -> 94.95114
A24: =A4 -> Aktiviti Utama Dalam Piagam Pelanggan | B24: =B4 -> Bil. Permohonan | D24: =D4 -> Permohonan Lulus | F24: =F4 -> Permohonan Tolak | H24: Permohonan Diproses | L24: =L4 -> Workflow & Status | N24: =N4 -> Slip Batal | O24: =O4 -> Belum Cetak | Q24: =Q4 -> % Capaian Piagam
B25: A | C25: B | D25: C | E25: D | F25: E | G25: F | H25: G | I25: H | J25: I | K25: J | L25: K | M25: L | N25: M | O25: N | P25: O | Q25: P = (G +H)/A x 100 | R25: Q =(I+J)/ B x 100
A26: =A6 -> Produk | B26: =B6 -> Kaunter | C26: =C6 -> Online | D26: =D6 -> Kaunter | E26: =E6 -> Online | F26: =F6 -> Kaunter | G26: =G6 -> Online | H26: Kaunter (7 Hari Bekerja) | I26: Kaunter Reject (7 hari bekerja) | J26: Online (5 Hari Bekerja) | K26: Online Reject (5 hari bekerja) | L26: =L6 -> Kaunter | M26: =M6 -> Online | N26: =N6 -> Bil. | O26: =O6 -> Kaunter | P26: =P6 -> Online | Q26: =Q6 -> Kaunter | R26: =R6 -> Online
A27: EKSPORT
A28: Besi Keluli (Long Product) | C28: 61 | J28: 60 | K28: 1 | Q28: =IF(B28=0,0,(H28+H29+#REF!+#REF!+#REF!+H30+#REF!+I28+I29+#REF!+#REF!+#REF!+I30+#REF!)/B28*100) -> 0 | R28: =IF(C28=0,0,(J28+K28)/C28*100) -> 100
A29: Scrap | R29: =IF(C29=0,0,(J29+K29)/C29*100) -> 0
A30: Lain-lain | C30: 11 | J30: 9 | K30: 2 | R30: =IF(C30=0,0,(J30+K30)/C30*100) -> 100
A31: JUMLAH | B31: =SUM(B28:B30) -> 0 | C31: =SUM(C28:C30) -> 72 | D31: =SUM(D28:D30) -> 0 | E31: =SUM(E28:E30) -> 0 | F31: =SUM(F28:F30) -> 0 | G31: =SUM(G28:G30) -> 0 | H31: =SUM(H28:H30) -> 0 | I31: =SUM(I28:I30) -> 0 | ... P31: =SUM(P28:P30) -> 0 | Q31: =IF(B31=0,0,(H31+I31)/B31*100) -> 0 | R31: =IF(C31=0,0,(J31+K31)/C31*100) -> 100
A33: Makluman | B33: : | C33: Peratusan Piagam Pelanggan bagi Kaunter diambil daripada Permohonan lengkap diterima di kaunter sehingga AP dicetak
C34: Peratusan Piagam Pelanggan bagi Online diambil daripada Permohonan diterima sehingga AP diluluskan.

Sheet JUN
A1: LAPORAN PENCAPAIAN PIAGAM PELANGGAN BAGI PERMOHONAN IMPORT & EKSPORT
A2: CAWANGAN KUALA LUMPUR BAGI BULAN JUN 2015
A4: Aktiviti Utama Dalam Piagam Pelanggan | B4: Bil. Permohonan | D4: Permohonan Lulus | F4: Permohonan Tolak | H4: Permohonan Diproses | L4: Workflow & Status | N4: Slip Batal | O4: Belum Cetak | Q4: % Capaian Piagam
B5: A | C5: B | D5: C | E5: D | F5: E | G5: F | H5: G | I5: H | J5: I | K5: J | L5: K | M5: L | N5: M | O5: N | P5: O | Q5: P = (G +H)/A x 100 | R5: Q =(I+J)/ B x 100
A6: Produk | B6: Kaunter | C6: Online | D6: Kaunter | E6: Online | F6: Kaunter | G6: Online | H6: Kaunter (7 Hari Bekerja) | I6: Kaunter Reject (7 hari bekerja) | J6: Online (5 Hari Bekerja) | K6: Online Reject (5 hari bekerja) | L6: Kaunter | M6: Online | N6: Bil. | O6: Kaunter | P6: Online | Q6: Kaunter | R6: Online
A7: IMPORT
A8: Kenderaan Berkuota | B8: 14 | C8: 21607 | H8: 4 | I8: 0 | J8: 10546 | K8: 233 | Q8: =IF(B8=0,0,(H8+I8)/B8*100) -> 28.571429 | R8: =IF(C8=0,0,(J8+K8)/C8*100) -> 49.886611
A9: Ken. Luar Kuota | B9: 98 | C9: 4343 | H9: 89 | I9: 7 | J9: 3077 | K9: 46 | Q9: =IF(B9=0,0,(H9+I9)/B9*100) -> 97.959184 | R9: =IF(C9=0,0,(J9+K9)/C9*100) -> 71.908819
A10: Ken. Persendirian | B10: 123 | C10: 0 | H10: 73 | I10: 2 | J10: 0 | K10: 0 | Q10: =IF(B10=0,0,(H10+I10)/B10*100) -> 60.97561 | R10: =IF(C10=0,0,(J10+K10)/C10*100) -> 0
A11: Jentera & Alat Ganti | B11: 10 | C11: 348 | H11: 6 | I11: 0 | J11: 214 | K11: 36 | Q11: =IF(B11=0,0,(H11+H12+H13+I11+I12+I13)/B11*100) -> 70 | R11: =IF(C11=0,0,(J11+K11)/C11*100) -> 71.83908
A12: Prime Mover | C12: 0 | H12: 0 | I12: 0 | J12: 0 | K12: 0 | R12: =IF(C12=0,0,(J12+K12)/C12*100) -> 0
A13: Dump Truck | C13: 134 | H13: 1 | I13: 0 | J13: 80 | K13: 33 | R13: =IF(C13=0,0,(J13+K13)/C13*100) -> 84.328358
A14: Hot Rolled | B14: 142 | C14: 1030 | H14: 27 | I14: 9 | J14: 633 | K14: 80 | Q14: =IF(B14=0,0,(H14+H15+H16+H17+H18+H19+H20+I14+I15+I16+I17+I18+I19+I20)/B14*100) -> 84.507042 | R14: =IF(C14=0,0,(J14+K14)/C14*100) -> 69.223301
A15: Cold Rolled | C15: 366 | H15: 20 | I15: 0 | J15: 76 | K15: 6 | R15: =IF(C15=0,0,(J15+K15)/C15*100) -> 22.404372
A16: Pipe and Tube | C16: 1277 | H16: 34 | I16: 0 | J16: 788 | K16: 150 | R16: =IF(C16=0,0,(J16+K16)/C16*100) -> 73.453406
A17: Elec. Galvanised | C17: 684 | H17: 27 | I17: 0 | J17: 316 | K17: 42 | R17: =IF(C17=0,0,(J17+K17)/C17*100) -> 52.339181
A18: Galvanised Iron | C18: 62 | H18: 1 | I18: 0 | J18: 31 | K18: 0 | R18: =IF(C18=0,0,(J18+K18)/C18*100) -> 50
A19: Strip | C19: 115 | H19: 2 | I19: 0 | J19: 36 | K19: 12 | R19: =IF(C19=0,0,(J19+K19)/C19*100) -> 41.73913
A20: Besi Keluli | C20: 24 | H20: 0 | I20: 0 | J20: 2 | K20: 22 | R20: =IF(C20=0,0,(J20+K20)/C20*100) -> 100
A21: Tepung | B21: 35 | C21: 119 | H21: 0 | I21: 0 | J21: 30 | K21: 27 | Q21: =IF(B21=0,0,(H21+H22+I21+I22)/B21*100) -> 71.428571 | R21: =IF(C21=0,0,(J21+K21)/C21*100) -> 47.89916
A22: Lain-lain | C22: 346 | H22: 24 | I22: 1 | J22: 236 | K22: 40 | R22: =IF(C22=0,0,(J22+K22)/C22*100) -> 79.768786
A23: JUMLAH | B23: =SUM(B8:B22) -> 422 | C23: =SUM(C8:C22) -> 30455 | D23: =SUM(D8:D22) -> 0 | E23: =SUM(E8:E22) -> 0 | F23: =SUM(F8:F22) -> 0 | G23: =SUM(G8:G22) -> 0 | H23: =SUM(H8:H22) -> 308 | I23: =SUM(I8:I22) -> 19 | ... P23: =SUM(P8:P22) -> 0 | Q23: =IF(B23=0,0,(H23+I23)/B23*100) -> 77.488152 | R23: =IF(C23=0,0,(J23+K23)/C23*100) -> 55.137088
A24: =A4 -> Aktiviti Utama Dalam Piagam Pelanggan | B24: =B4 -> Bil. Permohonan | D24: =D4 -> Permohonan Lulus | F24: =F4 -> Permohonan Tolak | H24: Permohonan Diproses | L24: =L4 -> Workflow & Status | N24: =N4 -> Slip Batal | O24: =O4 -> Belum Cetak | Q24: =Q4 -> % Capaian Piagam
B25: A | C25: B | D25: C | E25: D | F25: E | G25: F | H25: G | I25: H | J25: I | K25: J | L25: K | M25: L | N25: M | O25: N | P25: O | Q25: P = (G +H)/A x 100 | R25: Q =(I+J)/ B x 100
A26: =A6 -> Produk | B26: =B6 -> Kaunter | C26: =C6 -> Online | D26: =D6 -> Kaunter | E26: =E6 -> Online | F26: =F6 -> Kaunter | G26: =G6 -> Online | H26: Kaunter (7 Hari Bekerja) | I26: Kaunter Reject (7 hari bekerja) | J26: Online (5 Hari Bekerja) | K26: Online Reject (5 hari bekerja) | L26: =L6 -> Kaunter | M26: =M6 -> Online | N26: =N6 -> Bil. | O26: =O6 -> Kaunter | P26: =P6 -> Online | Q26: =Q6 -> Kaunter | R26: =R6 -> Online
A27: EKSPORT
A28: Besi Keluli (Long Product) | C28: 77 | J28: 70 | K28: 7 | Q28: =IF(B28=0,0,(H28+H29+#REF!+#REF!+#REF!+H30+#REF!+I28+I29+#REF!+#REF!+#REF!+I30+#REF!)/B28*100) -> 0 | R28: =IF(C28=0,0,(J28+K28)/C28*100) -> 100
A29: Scrap | R29: =IF(C29=0,0,(J29+K29)/C29*100) -> 0
A30: Lain-lain | C30: 13 | J30: 2 | K30: 11 | R30: =IF(C30=0,0,(J30+K30)/C30*100) -> 100
A31: JUMLAH | B31: =SUM(B28:B30) -> 0 | C31: =SUM(C28:C30) -> 90 | D31: =SUM(D28:D30) -> 0 | E31: =SUM(E28:E30) -> 0 | F31: =SUM(F28:F30) -> 0 | G31: =SUM(G28:G30) -> 0 | H31: =SUM(H28:H30) -> 0 | I31: =SUM(I28:I30) -> 0 | ... P31: =SUM(P28:P30) -> 0 | Q31: =IF(B31=0,0,(H31+I31)/B31*100) -> 0 | R31: =IF(C31=0,0,(J31+K31)/C31*100) -> 100
A32: Makluman | B32: : | C32: Peratusan Piagam Pelanggan bagi Kaunter diambil daripada Permohonan lengkap diterima di kaunter sehingga AP dicetak
C33: Peratusan Piagam Pelanggan bagi Online diambil daripada Permohonan diterima sehingga AP diluluskan.

Sheet JULAI
A1: LAPORAN PENCAPAIAN PIAGAM PELANGGAN BAGI PERMOHONAN IMPORT & EKSPORT
A2: CAWANGAN KUALA LUMPUR BAGI BULAN JULAI 2015
A4: Aktiviti Utama Dalam Piagam Pelanggan | B4: Bil. Permohonan | D4: Permohonan Lulus | F4: Permohonan Tolak | H4: Permohonan Diproses | L4: Workflow & Status | N4: Slip Batal | O4: Belum Cetak | Q4: % Capaian Piagam
B5: A | C5: B | D5: C | E5: D | F5: E | G5: F | H5: G | I5: H | J5: I | K5: J | L5: K | M5: L | N5: M | O5: N | P5: O | Q5: P = (G +H)/A x 100 | R5: Q =(I+J)/ B x 100
A6: Produk | B6: Kaunter | C6: Online | D6: Kaunter | E6: Online | F6: Kaunter | G6: Online | H6: Kaunter (7 Hari Bekerja) | I6: Kaunter Reject (7 hari bekerja) | J6: Online (5 Hari Bekerja) | K6: Online Reject (5 hari bekerja) | L6: Kaunter | M6: Online | N6: Bil. | O6: Kaunter | P6: Online | Q6: Kaunter | R6: Online
A7: IMPORT
A8: Kenderaan Berkuota | B8: 6 | C8: 6485 | H8: 4 | I8: 0 | J8: 6254 | K8: 155 | Q8: =IF(B8=0,0,(H8+I8)/B8*100) -> 66.666667 | R8: =IF(C8=0,0,(J8+K8)/C8*100) -> 98.828065
A9: Ken. Luar Kuota | B9: 148 | C9: 1833 | H9: 75 | I9: 33 | J9: 1794 | K9: 44 | Q9: =IF(B9=0,0,(H9+I9)/B9*100) -> 72.972973 | R9: =IF(C9=0,0,(J9+K9)/C9*100) -> 100.27278
A10: Ken. Persendirian | B10: 96 | C10: 0 | H10: 56 | I10: 0 | J10: 0 | K10: 0 | Q10: =IF(B10=0,0,(H10+I10)/B10*100) -> 58.333333 | R10: =IF(C10=0,0,(J10+K10)/C10*100) -> 0
A11: Jentera & Alat Ganti | B11: 14 | C11: 123 | H11: 6 | I11: 0 | J11: 95 | K11: 14 | Q11: =IF(B11=0,0,(H11+H12+H13+I11+I12+I13)/B11*100) -> 85.714286 | R11: =IF(C11=0,0,(J11+K11)/C11*100) -> 88.617886
A12: Prime Mover | C12: 0 | H12: 0 | I12: 0 | J12: 0 | K12: 0 | R12: =IF(C12=0,0,(J12+K12)/C12*100) -> 0
A13: Dump Truck | C13: 31 | H13: 6 | I13: 0 | J13: 30 | K13: 0 | R13: =IF(C13=0,0,(J13+K13)/C13*100) -> 96.774194
A14: Hot Rolled | B14: 29 | C14: 270 | H14: 4 | I14: 0 | J14: 220 | K14: 17 | Q14: =IF(B14=0,0,(H14+H15+H16+H17+H18+H19+H20+I14+I15+I16+I17+I18+I19+I20)/B14*100) -> 82.758621 | R14: =IF(C14=0,0,(J14+K14)/C14*100) -> 87.777778
A15: Cold Rolled | C15: 163 | H15: 6 | I15: 0 | J15: 168 | K15: 15 | R15: =IF(C15=0,0,(J15+K15)/C15*100) -> 112.26994
A16: Pipe and Tube | C16: 375 | H16: 9 | I16: 1 | J16: 375 | K16: 61 | R16: =IF(C16=0,0,(J16+K16)/C16*100) -> 116.26667
A17: Elec. Galvanised | C17: 322 | H17: 3 | I17: 0 | J17: 232 | K17: 34 | R17: =IF(C17=0,0,(J17+K17)/C17*100) -> 82.608696
A18: Galvanised Iron | C18: 25 | H18: 0 | I18: 0 | J18: 15 | K18: 10 | R18: =IF(C18=0,0,(J18+K18)/C18*100) -> 100
A19: Strip | C19: 32 | H19: 1 | I19: 0 | J19: 27 | K19: 2 | R19: =IF(C19=0,0,(J19+K19)/C19*100) -> 90.625
A20: Besi Keluli | C20: 5 | H20: 0 | I20: 0 | J20: 3 | K20: 1 | R20: =IF(C20=0,0,(J20+K20)/C20*100) -> 80
A21: Tepung | B21: 16 | C21: 148 | H21: 0 | I21: 0 | J21: 106 | K21: 13 | Q21: =IF(B21=0,0,(H21+H22+I21+I22)/B21*100) -> 100 | R21: =IF(C21=0,0,(J21+K21)/C21*100) -> 80.405405
A22: Lain-lain | C22: 146 | H22: 16 | I22: 0 | J22: 108 | K22: 11 | R22: =IF(C22=0,0,(J22+K22)/C22*100) -> 81.506849
A23: JUMLAH | B23: =SUM(B8:B22) -> 309 | C23: =SUM(C8:C22) -> 9958 | D23: =SUM(D8:D22) -> 0 | E23: =SUM(E8:E22) -> 0 | F23: =SUM(F8:F22) -> 0 | G23: =SUM(G8:G22) -> 0 | H23: =SUM(H8:H22) -> 186 | I23: =SUM(I8:I22) -> 34 | ... P23: =SUM(P8:P22) -> 0 | Q23: =IF(B23=0,0,(H23+I23)/B23*100) -> 71.197411 | R23: =IF(C23=0,0,(J23+K23)/C23*100) -> 98.453505
A24: =A4 -> Aktiviti Utama Dalam Piagam Pelanggan | B24: =B4 -> Bil. Permohonan | D24: =D4 -> Permohonan Lulus | F24: =F4 -> Permohonan Tolak | H24: Permohonan Diproses | L24: =L4 -> Workflow & Status | N24: =N4 -> Slip Batal | O24: =O4 -> Belum Cetak | Q24: =Q4 -> % Capaian Piagam
B25: A | C25: B | D25: C | E25: D | F25: E | G25: F | H25: G | I25: H | J25: I | K25: J | L25: K | M25: L | N25: M | O25: N | P25: O | Q25: P = (G +H)/A x 100 | R25: Q =(I+J)/ B x 100
A26: =A6 -> Produk | B26: =B6 -> Kaunter | C26: =C6 -> Online | D26: =D6 -> Kaunter | E26: =E6 -> Online | F26: =F6 -> Kaunter | G26: =G6 -> Online | H26: Kaunter (7 Hari Bekerja) | I26: Kaunter Reject (7 hari bekerja) | J26: Online (5 Hari Bekerja) | K26: Online Reject (5 hari bekerja) | L26: =L6 -> Kaunter | M26: =M6 -> Online | N26: =N6 -> Bil. | O26: =O6 -> Kaunter | P26: =P6 -> Online | Q26: =Q6 -> Kaunter | R26: =R6 -> Online
A27: EKSPORT
A28: Besi Keluli (Long Product) | C28: 59 | J28: 55 | K28: 4 | Q28: =IF(B28=0,0,(H28+H29+#REF!+#REF!+#REF!+H30+#REF!+I28+I29+#REF!+#REF!+#REF!+I30+#REF!)/B28*100) -> 0 | R28: =IF(C28=0,0,(J28+K28)/C28*100) -> 100
A29: Scrap | R29: =IF(C29=0,0,(J29+K29)/C29*100) -> 0
A30: Lain-lain | C30: 7 | J30: 5 | K30: 2 | R30: =IF(C30=0,0,(J30+K30)/C30*100) -> 100
A31: JUMLAH | B31: =SUM(B28:B30) -> 0 | C31: =SUM(C28:C30) -> 66 | D31: =SUM(D28:D30) -> 0 | E31: =SUM(E28:E30) -> 0 | F31: =SUM(F28:F30) -> 0 | G31: =SUM(G28:G30) -> 0 | H31: =SUM(H28:H30) -> 0 | I31: =SUM(I28:I30) -> 0 | ... P31: =SUM(P28:P30) -> 0 | Q31: =IF(B31=0,0,(H31+I31)/B31*100) -> 0 | R31: =IF(C31=0,0,(J31+K31)/C31*100) -> 100
A33: Makluman | B33: : | C33: Peratusan Piagam Pelanggan bagi Kaunter diambil daripada Permohonan lengkap diterima di kaunter sehingga AP dicetak
C34: Peratusan Piagam Pelanggan bagi Online diambil daripada Permohonan diterima sehingga AP diluluskan.

Sheet OGOS
A1: LAPORAN PENCAPAIAN PIAGAM PELANGGAN BAGI PERMOHONAN IMPORT & EKSPORT
A2: CAWANGAN KUALA LUMPUR BAGI BULAN OGOS 2015
A4: Aktiviti Utama Dalam Piagam Pelanggan | B4: Bil. Permohonan | D4: Permohonan Lulus | F4: Permohonan Tolak | H4: Permohonan Diproses | L4: Workflow & Status | N4: Slip Batal | O4: Belum Cetak | Q4: % Capaian Piagam
B5: A | C5: B | D5: C | E5: D | F5: E | G5: F | H5: G | I5: H | J5: I | K5: J | L5: K | M5: L | N5: M | O5: N | P5: O | Q5: P = (G +H)/A x 100 | R5: Q =(I+J)/ B x 100
A6: Produk | B6: Kaunter | C6: Online | D6: Kaunter | E6: Online | F6: Kaunter | G6: Online | H6: Kaunter (7 Hari Bekerja) | I6: Kaunter Reject (7 hari bekerja) | J6: Online (5 Hari Bekerja) | K6: Online Reject (5 hari bekerja) | L6: Kaunter | M6: Online | N6: Bil. | O6: Kaunter | P6: Online | Q6: Kaunter | R6: Online
A7: IMPORT
A8: Kenderaan Berkuota | B8: 0 | C8: 6135 | H8: 0 | I8: 0 | J8: 5361 | K8: 419 | L8: 0 | M8: 1 | N8: 2 | O8: 0 | P8: 36 | Q8: =IF(B8=0,0,(H8+I8)/B8*100) -> 0 | R8: =IF(C8=0,0,(J8+K8)/C8*100) -> 94.213529
A9: Ken. Luar Kuota | B9: 63 | C9: 2161 | H9: 46 | I9: 3 | J9: 1801 | K9: 267 | L9: 0 | M9: 0 | N9: 4 | O9: 0 | P9: 21 | Q9: =IF(B9=0,0,(H9+I9)/B9*100) -> 77.777778 | R9: =IF(C9=0,0,(J9+K9)/C9*100) -> 95.696437
A10: Ken. Persendirian | B10: 107 | C10: 0 | H10: 68 | I10: 4 | J10: 0 | K10: 0 | L10: 6 | M10: 0 | N10: 4 | O10: 2 | P10: 0 | Q10: =IF(B10=0,0,(H10+I10)/B10*100) -> 67.28972 | R10: =IF(C10=0,0,(J10+K10)/C10*100) -> 0
A11: Jentera & Alat Ganti | B11: 20 | C11: 212 | H11: 15 | I11: 2 | J11: 148 | K11: 61 | L11: 0 | M11: 0 | N11: 0 | O11: 0 | P11: 0 | Q11: =IF(B11=0,0,(H11+H12+H13+I11+I12+I13)/B11*100) -> 85 | R11: =IF(C11=0,0,(J11+K11)/C11*100) -> 98.584906
A12: Prime Mover | C12: 0 | H12: 0 | I12: 0 | J12: 0 | K12: 0 | L12: 0 | M12: 0 | O12: 0 | P12: 0 | R12: =IF(C12=0,0,(J12+K12)/C12*100) -> 0
A13: Dump Truck | C13: 40 | H13: 0 | I13: 0 | J13: 25 | K13: 15 | L13: 0 | M13: 0 | O13: 0 | P13: 0 | R13: =IF(C13=0,0,(J13+K13)/C13*100) -> 100
A14: Hot Rolled | B14: 36 | C14: 438 | H14: 19 | I14: 0 | J14: 358 | K14: 72 | L14: 0 | M14: 0 | N14: 1 | O14: 0 | P14: 28 | Q14: =IF(B14=0,0,(H14+H15+H16+H17+H18+H19+H20+I14+I15+I16+I17+I18+I19+I20)/B14*100) -> 91.666667 | R14: =IF(C14=0,0,(J14+K14)/C14*100) -> 98.173516
A15: Cold Rolled | C15: 151 | H15: 10 | I15: 0 | J15: 139 | K15: 10 | L15: 0 | M15: 0 | O15: 0 | P15: 20 | R15: =IF(C15=0,0,(J15+K15)/C15*100) -> 98.675497
A16: Pipe and Tube | C16: 371 | H16: 4 | I16: 0 | J16: 300 | K16: 65 | L16: 0 | M16: 0 | O16: 0 | P16: 17 | R16: =IF(C16=0,0,(J16+K16)/C16*100) -> 98.382749
A17: Elec. Galvanised | C17: 192 | H17: 0 | I17: 0 | J17: 159 | K17: 21 | L17: 0 | M17: 0 | O17: 0 | P17: 25 | R17: =IF(C17=0,0,(J17+K17)/C17*100) -> 93.75
A18: Galvanised Iron | C18: 47 | H18: 0 | I18: 0 | J18: 37 | K18: 10 | L18: 0 | M18: 0 | O18: 0 | P18: 3 | R18: =IF(C18=0,0,(J18+K18)/C18*100) -> 100
A19: Strip | C19: 39 | H19: 0 | I19: 0 | J19: 25 | K19: 14 | L19: 0 | M19: 0 | O19: 0 | P19: 1 | R19: =IF(C19=0,0,(J19+K19)/C19*100) -> 100
A20: Besi Keluli | C20: 4 | H20: 0 | I20: 0 | J20: 0 | K20: 4 | L20: 0 | M20: 0 | O20: 0 | P20: 0 | R20: =IF(C20=0,0,(J20+K20)/C20*100) -> 100
A21: Tepung | B21: 10 | C21: 47 | H21: 0 | I21: 0 | J21: 33 | K21: 7 | L21: 0 | M21: 0 | N21: 1 | O21: 0 | P21: 3 | Q21: =IF(B21=0,0,(H21+H22+I21+I22)/B21*100) -> 80 | R21: =IF(C21=0,0,(J21+K21)/C21*100) -> 85.106383
A22: Lain-lain | C22: 152 | H22: 8 | I22: 0 | J22: 109 | K22: 43 | L22: 0 | M22: 1 | O22: 0 | P22: 4 | R22: =IF(C22=0,0,(J22+K22)/C22*100) -> 100
A23: JUMLAH | B23: =SUM(B8:B22) -> 236 | C23: =SUM(C8:C22) -> 9989 | D23: =SUM(D8:D22) -> 0 | E23: =SUM(E8:E22) -> 0 | F23: =SUM(F8:F22) -> 0 | G23: =SUM(G8:G22) -> 0 | H23: =SUM(H9:H22) -> 170 | I23: =SUM(I9:I22) -> 9 | J23: =SUM(J8:J22) -> 8495 | K23: =SUM(K8:K22) -> 1008 | L23: =SUM(L8:L22) -> 6 | M23: =SUM(M8:M22) -> 2 | N23: =SUM(N8:N22) -> 12 | O23: =SUM(O8:O22) -> 2 | P23: =SUM(P8:P22) -> 158 | Q23: =IF(B23=0,0,(H23+I23)/B23*100) -> 75.847458 | R23: =IF(C23=0,0,(J23+K23)/C23*100) -> 95.134648
A24: =A4 -> Aktiviti Utama Dalam Piagam Pelanggan | B24: =B4 -> Bil. Permohonan | D24: =D4 -> Permohonan Lulus | F24: =F4 -> Permohonan Tolak | H24: Permohonan Diproses | L24: =L4 -> Workflow & Status | N24: =N4 -> Slip Batal | O24: =O4 -> Belum Cetak | Q24: =Q4 -> % Capaian Piagam
B25: A | C25: B | D25: C | E25: D | F25: E | G25: F | H25: G | I25: H | J25: I | K25: J | L25: K | M25: L | N25: M | O25: N | P25: O | Q25: P = (G +H)/A x 100 | R25: Q =(I+J)/ B x 100
A26: =A6 -> Produk | B26: =B6 -> Kaunter | C26: =C6 -> Online | D26: =D6 -> Kaunter | E26: =E6 -> Online | F26: =F6 -> Kaunter | G26: =G6 -> Online | H26: Kaunter (7 Hari Bekerja) | I26: Kaunter Reject (7 hari bekerja) | J26: Online (5 Hari Bekerja) | K26: Online Reject (5 hari bekerja) | L26: =L6 -> Kaunter | M26: =M6 -> Online | N26: =N6 -> Bil. | O26: =O6 -> Kaunter | P26: =P6 -> Online | Q26: =Q6 -> Kaunter | R26: =R6 -> Online
A27: EKSPORT
A28: Besi Keluli (Long Product) | B28: 0 | C28: 0 | D28: 0 | E28: 0 | F28: 0 | G28: 0 | H28: 0 | I28: 0 | J28: 0 | K28: 0 | L28: 0 | M28: 0 | N28: 0 | O28: 0 | P28: 0 | Q28: =IF(B28=0,0,(H28+H29+#REF!+#REF!+#REF!+H30+#REF!+I28+I29+#REF!+#REF!+#REF!+I30+#REF!)/B28*100) -> 0 | R28: =IF(C28=0,0,(J28+K28)/C28*100) -> 0
A29: Scrap | C29: 157 | D29: 0 | E29: 156 | F29: 0 | G29: 1 | H29: 0 | I29: 0 | J29: 156 | K29: 1 | L29: 0 | M29: 0 | O29: 0 | P29: 0 | R29: =IF(C29=0,0,(J29+K29)/C29*100) -> 100
A30: Lain-lain | C30: 26 | D30: 0 | E30: 26 | F30: 0 | G30: 0 | H30: 0 | I30: 0 | J30: 26 | K30: 0 | L30: 0 | M30: 0 | O30: 0 | P30: 0 | R30: =IF(C30=0,0,(J30+K30)/C30*100) -> 100
A31: JUMLAH | B31: =SUM(B28:B30) -> 0 | C31: =SUM(C28:C30) -> 183 | D31: =SUM(D28:D30) -> 0 | E31: =SUM(E28:E30) -> 182 | F31: =SUM(F28:F30) -> 0 | G31: =SUM(G28:G30) -> 1 | H31: =SUM(H28:H30) -> 0 | I31: =SUM(I28:I30) -> 0 | ... P31: =SUM(P28:P30) -> 0 | Q31: =IF(B31=0,0,(H31+I31)/B31*100) -> 0 | R31: =IF(C31=0,0,(J31+K31)/C31*100) -> 100
A33: Makluman | B33: : | C33: Peratusan Piagam Pelanggan bagi Kaunter diambil daripada Permohonan lengkap diterima di kaunter sehingga AP dicetak
C34: Peratusan Piagam Pelanggan bagi Online diambil daripada Permohonan diterima sehingga AP diluluskan.
C36: Eksport: Data daripada e-Permit -Dagangnet

Sheet SEPT
A1: LAPORAN PENCAPAIAN PIAGAM PELANGGAN BAGI PERMOHONAN IMPORT & EKSPORT
A2: CAWANGAN KUALA LUMPUR BAGI BULAN SEPT 2015
A4: Aktiviti Utama Dalam Piagam Pelanggan | B4: Bil. Permohonan | D4: Permohonan Lulus | F4: Permohonan Tolak | H4: Permohonan Diproses | L4: Workflow & Status | N4: Slip Batal | O4: Belum Cetak | Q4: % Capaian Piagam
B5: A | C5: B | D5: C | E5: D | F5: E | G5: F | H5: G | I5: H | J5: I | K5: J | L5: K | M5: L | N5: M | O5: N | P5: O | Q5: P = (G +H)/A x 100 | R5: Q =(I+J)/ B x 100
A6: Produk | B6: Kaunter | C6: Online | D6: Kaunter | E6: Online | F6: Kaunter | G6: Online | H6: Kaunter (7 Hari Bekerja) | I6: Kaunter Reject (7 hari bekerja) | J6: Online (5 Hari Bekerja) | K6: Online Reject (5 hari bekerja) | L6: Kaunter | M6: Online | N6: Bil. | O6: Kaunter | P6: Online | Q6: Kaunter | R6: Online
A7: IMPORT
A8: Kenderaan Berkuota | B8: 1 | C8: 7281 | H8: 1 | I8: 0 | J8: 7099 | K8: 234 | Q8: =IF(B8=0,0,(H8+I8)/B8*100) -> 100 | R8: =IF(C8=0,0,(J8+K8)/C8*100) -> 100.71419
A9: Ken. Luar Kuota | B9: 84 | C9: 1502 | H9: 77 | I9: 3 | J9: 1314 | K9: 122 | Q9: =IF(B9=0,0,(H9+I9)/B9*100) -> 95.238095 | R9: =IF(C9=0,0,(J9+K9)/C9*100) -> 95.605859
A10: Ken. Persendirian | B10: 91 | C10: 0 | H10: 66 | I10: 0 | J10: 0 | K10: 0 | Q10: =IF(B10=0,0,(H10+I10)/B10*100) -> 72.527473 | R10: =IF(C10=0,0,(J10+K10)/C10*100) -> 0
A11: Jentera & Alat Ganti | B11: 112 | C11: 114 | H11: 8 | I11: 0 | J11: 89 | K11: 23 | Q11: =IF(B11=0,0,(H11+H12+H13+I11+I12+I13)/B11*100) -> 96.428571 | R11: =IF(C11=0,0,(J11+K11)/C11*100) -> 98.245614
A12: Prime Mover | C12: 0 | H12: 0 | I12: 0 | J12: 0 | K12: 0 | R12: =IF(C12=0,0,(J12+K12)/C12*100) -> 0
A13: Dump Truck | C13: 26 | H13: 50 | I13: 50 | J13: 14 | K13: 12 | R13: =IF(C13=0,0,(J13+K13)/C13*100) -> 100
A14: Hot Rolled | B14: 8 | C14: 270 | H14: 7 | I14: 0 | J14: 216 | K14: 46 | Q14: =IF(B14=0,0,(H14+H15+H16+H17+H18+H19+H20+I14+I15+I16+I17+I18+I19+I20)/B14*100) -> 100 | R14: =IF(C14=0,0,(J14+K14)/C14*100) -> 97.037037
A15: Cold Rolled | C15: 167 | H15: 0 | I15: 0 | J15: 154 | K15: 10 | R15: =IF(C15=0,0,(J15+K15)/C15*100) -> 98.203593
A16: Pipe and Tube | C16: 342 | H16: 1 | I16: 0 | J16: 253 | K16: 74 | R16: =IF(C16=0,0,(J16+K16)/C16*100) -> 95.614035
A17: Elec. Galvanised | C17: 154 | H17: 0 | I17: 0 | J17: 137 | K17: 9 | R17: =IF(C17=0,0,(J17+K17)/C17*100) -> 94.805195
A18: Galvanised Iron | C18: 33 | H18: 0 | I18: 0 | J18: 23 | K18: 10 | R18: =IF(C18=0,0,(J18+K18)/C18*100) -> 100
A19: Strip | C19: 32 | H19: 0 | I19: 0 | J19: 29 | K19: 3 | R19: =IF(C19=0,0,(J19+K19)/C19*100) -> 100
A20: Besi Keluli | C20: 0 | H20: 0 | I20: 0 | J20: 0 | K20: 0 | R20: =IF(C20=0,0,(J20+K20)/C20*100) -> 0
A21: Tepung | B21: 21 | C21: 68 | H21: 0 | I21: 0 | J21: 40 | K21: 24 | Q21: =IF(B21=0,0,(H21+H22+I21+I22)/B21*100) -> 80.952381 | R21: =IF(C21=0,0,(J21+K21)/C21*100) -> 94.117647
A22: Lain-lain | C22: 412 | H22: 16 | I22: 1 | J22: 293 | K22: 85 | R22: =IF(C22=0,0,(J22+K22)/C22*100) -> 91.747573
A23: JUMLAH | B23: =SUM(B8:B22) -> 317 | C23: =SUM(C8:C22) -> 10401 | D23: =SUM(D8:D22) -> 0 | E23: =SUM(E8:E22) -> 0 | F23: =SUM(F8:F22) -> 0 | G23: =SUM(G8:G22) -> 0 | H23: =SUM(H8:H22) -> 226 | I23: =SUM(I8:I22) -> 54 | ... P23: =SUM(P8:P22) -> 0 | Q23: =IF(B23=0,0,(H23+I23)/B23*100) -> 88.328076 | R23: =IF(C23=0,0,(J23+K23)/C23*100) -> 99.153928
A24: =A4 -> Aktiviti Utama Dalam Piagam Pelanggan | B24: =B4 -> Bil. Permohonan | D24: =D4 -> Permohonan Lulus | F24: =F4 -> Permohonan Tolak | H24: Permohonan Diproses | L24: =L4 -> Workflow & Status | N24: =N4 -> Slip Batal | O24: =O4 -> Belum Cetak | Q24: =Q4 -> % Capaian Piagam
B25: A | C25: B | D25: C | E25: D | F25: E | G25: F | H25: G | I25: H | J25: I | K25: J | L25: K | M25: L | N25: M | O25: N | P25: O | Q25: P = (G +H)/A x 100 | R25: Q =(I+J)/ B x 100
A26: =A6 -> Produk | B26: =B6 -> Kaunter | C26: =C6 -> Online | D26: =D6 -> Kaunter | E26: =E6 -> Online | F26: =F6 -> Kaunter | G26: =G6 -> Online | H26: Kaunter (7 Hari Bekerja) | I26: Kaunter Reject (7 hari bekerja) | J26: Online (5 Hari Bekerja) | K26: Online Reject (5 hari bekerja) | L26: =L6 -> Kaunter | M26: =M6 -> Online | N26: =N6 -> Bil. | O26: =O6 -> Kaunter | P26: =P6 -> Online | Q26: =Q6 -> Kaunter | R26: =R6 -> Online
A27: EKSPORT
A28: Besi Keluli (Long Product) | B28: 0 | C28: 42 | H28: 0 | I28: 0 | J28: 42 | K28: 0 | L28: 0 | M28: 0 | N28: 0 | O28: 0 | P28: 0 | Q28: =IF(B28=0,0,(H28+H29+#REF!+#REF!+#REF!+H30+#REF!+I28+I29+#REF!+#REF!+#REF!+I30+#REF!)/B28*100) -> 0 | R28: =IF(C28=0,0,(J28+K28)/C28*100) -> 100
A29: Scrap | C29: 0 | H29: 0 | I29: 0 | J29: 0 | K29: 0 | L29: 0 | M29: 0 | O29: 0 | P29: 0 | R29: =IF(C29=0,0,(J29+K29)/C29*100) -> 0
A30: Lain-lain | C30: 2 | H30: 0 | I30: 0 | J30: 1 | K30: 1 | L30: 0 | M30: 0 | O30: 0 | P30: 0 | R30: =IF(C30=0,0,(J30+K30)/C30*100) -> 100
A31: JUMLAH | B31: =SUM(B28:B30) -> 0 | C31: =SUM(C28:C30) -> 44 | D31: =SUM(D28:D30) -> 0 | E31: =SUM(E28:E30) -> 0 | F31: =SUM(F28:F30) -> 0 | G31: =SUM(G28:G30) -> 0 | H31: =SUM(H28:H30) -> 0 | I31: =SUM(I28:I30) -> 0 | ... P31: =SUM(P28:P30) -> 0 | Q31: =IF(B31=0,0,(H31+I31)/B31*100) -> 0 | R31: =IF(C31=0,0,(J31+K31)/C31*100) -> 100
A33: Makluman | B33: : | C33: Peratusan Piagam Pelanggan bagi Kaunter diambil daripada Permohonan lengkap diterima di kaunter sehingga AP dicetak
C34: Peratusan Piagam Pelanggan bagi Online diambil daripada Permohonan diterima sehingga AP diluluskan.
C36: Eksport: Data daripada e-Permit -Dagangnet

Sheet OKT
A1: LAPORAN PENCAPAIAN PIAGAM PELANGGAN BAGI PERMOHONAN IMPORT & EKSPORT
A2: CAWANGAN KUALA LUMPUR BAGI BULAN OKTOBER 2015
A4: Aktiviti Utama Dalam Piagam Pelanggan | B4: Bil. Permohonan | D4: Permohonan Lulus | F4: Permohonan Tolak | H4: Permohonan Diproses | L4: Workflow & Status | N4: Slip Batal | O4: Belum Cetak | Q4: % Capaian Piagam
B5: A | C5: B | D5: C | E5: D | F5: E | G5: F | H5: G | I5: H | J5: I | K5: J | L5: K | M5: L | N5: M | O5: N | P5: O | Q5: P = (G +H)/A x 100 | R5: Q =(I+J)/ B x 100
A6: Produk | B6: Kaunter | C6: Online | D6: Kaunter | E6: Online | F6: Kaunter | G6: Online | H6: Kaunter (7 Hari Bekerja) | I6: Kaunter Reject (7 hari bekerja) | J6: Online (5 Hari Bekerja) | K6: Online Reject (5 hari bekerja) | L6: Kaunter | M6: Online | N6: Bil. | O6: Kaunter | P6: Online | Q6: Kaunter | R6: Online
A7: IMPORT
A8: Kenderaan Berkuota | B8: 36 | C8: 7788 | H8: 3 | I8: 0 | J8: 7076 | K8: 321 | L8: 0 | M8: 0 | N8: 0 | O8: 0 | P8: 14 | Q8: =IF(B8=0,0,(H8+I8)/B8*100) -> 8.3333333 | R8: =IF(C8=0,0,(J8+K8)/C8*100) -> 94.979456
A9: Ken. Luar Kuota | B9: 164 | C9: 1642 | H9: 114 | I9: 0 | J9: 1600 | K9: 53 | L9: 1 | M9: 20 | N9: 1 | O9: 0 | P9: 33 | Q9: =IF(B9=0,0,(H9+I9)/B9*100) -> 69.512195 | R9: =IF(C9=0,0,(J9+K9)/C9*100) -> 100.66991
A10: Ken. Persendirian | B10: 151 | C10: 0 | H10: 115 | I10: 2 | J10: 0 | K10: 0 | L10: 3 | M10: 0 | N10: 2 | O10: 0 | P10: 0 | Q10: =IF(B10=0,0,(H10+I10)/B10*100) -> 77.483444 | R10: =IF(C10=0,0,(J10+K10)/C10*100) -> 0
A11: Jentera & Alat Ganti | B11: 4 | C11: 79 | H11: 4 | I11: 0 | J11: 66 | K11: 12 | L11: 0 | M11: 0 | N11: 0 | O11: 0 | P11: 2 | Q11: =IF(B11=0,0,(H11+H12+H13+I11+I12+I13)/B11*100) -> 100 | R11: =IF(C11=0,0,(J11+K11)/C11*100) -> 98.734177
A12: Prime Mover | C12: 0 | H12: 0 | I12: 0 | J12: 0 | K12: 0 | L12: 0 | M12: 0 | O12: 0 | P12: 0 | R12: =IF(C12=0,0,(J12+K12)/C12*100) -> 0
A13: Dump Truck | C13: 35 | H13: 0 | I13: 0 | J13: 21 | K13: 14 | L13: 0 | M13: 0 | O13: 0 | P13: 9 | R13: =IF(C13=0,0,(J13+K13)/C13*100) -> 100
A14: Hot Rolled | B14: 40 | C14: 394 | H14: 0 | I14: 0 | J14: 306 | K14: 76 | L14: 0 | M14: 0 | N14: 5 | O14: 0 | P14: 4 | Q14: =IF(B14=0,0,(H14+H15+H16+H17+H18+H19+H20+I14+I15+I16+I17+I18+I19+I20)/B14*100) -> 57.5 | R14: =IF(C14=0,0,(J14+K14)/C14*100) -> 96.954315
A15: Cold Rolled | C15: 110 | H15: 3 | I15: 0 | J15: 100 | K15: 8 | L15: 0 | M15: 0 | O15: 0 | P15: 8 | R15: =IF(C15=0,0,(J15+K15)/C15*100) -> 98.181818
A16: Pipe and Tube | C16: 338 | H16: 20 | I16: 0 | J16: 292 | K16: 36 | L16: 0 | M16: 0 | O16: 0 | P16: 6 | R16: =IF(C16=0,0,(J16+K16)/C16*100) -> 97.04142
A17: Elec. Galvanised | C17: 162 | H17: 0 | I17: 0 | J17: 135 | K17: 14 | L17: 0 | M17: 0 | O17: 0 | P17: 0 | R17: =IF(C17=0,0,(J17+K17)/C17*100) -> 91.975309
A18: Galvanised Iron | C18: 31 | H18: 0 | I18: 0 | J18: 21 | K18: 8 | L18: 0 | M18: 0 | O18: 0 | P18: 0 | R18: =IF(C18=0,0,(J18+K18)/C18*100) -> 93.548387
A19: Strip | C19: 40 | H19: 0 | I19: 0 | J19: 20 | K19: 0 | L19: 0 | M19: 0 | O19: 0 | P19: 0 | R19: =IF(C19=0,0,(J19+K19)/C19*100) -> 50
A20: Besi Keluli | C20: 3 | H20: 0 | I20: 0 | J20: 0 | K20: 3 | L20: 0 | M20: 0 | O20: 0 | P20: 0 | R20: =IF(C20=0,0,(J20+K20)/C20*100) -> 100
A21: Tepung | B21: 16 | C21: 35 | H21: 0 | I21: 0 | J21: 21 | K21: 7 | L21: 0 | M21: 0 | N21: 0 | O21: 0 | P21: 4 | Q21: =IF(B21=0,0,(H21+H22+I21+I22)/B21*100) -> 81.25 | R21: =IF(C21=0,0,(J21+K21)/C21*100) -> 80
A22: Lain-lain | C22: 149 | H22: 13 | I22: 0 | J22: 98 | K22: 28 | L22: 0 | M22: 2 | O22: 0 | P22: 9 | R22: =IF(C22=0,0,(J22+K22)/C22*100) -> 84.563758
A23: JUMLAH | B23: =SUM(B8:B22) -> 411 | C23: =SUM(C8:C22) -> 10806 | H23: =SUM(H8:H22) -> 272 | I23: =SUM(I8:I22) -> 2 | J23: =SUM(J8:J22) -> 9756 | K23: =SUM(K8:K22) -> 580 | L23: =SUM(L8:L22) -> 4 | M23: =SUM(M8:M22) -> 22 | N23: =SUM(N8:N22) -> 8 | O23: =SUM(O8:O22) -> 0 | P23: =SUM(P8:P22) -> 89 | Q23: =IF(B23=0,0,(H23+I23)/B23*100) -> 66.666667 | R23: =IF(C23=0,0,(J23+K23)/C23*100) -> 95.650565
A24: =A4 -> Aktiviti Utama Dalam Piagam Pelanggan | B24: =B4 -> Bil. Permohonan | D24: =D4 -> Permohonan Lulus | F24: =F4 -> Permohonan Tolak | H24: Permohonan Diproses | L24: =L4 -> Workflow & Status | N24: =N4 -> Slip Batal | O24: =O4 -> Belum Cetak | Q24: =Q4 -> % Capaian Piagam
B25: A | C25: B | D25: C | E25: D | F25: E | G25: F | H25: G | I25: H | J25: I | K25: J | L25: K | M25: L | N25: M | O25: N | P25: O | Q25: P = (G +H)/A x 100 | R25: Q =(I+J)/ B x 100
A26: =A6 -> Produk | B26: =B6 -> Kaunter | C26: =C6 -> Online | D26: =D6 -> Kaunter | E26: =E6 -> Online | F26: =F6 -> Kaunter | G26: =G6 -> Online | H26: Kaunter (7 Hari Bekerja) | I26: Kaunter Reject (7 hari bekerja) | J26: Online (5 Hari Bekerja) | K26: Online Reject (5 hari bekerja) | L26: =L6 -> Kaunter | M26: =M6 -> Online | N26: =N6 -> Bil. | O26: =O6 -> Kaunter | P26: =P6 -> Online | Q26: =Q6 -> Kaunter | R26: =R6 -> Online
A27: EKSPORT
A28: Besi Keluli (Long Product) | B28: 0 | C28: 0 | D28: 0 | E28: 0 | F28: 0 | G28: 0 | H28: 0 | I28: 0 | J28: 0 | K28: 0 | L28: 0 | M28: 0 | N28: 0 | O28: 0 | P28: 0 | Q28: =IF(B28=0,0,(H28+H29+#REF!+#REF!+#REF!+H30+#REF!+I28+I29+#REF!+#REF!+#REF!+I30+#REF!)/B28*100) -> 0 | R28: =IF(C28=0,0,(J28+K28)/C28*100) -> 0
A29: Scrap | C29: 42 | D29: 0 | E29: 100 | F29: 0 | G29: 3 | H29: 0 | I29: 0 | J29: 42 | K29: 0 | L29: 0 | M29: 0 | O29: 0 | P29: 0 | R29: =IF(C29=0,0,(J29+K29)/C29*100) -> 100
A30: Lain-lain | C30: 2 | D30: 0 | E30: 12 | F30: 0 | G30: 4 | H30: 0 | I30: 0 | J30: 1 | K30: 1 | L30: 0 | M30: 0 | O30: 0 | P30: 0 | R30: =IF(C30=0,0,(J30+K30)/C30*100) -> 100
A31: JUMLAH | B31: =SUM(B28:B30) -> 0 | C31: =SUM(C28:C30) -> 44 | D31: =SUM(D28:D30) -> 0 | E31: =SUM(E28:E30) -> 112 | F31: =SUM(F28:F30) -> 0 | G31: =SUM(G28:G30) -> 7 | H31: =SUM(H28:H30) -> 0 | I31: =SUM(I28:I30) -> 0 | ... P31: =SUM(P28:P30) -> 0 | Q31: =IF(B31=0,0,(H31+I31)/B31*100) -> 0 | R31: =IF(C31=0,0,(J31+K31)/C31*100) -> 100
A33: Makluman | B33: : | C33: Peratusan Piagam Pelanggan bagi Kaunter diambil daripada Permohonan lengkap diterima di kaunter sehingga AP dicetak
C34: Peratusan Piagam Pelanggan bagi Online diambil daripada Permohonan diterima sehingga AP diluluskan.
C36: Eksport: Data daripada e-Permit -Dagangnet

Sheet NOV
A1: LAPORAN PENCAPAIAN PIAGAM PELANGGAN BAGI PERMOHONAN IMPORT & EKSPORT
A2: CAWANGAN KUALA LUMPUR BAGI BULAN NOV 2015
A4: Aktiviti Utama Dalam Piagam Pelanggan | B4: Bil. Permohonan | D4: Permohonan Lulus | F4: Permohonan Tolak | H4: Permohonan Diproses | L4: Workflow & Status | N4: Slip Batal | O4: Belum Cetak | Q4: % Capaian Piagam
B5: A | C5: B | D5: C | E5: D | F5: E | G5: F | H5: G | I5: H | J5: I | K5: J | L5: K | M5: L | N5: M | O5: N | P5: O | Q5: P = (G +H)/A x 100 | R5: Q =(I+J)/ B x 100
A6: Produk | B6: Kaunter | C6: Online | D6: Kaunter | E6: Online | F6: Kaunter | G6: Online | H6: Kaunter (7 Hari Bekerja) | I6: Kaunter Reject (7 hari bekerja) | J6: Online (5 Hari Bekerja) | K6: Online Reject (5 hari bekerja) | L6: Kaunter | M6: Online | N6: Bil. | O6: Kaunter | P6: Online | Q6: Kaunter | R6: Online
A7: IMPORT
A8: Kenderaan Berkuota | B8: =[1]OKT!B8 -> 3 | C8: 5154 | D8: 5 | E8: 7440 | F8: 0 | G8: 313 | H8: 1 | I8: 0 | J8: 4399 | K8: 217 | L8: 0 | M8: 0 | N8: 1 | O8: 0 | P8: 40 | Q8: =IF(B8=0,0,(H8+I8)/B8*100) -> 33.333333 | R8: =IF(C8=0,0,(J8+K8)/C8*100) -> 89.561506
A9: Ken. Luar Kuota | B9: =[1]OKT!B9 -> 125 | C9: 1834 | D9: 76 | E9: 3085 | F9: 0 | G9: 315 | H9: 114 | I9: 1 | J9: 1799 | K9: 146 | L9: 0 | M9: 0 | N9: 0 | O9: 0 | P9: 16 | Q9: =IF(B9=0,0,(H9+I9)/B9*100) -> 92 | R9: =IF(C9=0,0,(J9+K9)/C9*100) -> 106.05234
A10: Ken. Persendirian | B10: =[1]OKT!B10 -> 95 | C10: 0 | D10: 71 | E10: 0 | F10: 0 | G10: 0 | H10: 65 | I10: 2 | J10: 0 | K10: 0 | L10: 4 | M10: 0 | N10: 5 | O10: 0 | P10: 0 | Q10: =IF(B10=0,0,(H10+I10)/B10*100) -> 70.526316 | R10: =IF(C10=0,0,(J10+K10)/C10*100) -> 0
A11: Jentera & Alat Ganti | B11: =[1]OKT!B11 -> 2 | C11: 111 | D11: 38 | E11: 151 | F11: 0 | G11: 79 | H11: 2 | I11: 0 | J11: 79 | K11: 25 | L11: 0 | M11: 0 | N11: 0 | O11: 0 | P11: 2 | Q11: =IF(B11=0,0,(H11+H12+H13+I11+I12+I13)/B11*100) -> 100 | R11: =IF(C11=0,0,(J11+K11)/C11*100) -> 93.693694
A12: Prime Mover | C12: 0 | D12: 0 | E12: 0 | F12: 0 | G12: 0 | H12: 0 | I12: 0 | J12: 0 | K12: 0 | L12: 0 | M12: 0 | O12: 0 | P12: 0 | R12: =IF(C12=0,0,(J12+K12)/C12*100) -> 0
A13: Dump Truck | C13: 27 | D13: 0 | E13: 9 | F13: 0 | G13: 12 | H13: 0 | I13: 0 | J13: 18 | K13: 3 | L13: 0 | M13: 0 | O13: 0 | P13: 0 | R13: =IF(C13=0,0,(J13+K13)/C13*100) -> 77.777778
A14: Hot Rolled | B14: =[1]OKT!B14 -> 13 | C14: 188 | D14: 4 | E14: 826 | F14: 0 | G14: 267 | H14: 0 | I14: 0 | J14: 103 | K14: 31 | L14: 0 | M14: 0 | N14: 16 | O14: 0 | P14: 0 | Q14: =IF(B14=0,0,(H14+H15+H16+H17+H18+H19+H20+I14+I15+I16+I17+I18+I19+I20)/B14*100) -> 92.307692 | R14: =IF(C14=0,0,(J14+K14)/C14*100) -> 71.276596
A15: Cold Rolled | C15: 157 | D15: 0 | E15: 297 | F15: 0 | G15: 43 | H15: 7 | I15: 0 | J15: 53 | K15: 21 | L15: 0 | M15: 0 | O15: 0 | P15: 19 | R15: =IF(C15=0,0,(J15+K15)/C15*100) -> 47.133758
A16: Pipe and Tube | C16: 365 | D16: 17 | E16: 900 | F16: 0 | G16: 352 | H16: 0 | I16: 5 | J16: 195 | K16: 112 | L16: 0 | M16: 0 | O16: 0 | P16: 8 | R16: =IF(C16=0,0,(J16+K16)/C16*100) -> 84.109589
A17: Elec. Galvanised | C17: 145 | D17: 6 | E17: 468 | F17: 0 | G17: 153 | H17: 0 | I17: 0 | J17: 59 | K17: 16 | L17: 0 | M17: 0 | O17: 0 | P17: 15 | R17: =IF(C17=0,0,(J17+K17)/C17*100) -> 51.724138
A18: Galvanised Iron | C18: 27 | D18: 0 | E18: 46 | F18: 0 | G18: 18 | H18: 0 | I18: 0 | J18: 12 | K18: 11 | L18: 0 | M18: 0 | O18: 0 | P18: 0 | R18: =IF(C18=0,0,(J18+K18)/C18*100) -> 85.185185
A19: Strip | C19: 29 | D19: 0 | E19: 48 | F19: 0 | G19: 44 | H19: 0 | I19: 0 | J19: 14 | K19: 4 | L19: 0 | M19: 0 | O19: 0 | P19: 1 | R19: =IF(C19=0,0,(J19+K19)/C19*100) -> 62.068966
A20: Besi Keluli | C20: 0 | D20: 0 | E20: 0 | F20: 0 | G20: 1 | H20: 0 | I20: 0 | J20: 0 | K20: 0 | L20: 0 | M20: 0 | O20: 0 | P20: 0 | R20: =IF(C20=0,0,(J20+K20)/C20*100) -> 0
A21: Tepung | B21: =[1]OKT!B22 -> 0 | C21: 107 | D21: 0 | E21: 29 | F21: 0 | G21: 13 | H21: 0 | I21: 0 | J21: 75 | K21: 11 | L21: 0 | M21: 0 | N21: 0 | O21: 0 | P21: 3 | Q21: =IF(B21=0,0,(H21+H22+I21+I22)/B21*100) -> 0 | R21: =IF(C21=0,0,(J21+K21)/C21*100) -> 80.373832
A22: Lain-lain | C22: 88 | D22: 21 | E22: 276 | F22: 0 | G22: 106 | H22: 7 | I22: 0 | J22: 70 | K22: 8 | L22: 1 | M22: 0 | O22: 0 | P22: 5 | R22: =IF(C22=0,0,(J22+K22)/C22*100) -> 88.636364
A23: JUMLAH | B23: =SUM(B8:B22) -> 238 | C23: =SUM(C8:C22) -> 8232 | D23: =SUM(D8:D22) -> 238 | E23: =SUM(E8:E22) -> 13575 | F23: =SUM(F8:F22) -> 0 | G23: =SUM(G8:G22) -> 1716 | H23: =SUM(H8:H22) -> 196 | I23: =SUM(I8:I22) -> 8 | ... P23: =SUM(P8:P22) -> 109 | Q23: =IF(B23=0,0,(H23+I23)/B23*100) -> 85.714286 | R23: =IF(C23=0,0,(J23+K23)/C23*100) -> 90.877065
A24: =A4 -> Aktiviti Utama Dalam Piagam Pelanggan | B24: =B4 -> Bil. Permohonan | D24: =D4 -> Permohonan Lulus | F24: =F4 -> Permohonan Tolak | H24: Permohonan Diproses | L24: =L4 -> Workflow & Status | N24: =N4 -> Slip Batal | O24: =O4 -> Belum Cetak | Q24: =Q4 -> % Capaian Piagam
B25: A | C25: B | D25: C | E25: D | F25: E | G25: F | H25: G | I25: H | J25: I | K25: J | L25: K | M25: L | N25: M | O25: N | P25: O | Q25: P = (G +H)/A x 100 | R25: Q =(I+J)/ B x 100
A26: =A6 -> Produk | B26: =B6 -> Kaunter | C26: =C6 -> Online | D26: =D6 -> Kaunter | E26: =E6 -> Online | F26: =F6 -> Kaunter | G26: =G6 -> Online | H26: Kaunter (7 Hari Bekerja) | I26: Kaunter Reject (7 hari bekerja) | J26: Online (5 Hari Bekerja) | K26: Online Reject (5 hari bekerja) | L26: =L6 -> Kaunter | M26: =M6 -> Online | N26: =N6 -> Bil. | O26: =O6 -> Kaunter | P26: =P6 -> Online | Q26: =Q6 -> Kaunter | R26: =R6 -> Online
A27: EKSPORT
A28: Besi Keluli (Long Product) | B28: 0 | C28: 0 | D28: 0 | F28: 0 | G28: 0 | H28: 0 | I28: 0 | J28: 0 | K28: 0 | L28: 0 | M28: 0 | N28: 0 | O28: 0 | P28: 0 | Q28: =IF(B28=0,0,(H28+H29+#REF!+#REF!+#REF!+H30+#REF!+I28+I29+#REF!+#REF!+#REF!+I30+#REF!)/B28*100) -> 0 | R28: =IF(C28=0,0,(J28+K28)/C28*100) -> 0
A29: Scrap | C29: 78 | D29: 0 | E29: 76 | F29: 0 | G29: 2 | H29: 0 | I29: 0 | J29: 76 | K29: 2 | L29: 0 | M29: 0 | O29: 0 | P29: 0 | R29: =IF(C29=0,0,(J29+K29)/C29*100) -> 100
A30: Lain-lain | C30: 40 | D30: 0 | E30: 25 | F30: 0 | G30: 15 | H30: 0 | I30: 0 | J30: 25 | K30: 15 | L30: 0 | M30: 0 | O30: 0 | P30: 0 | R30: =IF(C30=0,0,(J30+K30)/C30*100) -> 100
A31: JUMLAH | B31: 0 | C31: =SUM(C28:C30) -> 118 | D31: =SUM(D28:D30) -> 0 | E31: =SUM(E28:E30) -> 101 | F31: =SUM(F28:F30) -> 0 | G31: =SUM(G28:G30) -> 17 | H31: =SUM(H28:H30) -> 0 | I31: =SUM(I28:I30) -> 0 | J31: =SUM(J28:J30) -> 101 | ... P31: =SUM(P28:P30) -> 0 | Q31: =IF(B31=0,0,(H31+I31)/B31*100) -> 0 | R31: =IF(C31=0,0,(J31+K31)/C31*100) -> 100
A34: Makluman | B34: : | C34: Peratusan Piagam Pelanggan bagi Kaunter diambil daripada Permohonan lengkap diterima di kaunter sehingga AP dicetak
C35: Peratusan Piagam Pelanggan bagi Online diambil daripada Permohonan diterima sehingga AP diluluskan.
C37: Eksport: Data daripada e-Permit -Dagangnet

Sheet DIS
A1: LAPORAN PENCAPAIAN PIAGAM PELANGGAN BAGI PERMOHONAN IMPORT & EKSPORT
A2: CAWANGAN KUALA LUMPUR BAGI BULAN DISEMBER 2015
A4: Aktiviti Utama Dalam Piagam Pelanggan | B4: Bil. Permohonan | D4: Permohonan Lulus | F4: Permohonan Tolak | H4: Permohonan Diproses | L4: Workflow & Status | N4: Slip Batal | O4: Belum Cetak | Q4: % Capaian Piagam
B5: A | C5: B | D5: C | E5: D | F5: E | G5: F | H5: G | I5: H | J5: I | K5: J | L5: K | M5: L | N5: M | O5: N | P5: O | Q5: P = (G +H)/A x 100 | R5: Q =(I+J)/ B x 100
A6: Produk | B6: Kaunter | C6: Online | D6: Kaunter | E6: Online | F6: Kaunter | G6: Online | H6: Kaunter (7 Hari Bekerja) | I6: Kaunter Reject (7 hari bekerja) | J6: Online (5 Hari Bekerja) | K6: Online Reject (5 hari bekerja) | L6: Kaunter | M6: Online | N6: Bil. | O6: Kaunter | P6: Online | Q6: Kaunter | R6: Online
A7: IMPORT
A8: Kenderaan Berkuota | B8: 32 | C8: 5355 | H8: 1 | I8: 0 | J8: 4860 | K8: 216 | L8: 0 | M8: 0 | N8: 73 | O8: 0 | P8: 116 | Q8: =IF(B8=0,0,(I8+I8)/B8*100) -> 0 | R8: =IF(C8=0,0,(J8+K8)/C8*100) -> 94.789916
A9: Ken. Luar Kuota | B9: 96 | C9: 3449 | H9: 94 | I9: 0 | J9: 3028 | K9: 97 | L9: 0 | M9: 7 | O9: 0 | P9: 64 | Q9: =IF(B9=0,0,(H9+I9)/B9*100) -> 97.916667 | R9: =IF(C9=0,0,(J9+K9)/C9*100) -> 90.605973
A10: Ken. Persendirian | B10: 86 | C10: 0 | H10: 53 | I10: 2 | J10: 0 | K10: 0 | L10: 0 | M10: 0 | N10: 1 | O10: 8 | P10: 0 | Q10: =IF(B10=0,0,(H10+I10)/B10*100) -> 63.953488 | R10: =IF(C10=0,0,(J10+K10)/C10*100) -> 0
A11: Jentera & Alat Ganti | B11: 10 | C11: 117 | H11: 8 | I11: 0 | J11: 64 | K11: 40 | L11: 0 | M11: 0 | O11: 0 | P11: 0 | Q11: =IF(B11=0,0,(H11+H12+H13+I11+I12+I13)/B11*100) -> 80 | R11: =IF(C11=0,0,(J11+K11)/C11*100) -> 88.888889
A12: Prime Mover | C12: 0 | H12: 0 | I12: 0 | J12: 0 | K12: 0 | L12: 0 | M12: 0 | O12: 0 | P12: 0 | R12: =IF(C12=0,0,(J12+K12)/C12*100) -> 0
A13: Dump Truck | C13: 25 | H13: 0 | I13: 0 | J13: 8 | K13: 17 | L13: 0 | M13: 0 | O13: 0 | P13: 0 | R13: =IF(C13=0,0,(J13+K13)/C13*100) -> 100
A14: Hot Rolled | B14: 39 | C14: 433 | H14: 19 | I14: 0 | J14: 329 | K14: 56 | L14: 0 | M14: 0 | N14: 22 | O14: 0 | P14: 13 | Q14: =IF(B14=0,0,(H14+H15+H16+H17+H18+H19+H20+I14+I15+I16+I17+I18+I19+I20)/B14*100) -> 64.102564 | R14: =IF(C14=0,0,(J14+K14)/C14*100) -> 88.91455
A15: Cold Rolled | C15: 230 | H15: 0 | I15: 0 | J15: 166 | K15: 36 | L15: 0 | M15: 0 | O15: 0 | P15: 3 | R15: =IF(C15=0,0,(J15+K15)/C15*100) -> 87.826087
A16: Pipe and Tube | C16: 454 | H16: 3 | I16: 0 | J16: 279 | K16: 127 | L16: 0 | M16: 7 | O16: 0 | P16: 13 | R16: =IF(C16=0,0,(J16+K16)/C16*100) -> 89.427313
A17: Elec. Galvanised | C17: 364 | H17: 0 | I17: 0 | J17: 210 | K17: 81 | L17: 0 | M17: 0 | O17: 0 | P17: 3 | R17: =IF(C17=0,0,(J17+K17)/C17*100) -> 79.945055
A18: Galvanised Iron | C18: 31 | H18: 2 | I18: 1 | J18: 20 | K18: 7 | L18: 0 | M18: 0 | O18: 0 | P18: 0 | R18: =IF(C18=0,0,(J18+K18)/C18*100) -> 87.096774
A19: Strip | C19: 58 | H19: 0 | I19: 0 | J19: 13 | K19: 41 | L19: 0 | M19: 0 | O19: 0 | P19: 2 | R19: =IF(C19=0,0,(J19+K19)/C19*100) -> 93.103448
A20: Besi Keluli | C20: 0 | H20: 0 | I20: 0 | J20: 0 | K20: 0 | L20: 0 | M20: 0 | O20: 0 | P20: 0 | R20: =IF(C20=0,0,(J20+K20)/C20*100) -> 0
A21: Tepung | B21: 5 | C21: 53 | H21: 0 | I21: 0 | J21: 38 | K21: 12 | L21: 0 | M21: 0 | N21: 1 | O21: 0 | P21: 4 | Q21: =IF(B21=0,0,(H21+H22+I21+I22)/B21*100) -> 100 | R21: =IF(C21=0,0,(J21+K21)/C21*100) -> 94.339623
A22: Lain-lain | C22: 153 | H22: 5 | I22: 0 | J22: 106 | K22: 29 | L22: 0 | M22: 1 | O22: 0 | P22: 7 | R22: =IF(C22=0,0,(J22+K22)/C22*100) -> 88.235294
A23: JUMLAH | B23: =SUM(B7:B22) -> 268 | C23: =SUM(C8:C22) -> 10722 | H23: =SUM(H8:H22) -> 185 | I23: =SUM(I8:I22) -> 3 | J23: =SUM(J8:J22) -> 9121 | K23: =SUM(K8:K22) -> 759 | L23: =SUM(L8:L22) -> 0 | M23: =SUM(M8:M22) -> 15 | N23: =SUM(N8:N22) -> 97 | O23: =SUM(O8:O22) -> 8 | P23: =SUM(P8:P22) -> 225 | Q23: =IF(B23=0,0,(H23+I23)/B23*100) -> 70.149254 | R23: =IF(C23=0,0,(J23+K23)/C23*100) -> 92.146988
A24: =A4 -> Aktiviti Utama Dalam Piagam Pelanggan | B24: =B4 -> Bil. Permohonan | D24: =D4 -> Permohonan Lulus | F24: =F4 -> Permohonan Tolak | H24: Permohonan Diproses | L24: =L4 -> Workflow & Status | N24: =N4 -> Slip Batal | O24: =O4 -> Belum Cetak | Q24: =Q4 -> % Capaian Piagam
B25: A | C25: B | D25: C | E25: D | F25: E | G25: F | H25: G | I25: H | J25: I | K25: J | L25: K | M25: L | N25: M | O25: N | P25: O | Q25: P = (G +H)/A x 100 | R25: Q =(I+J)/ B x 100
A26: =A6 -> Produk | B26: =B6 -> Kaunter | C26: =C6 -> Online | D26: =D6 -> Kaunter | E26: =E6 -> Online | F26: =F6 -> Kaunter | G26: =G6 -> Online | H26: Kaunter (7 Hari Bekerja) | I26: Kaunter Reject (7 hari bekerja) | J26: Online (5 Hari Bekerja) | K26: Online Reject (5 hari bekerja) | L26: =L6 -> Kaunter | M26: =M6 -> Online | N26: =N6 -> Bil. | O26: =O6 -> Kaunter | P26: =P6 -> Online | Q26: =Q6 -> Kaunter | R26: =R6 -> Online
A27: EKSPORT
A28: Besi Keluli (Long Product) | B28: 0 | C28: 0 | D28: 0 | E28: 0 | F28: 0 | G28: 0 | H28: 0 | I28: 0 | J28: 0 | K28: 0 | L28: 0 | M28: 0 | N28: 0 | O28: 0 | P28: 0 | Q28: =IF(B28=0,0,(H28+H29+#REF!+#REF!+#REF!+H30+#REF!+I28+I29+#REF!+#REF!+#REF!+I30+#REF!)/B28*100) -> 0 | R28: =IF(C28=0,0,(J28+K28)/C28*100) -> 0
A29: Scrap | C29: 113 | D29: 0 | E29: 56 | F29: 0 | G29: 1 | H29: 0 | I29: 0 | J29: 98 | K29: 15 | L29: 0 | M29: 0 | O29: 0 | P29: 0 | R29: =IF(C29=0,0,(J29+K29)/C29*100) -> 100
A30: Lain-lain | D30: 0 | E30: 21 | F30: 0 | G30: 0 | H30: 0 | I30: 0 | J30: 0 | K30: 0 | L30: 0 | M30: 0 | O30: 0 | P30: 0 | R30: =IF(C30=0,0,(J30+K30)/C30*100) -> 0
A31: JUMLAH | B31: =SUM(B28:B30) -> 0 | C31: =SUM(C28:C30) -> 113 | D31: =SUM(D28:D30) -> 0 | E31: =SUM(E28:E30) -> 77 | F31: =SUM(F28:F30) -> 0 | G31: =SUM(G28:G30) -> 1 | H31: =SUM(H28:H30) -> 0 | I31: =SUM(I28:I30) -> 0 | ... P31: =SUM(P28:P30) -> 0 | Q31: =IF(B31=0,0,(H31+I31)/B31*100) -> 0 | R31: =IF(C31=0,0,(J31+K31)/C31*100) -> 100
A32: Makluman | B32: : | C32: Peratusan Piagam Pelanggan bagi Kaunter diambil daripada Permohonan lengkap diterima di kaunter sehingga AP dicetak
C33: Peratusan Piagam Pelanggan bagi Online diambil daripada Permohonan diterima sehingga AP diluluskan.
C35: Eksport: Data daripada e-Permit -Dagangnet

Sheet full 2015
A1: LAPORAN PENCAPAIAN PIAGAM PELANGGAN BAGI PERMOHONAN IMPORT & EKSPORT
A2: CAWANGAN KUALA LUMPUR BAGI KESELURUHAN TAHUN 2015
A4: Aktiviti Utama Dalam Piagam Pelanggan | B4: Bil. Permohonan | D4: Permohonan Lulus | F4: Permohonan Tolak | H4: Permohonan Diproses | L4: Workflow & Status | N4: Slip Batal | O4: Belum Cetak | Q4: % Capaian Piagam
B5: A | C5: B | D5: C | E5: D | F5: E | G5: F | H5: G | I5: H | J5: I | K5: J | L5: K | M5: L | N5: M | O5: N | P5: O | Q5: P = (G +H)/A x 100 | R5: Q =(I+J)/ B x 100
A6: Produk | B6: Kaunter | C6: Online | D6: Kaunter | E6: Online | F6: Kaunter | G6: Online | H6: Kaunter (7 Hari Bekerja) | I6: Kaunter Reject (7 hari bekerja) | J6: Online (5 Hari Bekerja) | K6: Online Reject (5 hari bekerja) | L6: Kaunter | M6: Online | N6: Bil. | O6: Kaunter | P6: Online | Q6: Kaunter | R6: Online
A7: IMPORT
A8: Kenderaan Berkuota | B8: =SUM(JAN!B8+FEB!B8+MAC!B8+APRIL!B8+MEI!B8+JUN!B8+JULAI!B8+OGOS!B8+SEPT!B8+OKT!B8+NOV!B8+DIS!B8) -> 1682 | C8: =SUM(JAN!C8+FEB!C8+MAC!C8+APRIL!C8+MEI!C8+JUN!C8+JULAI!C8+OGOS!C8+SEPT!C8+OKT!C8+NOV!C8+DIS!C8) -> 111479 | D8: =SUM(JAN!D8+FEB!D8+MAC!D8+APRIL!D8+MEI!D8+JUN!D8+JULAI!D8+OGOS!D8+SEPT!D8+OKT!D8+NOV!D8+DIS!D8) -> 20 | E8: =SUM(JAN!E8+FEB!E8+MAC!E8+APRIL!E8+MEI!E8+JUN!E8+JULAI!E8+OGOS!E8+SEPT!E8+OKT!E8+NOV!E8+DIS!E8) -> 23198 | F8: =SUM(JAN!F8+FEB!F8+MAC!F8+APRIL!F8+MEI!F8+JUN!F8+JULAI!F8+OGOS!F8+SEPT!F8+OKT!F8+NOV!F8+DIS!F8) -> 0 | G8: =SUM(JAN!G8+FEB!G8+MAC!G8+APRIL!G8+MEI!G8+JUN!G8+JULAI!G8+OGOS!G8+SEPT!G8+OKT!G8+NOV!G8+DIS!G8) -> 1338 | H8: =SUM(JAN!H8+FEB!H8+MAC!H8+APRIL!H8+MEI!H8+JUN!H8+JULAI!H8+OGOS!H8+SEPT!H8+OKT!H8+NOV!H8+DIS!H8) -> 25 | I8: =SUM(JAN!I8+FEB!I8+MAC!I8+APRIL!I8+MEI!I8+JUN!I8+JULAI!I8+OGOS!I8+SEPT!I8+OKT!I8+NOV!I8+DIS!I8) -> 1 | ... K8: =SUM(JAN!K8+FEB!K8+MAC!K8+APRIL!K8+MEI!K8+JUN!K8+JULAI!K8+OGOS!K8+SEPT!K8+OKT!K8+NOV!K8+DIS!K8) -> 3547 | L8: =SUM(JAN!L8)+(FEB!L8)+(MAC!L8)+(APRIL!L8)+(MEI!L8)+JUN!L8+JULAI!L8+OGOS!L8+SEPT!L8+OKT!L8+NOV!L8+DIS!L8 -> 0 | M8: =SUM(JAN!M8)+(FEB!M8)+(MAC!M8)+(APRIL!M8)+(MEI!M8)+JUN!M8+JULAI!M8+OGOS!M8+SEPT!M8+OKT!M8+NOV!M8+DIS!M8 -> 3 | N8: =SUM(JAN!N8)+(FEB!N8)+(MAC!N8)+(APRIL!N8)+(MEI!N8)+JUN!N8+JULAI!N8+OGOS!N8+SEPT!N8+OKT!N8+NOV!N8+DIS!N8 -> 141 | O8: =SUM(JAN!O8)+(FEB!O8)+(MAC!O8)+(APRIL!O8)+(MEI!O8)+JUN!O8+JULAI!O8+OGOS!O8+SEPT!O8+OKT!O8+NOV!O8+DIS!O8 -> 1 | P8: =SUM(JAN!P8)+(FEB!P8)+(MAC!P8)+(APRIL!P8)+(MEI!P8)+JUN!P8+JULAI!P8+OGOS!P8+SEPT!P8+OKT!P8+NOV!P8+DIS!P8 -> 792 | Q8: =IF(B8=0,0,(H8+I8)/B8*100) -> 1.5457788 | R8: =IF(C8=0,0,(J8+K8)/C8*100) -> 87.892787
A9: Ken. Luar Kuota | B9: =SUM(JAN!B9+FEB!B9+MAC!B9+APRIL!B9+MEI!B9+JUN!B9+JULAI!B9+OGOS!B9+SEPT!B9+OKT!B9+NOV!B9+DIS!B9) -> 1090 | C9: =SUM(JAN!C9+FEB!C9+MAC!C9+APRIL!C9+MEI!C9+JUN!C9+JULAI!C9+OGOS!C9+SEPT!C9+OKT!C9+NOV!C9+DIS!C9) -> 25322 | D9: =SUM(JAN!D9+FEB!D9+MAC!D9+APRIL!D9+MEI!D9+JUN!D9+JULAI!D9+OGOS!D9+SEPT!D9+OKT!D9+NOV!D9+DIS!D9) -> 227 | E9: =SUM(JAN!E9+FEB!E9+MAC!E9+APRIL!E9+MEI!E9+JUN!E9+JULAI!E9+OGOS!E9+SEPT!E9+OKT!E9+NOV!E9+DIS!E9) -> 4817 | F9: =SUM(JAN!F9+FEB!F9+MAC!F9+APRIL!F9+MEI!F9+JUN!F9+JULAI!F9+OGOS!F9+SEPT!F9+OKT!F9+NOV!F9+DIS!F9) -> 6 | G9: =SUM(JAN!G9+FEB!G9+MAC!G9+APRIL!G9+MEI!G9+JUN!G9+JULAI!G9+OGOS!G9+SEPT!G9+OKT!G9+NOV!G9+DIS!G9) -> 485 | H9: =SUM(JAN!H9+FEB!H9+MAC!H9+APRIL!H9+MEI!H9+JUN!H9+JULAI!H9+OGOS!H9+SEPT!H9+OKT!H9+NOV!H9+DIS!H9) -> 872 | I9: =SUM(JAN!I9+FEB!I9+MAC!I9+APRIL!I9+MEI!I9+JUN!I9+JULAI!I9+OGOS!I9+SEPT!I9+OKT!I9+NOV!I9+DIS!I9) -> 56 | ... K9: =SUM(JAN!K9+FEB!K9+MAC!K9+APRIL!K9+MEI!K9+JUN!K9+JULAI!K9+OGOS!K9+SEPT!K9+OKT!K9+NOV!K9+DIS!K9) -> 1261 | L9: =SUM(JAN!L9)+(FEB!L9)+(MAC!L9)+(APRIL!L9)+(MEI!L9)+JUN!L9+JULAI!L9+OGOS!L9+SEPT!L9+OKT!L9+NOV!L9+DIS!L9 -> 3 | M9: =SUM(JAN!M9)+(FEB!M9)+(MAC!M9)+(APRIL!M9)+(MEI!M9)+JUN!M9+JULAI!M9+OGOS!M9+SEPT!M9+OKT!M9+NOV!M9+DIS!M9 -> 48 | N9: =SUM(JAN!N9)+(FEB!N9)+(MAC!N9)+(APRIL!N9)+(MEI!N9)+JUN!N9+JULAI!N9+OGOS!N9+SEPT!N9+OKT!N9+NOV!N9+DIS!N9 -> 70 | O9: =SUM(JAN!O9)+(FEB!O9)+(MAC!O9)+(APRIL!O9)+(MEI!O9)+JUN!O9+JULAI!O9+OGOS!O9+SEPT!O9+OKT!O9+NOV!O9+DIS!O9 -> 3 | P9: =SUM(JAN!P9)+(FEB!P9)+(MAC!P9)+(APRIL!P9)+(MEI!P9)+JUN!P9+JULAI!P9+OGOS!P9+SEPT!P9+OKT!P9+NOV!P9+DIS!P9 -> 203 | Q9: =IF(B9=0,0,(H9+I9)/B9*100) -> 85.137615 | R9: =IF(C9=0,0,(J9+K9)/C9*100) -> 92.413711
A10: Ken. Persendirian | B10: =SUM(JAN!B10+FEB!B10+MAC!B10+APRIL!B10+MEI!B10+JUN!B10+JULAI!B10+OGOS!B10+SEPT!B10+OKT!B10+NOV!B10+DIS!B10) -> 1267 | C10: =SUM(JAN!C10+FEB!C10+MAC!C10+APRIL!C10+MEI!C10+JUN!C10+JULAI!C10+OGOS!C10+SEPT!C10+OKT!C10+NOV!C10+DIS!C10) -> 0 | D10: =SUM(JAN!D10+FEB!D10+MAC!D10+APRIL!D10+MEI!D10+JUN!D10+JULAI!D10+OGOS!D10+SEPT!D10+OKT!D10+NOV!D10+DIS!D10) -> 230 | E10: =SUM(JAN!E10+FEB!E10+MAC!E10+APRIL!E10+MEI!E10+JUN!E10+JULAI!E10+OGOS!E10+SEPT!E10+OKT!E10+NOV!E10+DIS!E10) -> 0 | F10: =SUM(JAN!F10+FEB!F10+MAC!F10+APRIL!F10+MEI!F10+JUN!F10+JULAI!F10+OGOS!F10+SEPT!F10+OKT!F10+NOV!F10+DIS!F10) -> 35 | G10: =SUM(JAN!G10+FEB!G10+MAC!G10+APRIL!G10+MEI!G10+JUN!G10+JULAI!G10+OGOS!G10+SEPT!G10+OKT!G10+NOV!G10+DIS!G10) -> 0 | H10: =SUM(JAN!H10+FEB!H10+MAC!H10+APRIL!H10+MEI!H10+JUN!H10+JULAI!H10+OGOS!H10+SEPT!H10+OKT!H10+NOV!H10+DIS!H10) -> 798 | I10: =SUM(JAN!I10+FEB!I10+MAC!I10+APRIL!I10+MEI!I10+JUN!I10+JULAI!I10+OGOS!I10+SEPT!I10+OKT!I10+NOV!I10+DIS!I10) -> 66 | ... K10: =SUM(JAN!K10+FEB!K10+MAC!K10+APRIL!K10+MEI!K10+JUN!K10+JULAI!K10+OGOS!K10+SEPT!K10+OKT!K10+NOV!K10+DIS!K10) -> 0 | L10: =SUM(JAN!L10)+(FEB!L10)+(MAC!L10)+(APRIL!L10)+(MEI!L10)+JUN!L10+JULAI!L10+OGOS!L10+SEPT!L10+OKT!L10+NOV!L10+DIS!L10 -> 23 | M10: =SUM(JAN!M10)+(FEB!M10)+(MAC!M10)+(APRIL!M10)+(MEI!M10)+JUN!M10+JULAI!M10+OGOS!M10+SEPT!M10+OKT!M10+NOV!M10+DIS!M10 -> 0 | N10: =SUM(JAN!N10)+(FEB!N10)+(MAC!N10)+(APRIL!N10)+(MEI!N10)+JUN!N10+JULAI!N10+OGOS!N10+SEPT!N10+OKT!N10+NOV!N10+DIS!N10 -> 15 | O10: =SUM(JAN!O10)+(FEB!O10)+(MAC!O10)+(APRIL!O10)+(MEI!O10)+JUN!O10+JULAI!O10+OGOS!O10+SEPT!O10+OKT!O10+NOV!O10+DIS!O10 -> 12 | P10: =SUM(JAN!P10)+(FEB!P10)+(MAC!P10)+(APRIL!P10)+(MEI!P10)+JUN!P10+JULAI!P10+OGOS!P10+SEPT!P10+OKT!P10+NOV!P10+DIS!P10 -> 0 | Q10: =IF(B10=0,0,(H10+I10)/B10*100) -> 68.192581 | R10: =IF(C10=0,0,(J10+K10)/C10*100) -> 0
A11: Jentera & Alat Ganti | B11: =SUM(JAN!B11+FEB!B11+MAC!B11+APRIL!B11+MEI!B11+JUN!B11+JULAI!B11+OGOS!B11+SEPT!B11+OKT!B11+NOV!B11+DIS!B11) -> 239 | C11: =SUM(JAN!C11+FEB!C11+MAC!C11+APRIL!C11+MEI!C11+JUN!C11+JULAI!C11+OGOS!C11+SEPT!C11+OKT!C11+NOV!C11+DIS!C11) -> 2024 | D11: =SUM(JAN!D11+FEB!D11+MAC!D11+APRIL!D11+MEI!D11+JUN!D11+JULAI!D11+OGOS!D11+SEPT!D11+OKT!D11+NOV!D11+DIS!D11) -> 52 | E11: =SUM(JAN!E11+FEB!E11+MAC!E11+APRIL!E11+MEI!E11+JUN!E11+JULAI!E11+OGOS!E11+SEPT!E11+OKT!E11+NOV!E11+DIS!E11) -> 328 | F11: =SUM(JAN!F11+FEB!F11+MAC!F11+APRIL!F11+MEI!F11+JUN!F11+JULAI!F11+OGOS!F11+SEPT!F11+OKT!F11+NOV!F11+DIS!F11) -> 3 | G11: =SUM(JAN!G11+FEB!G11+MAC!G11+APRIL!G11+MEI!G11+JUN!G11+JULAI!G11+OGOS!G11+SEPT!G11+OKT!G11+NOV!G11+DIS!G11) -> 187 | H11: =SUM(JAN!H11+FEB!H11+MAC!H11+APRIL!H11+MEI!H11+JUN!H11+JULAI!H11+OGOS!H11+SEPT!H11+OKT!H11+NOV!H11+DIS!H11) -> 100 | I11: =SUM(JAN!I11+FEB!I11+MAC!I11+APRIL!I11+MEI!I11+JUN!I11+JULAI!I11+OGOS!I11+SEPT!I11+OKT!I11+NOV!I11+DIS!I11) -> 10 | ... K11: =SUM(JAN!K11+FEB!K11+MAC!K11+APRIL!K11+MEI!K11+JUN!K11+JULAI!K11+OGOS!K11+SEPT!K11+OKT!K11+NOV!K11+DIS!K11) -> 488 | L11: =SUM(JAN!L11)+(FEB!L11)+(MAC!L11)+(APRIL!L11)+(MEI!L11)+JUN!L11+JULAI!L11+OGOS!L11+SEPT!L11+OKT!L11+NOV!L11+DIS!L11 -> 0 | M11: =SUM(JAN!M11)+(FEB!M11)+(MAC!M11)+(APRIL!M11)+(MEI!M11)+JUN!M11+JULAI!M11+OGOS!M11+SEPT!M11+OKT!M11+NOV!M11+DIS!M11 -> 0 | N11: =SUM(JAN!N11)+(FEB!N11)+(MAC!N11)+(APRIL!N11)+(MEI!N11)+JUN!N11+JULAI!N11+OGOS!N11+SEPT!N11+OKT!N11+NOV!N11+DIS!N11 -> 1 | O11: =SUM(JAN!O11)+(FEB!O11)+(MAC!O11)+(APRIL!O11)+(MEI!O11)+JUN!O11+JULAI!O11+OGOS!O11+SEPT!O11+OKT!O11+NOV!O11+DIS!O11 -> 0 | P11: =SUM(JAN!P11)+(FEB!P11)+(MAC!P11)+(APRIL!P11)+(MEI!P11)+JUN!P11+JULAI!P11+OGOS!P11+SEPT!P11+OKT!P11+NOV!P11+DIS!P11 -> 16 | Q11: =IF(B11=0,0,(H11+H12+H13+I11+I12+I13)/B11*100) -> 92.887029 | R11: =IF(C11=0,0,(J11+K11)/C11*100) -> 92.539526
A12: Prime Mover | B12: =SUM(JAN!B12+FEB!B12+MAC!B12+APRIL!B12+MEI!B12+JUN!B12+JULAI!B12+OGOS!B12+SEPT!B12+OKT!B12+NOV!B12+DIS!B12) -> 0 | C12: =SUM(JAN!C12+FEB!C12+MAC!C12+APRIL!C12+MEI!C12+JUN!C12+JULAI!C12+OGOS!C12+SEPT!C12+OKT!C12+NOV!C12+DIS!C12) -> 0 | D12: =SUM(JAN!D12+FEB!D12+MAC!D12+APRIL!D12+MEI!D12+JUN!D12+JULAI!D12+OGOS!D12+SEPT!D12+OKT!D12+NOV!D12+DIS!D12) -> 0 | E12: =SUM(JAN!E12+FEB!E12+MAC!E12+APRIL!E12+MEI!E12+JUN!E12+JULAI!E12+OGOS!E12+SEPT!E12+OKT!E12+NOV!E12+DIS!E12) -> 0 | F12: =SUM(JAN!F12+FEB!F12+MAC!F12+APRIL!F12+MEI!F12+JUN!F12+JULAI!F12+OGOS!F12+SEPT!F12+OKT!F12+NOV!F12+DIS!F12) -> 0 | G12: =SUM(JAN!G12+FEB!G12+MAC!G12+APRIL!G12+MEI!G12+JUN!G12+JULAI!G12+OGOS!G12+SEPT!G12+OKT!G12+NOV!G12+DIS!G12) -> 0 | H12: =SUM(JAN!H12+FEB!H12+MAC!H12+APRIL!H12+MEI!H12+JUN!H12+JULAI!H12+OGOS!H12+SEPT!H12+OKT!H12+NOV!H12+DIS!H12) -> 0 | I12: =SUM(JAN!I12+FEB!I12+MAC!I12+APRIL!I12+MEI!I12+JUN!I12+JULAI!I12+OGOS!I12+SEPT!I12+OKT!I12+NOV!I12+DIS!I12) -> 0 | ... K12: =SUM(JAN!K12+FEB!K12+MAC!K12+APRIL!K12+MEI!K12+JUN!K12+JULAI!K12+OGOS!K12+SEPT!K12+OKT!K12+NOV!K12+DIS!K12) -> 0 | L12: =SUM(JAN!L12)+(FEB!L12)+(MAC!L12)+(APRIL!L12)+(MEI!L12)+JUN!L12+JULAI!L12+OGOS!L12+SEPT!L12+OKT!L12+NOV!L12+DIS!L12 -> 0 | M12: =SUM(JAN!M12)+(FEB!M12)+(MAC!M12)+(APRIL!M12)+(MEI!M12)+JUN!M12+JULAI!M12+OGOS!M12+SEPT!M12+OKT!M12+NOV!M12+DIS!M12 -> 0 | N12: =SUM(JAN!N12)+(FEB!N12)+(MAC!N12)+(APRIL!N12)+(MEI!N12)+JUN!N12+JULAI!N12+OGOS!N12+SEPT!N12+OKT!N12+NOV!N12+DIS!N12 -> 0 | O12: =SUM(JAN!O12)+(FEB!O12)+(MAC!O12)+(APRIL!O12)+(MEI!O12)+JUN!O12+JULAI!O12+OGOS!O12+SEPT!O12+OKT!O12+NOV!O12+DIS!O12 -> 0 | P12: =SUM(JAN!P12)+(FEB!P12)+(MAC!P12)+(APRIL!P12)+(MEI!P12)+JUN!P12+JULAI!P12+OGOS!P12+SEPT!P12+OKT!P12+NOV!P12+DIS!P12 -> 0 | R12: =IF(C12=0,0,(J12+K12)/C12*100) -> 0
A13: Dump Truck | B13: =SUM(JAN!B13+FEB!B13+MAC!B13+APRIL!B13+MEI!B13+JUN!B13+JULAI!B13+OGOS!B13+SEPT!B13+OKT!B13+NOV!B13+DIS!B13) -> 0 | C13: =SUM(JAN!C13+FEB!C13+MAC!C13+APRIL!C13+MEI!C13+JUN!C13+JULAI!C13+OGOS!C13+SEPT!C13+OKT!C13+NOV!C13+DIS!C13) -> 451 | D13: =SUM(JAN!D13+FEB!D13+MAC!D13+APRIL!D13+MEI!D13+JUN!D13+JULAI!D13+OGOS!D13+SEPT!D13+OKT!D13+NOV!D13+DIS!D13) -> 0 | E13: =SUM(JAN!E13+FEB!E13+MAC!E13+APRIL!E13+MEI!E13+JUN!E13+JULAI!E13+OGOS!E13+SEPT!E13+OKT!E13+NOV!E13+DIS!E13) -> 20 | F13: =SUM(JAN!F13+FEB!F13+MAC!F13+APRIL!F13+MEI!F13+JUN!F13+JULAI!F13+OGOS!F13+SEPT!F13+OKT!F13+NOV!F13+DIS!F13) -> 0 | G13: =SUM(JAN!G13+FEB!G13+MAC!G13+APRIL!G13+MEI!G13+JUN!G13+JULAI!G13+OGOS!G13+SEPT!G13+OKT!G13+NOV!G13+DIS!G13) -> 30 | H13: =SUM(JAN!H13+FEB!H13+MAC!H13+APRIL!H13+MEI!H13+JUN!H13+JULAI!H13+OGOS!H13+SEPT!H13+OKT!H13+NOV!H13+DIS!H13) -> 59 | I13: =SUM(JAN!I13+FEB!I13+MAC!I13+APRIL!I13+MEI!I13+JUN!I13+JULAI!I13+OGOS!I13+SEPT!I13+OKT!I13+NOV!I13+DIS!I13) -> 53 | ... K13: =SUM(JAN!K13+FEB!K13+MAC!K13+APRIL!K13+MEI!K13+JUN!K13+JULAI!K13+OGOS!K13+SEPT!K13+OKT!K13+NOV!K13+DIS!K13) -> 235 | L13: =SUM(JAN!L13)+(FEB!L13)+(MAC!L13)+(APRIL!L13)+(MEI!L13)+JUN!L13+JULAI!L13+OGOS!L13+SEPT!L13+OKT!L13+NOV!L13+DIS!L13 -> 0 | M13: =SUM(JAN!M13)+(FEB!M13)+(MAC!M13)+(APRIL!M13)+(MEI!M13)+JUN!M13+JULAI!M13+OGOS!M13+SEPT!M13+OKT!M13+NOV!M13+DIS!M13 -> 0 | N13: =SUM(JAN!N13)+(FEB!N13)+(MAC!N13)+(APRIL!N13)+(MEI!N13)+JUN!N13+JULAI!N13+OGOS!N13+SEPT!N13+OKT!N13+NOV!N13+DIS!N13 -> 0 | O13: =SUM(JAN!O13)+(FEB!O13)+(MAC!O13)+(APRIL!O13)+(MEI!O13)+JUN!O13+JULAI!O13+OGOS!O13+SEPT!O13+OKT!O13+NOV!O13+DIS!O13 -> 0 | P13: =SUM(JAN!P13)+(FEB!P13)+(MAC!P13)+(APRIL!P13)+(MEI!P13)+JUN!P13+JULAI!P13+OGOS!P13+SEPT!P13+OKT!P13+NOV!P13+DIS!P13 -> 9 | R13: =IF(C13=0,0,(J13+K13)/C13*100) -> 113.96896
A14: Hot Rolled | B14: =SUM(JAN!B14+FEB!B14+MAC!B14+APRIL!B14+MEI!B14+JUN!B14+JULAI!B14+OGOS!B14+SEPT!B14+OKT!B14+NOV!B14+DIS!B14) -> 429 | C14: =SUM(JAN!C14+FEB!C14+MAC!C14+APRIL!C14+MEI!C14+JUN!C14+JULAI!C14+OGOS!C14+SEPT!C14+OKT!C14+NOV!C14+DIS!C14) -> 7184 | D14: =SUM(JAN!D14+FEB!D14+MAC!D14+APRIL!D14+MEI!D14+JUN!D14+JULAI!D14+OGOS!D14+SEPT!D14+OKT!D14+NOV!D14+DIS!D14) -> 4 | E14: =SUM(JAN!E14+FEB!E14+MAC!E14+APRIL!E14+MEI!E14+JUN!E14+JULAI!E14+OGOS!E14+SEPT!E14+OKT!E14+NOV!E14+DIS!E14) -> 1821 | F14: =SUM(JAN!F14+FEB!F14+MAC!F14+APRIL!F14+MEI!F14+JUN!F14+JULAI!F14+OGOS!F14+SEPT!F14+OKT!F14+NOV!F14+DIS!F14) -> 3 | G14: =SUM(JAN!G14+FEB!G14+MAC!G14+APRIL!G14+MEI!G14+JUN!G14+JULAI!G14+OGOS!G14+SEPT!G14+OKT!G14+NOV!G14+DIS!G14) -> 477 | H14: =SUM(JAN!H14+FEB!H14+MAC!H14+APRIL!H14+MEI!H14+JUN!H14+JULAI!H14+OGOS!H14+SEPT!H14+OKT!H14+NOV!H14+DIS!H14) -> 85 | I14: =SUM(JAN!I14+FEB!I14+MAC!I14+APRIL!I14+MEI!I14+JUN!I14+JULAI!I14+OGOS!I14+SEPT!I14+OKT!I14+NOV!I14+DIS!I14) -> 12 | ... K14: =SUM(JAN!K14+FEB!K14+MAC!K14+APRIL!K14+MEI!K14+JUN!K14+JULAI!K14+OGOS!K14+SEPT!K14+OKT!K14+NOV!K14+DIS!K14) -> 817 | L14: =SUM(JAN!L14)+(FEB!L14)+(MAC!L14)+(APRIL!L14)+(MEI!L14)+JUN!L14+JULAI!L14+OGOS!L14+SEPT!L14+OKT!L14+NOV!L14+DIS!L14 -> 0 | M14: =SUM(JAN!M14)+(FEB!M14)+(MAC!M14)+(APRIL!M14)+(MEI!M14)+JUN!M14+JULAI!M14+OGOS!M14+SEPT!M14+OKT!M14+NOV!M14+DIS!M14 -> 5 | N14: =SUM(JAN!N14)+(FEB!N14)+(MAC!N14)+(APRIL!N14)+(MEI!N14)+JUN!N14+JULAI!N14+OGOS!N14+SEPT!N14+OKT!N14+NOV!N14+DIS!N14 -> 46 | O14: =SUM(JAN!O14)+(FEB!O14)+(MAC!O14)+(APRIL!O14)+(MEI!O14)+JUN!O14+JULAI!O14+OGOS!O14+SEPT!O14+OKT!O14+NOV!O14+DIS!O14 -> 0 | P14: =SUM(JAN!P14)+(FEB!P14)+(MAC!P14)+(APRIL!P14)+(MEI!P14)+JUN!P14+JULAI!P14+OGOS!P14+SEPT!P14+OKT!P14+NOV!P14+DIS!P14 -> 58 | Q14: =IF(B14=0,0,(H14+H15+H16+H17+H18+H19+H20+I14+I15+I16+I17+I18+I19+I20)/B14*100) -> 78.787879 | R14: =IF(C14=0,0,(J14+K14)/C14*100) -> 88.516147
A15: Cold Rolled | B15: =SUM(JAN!B15+FEB!B15+MAC!B15+APRIL!B15+MEI!B15+JUN!B15+JULAI!B15+OGOS!B15+SEPT!B15+OKT!B15+NOV!B15+DIS!B15) -> 0 | C15: =SUM(JAN!C15+FEB!C15+MAC!C15+APRIL!C15+MEI!C15+JUN!C15+JULAI!C15+OGOS!C15+SEPT!C15+OKT!C15+NOV!C15+DIS!C15) -> 3332 | D15: =SUM(JAN!D15+FEB!D15+MAC!D15+APRIL!D15+MEI!D15+JUN!D15+JULAI!D15+OGOS!D15+SEPT!D15+OKT!D15+NOV!D15+DIS!D15) -> 0 | E15: =SUM(JAN!E15+FEB!E15+MAC!E15+APRIL!E15+MEI!E15+JUN!E15+JULAI!E15+OGOS!E15+SEPT!E15+OKT!E15+NOV!E15+DIS!E15) -> 968 | F15: =SUM(JAN!F15+FEB!F15+MAC!F15+APRIL!F15+MEI!F15+JUN!F15+JULAI!F15+OGOS!F15+SEPT!F15+OKT!F15+NOV!F15+DIS!F15) -> 2 | G15: =SUM(JAN!G15+FEB!G15+MAC!G15+APRIL!G15+MEI!G15+JUN!G15+JULAI!G15+OGOS!G15+SEPT!G15+OKT!G15+NOV!G15+DIS!G15) -> 132 | H15: =SUM(JAN!H15+FEB!H15+MAC!H15+APRIL!H15+MEI!H15+JUN!H15+JULAI!H15+OGOS!H15+SEPT!H15+OKT!H15+NOV!H15+DIS!H15) -> 48 | I15: =SUM(JAN!I15+FEB!I15+MAC!I15+APRIL!I15+MEI!I15+JUN!I15+JULAI!I15+OGOS!I15+SEPT!I15+OKT!I15+NOV!I15+DIS!I15) -> 2 | ... K15: =SUM(JAN!K15+FEB!K15+MAC!K15+APRIL!K15+MEI!K15+JUN!K15+JULAI!K15+OGOS!K15+SEPT!K15+OKT!K15+NOV!K15+DIS!K15) -> 351 | L15: =SUM(JAN!L15)+(FEB!L15)+(MAC!L15)+(APRIL!L15)+(MEI!L15)+JUN!L15+JULAI!L15+OGOS!L15+SEPT!L15+OKT!L15+NOV!L15+DIS!L15 -> 0 | M15: =SUM(JAN!M15)+(FEB!M15)+(MAC!M15)+(APRIL!M15)+(MEI!M15)+JUN!M15+JULAI!M15+OGOS!M15+SEPT!M15+OKT!M15+NOV!M15+DIS!M15 -> 0 | N15: =SUM(JAN!N15)+(FEB!N15)+(MAC!N15)+(APRIL!N15)+(MEI!N15)+JUN!N15+JULAI!N15+OGOS!N15+SEPT!N15+OKT!N15+NOV!N15+DIS!N15 -> 0 | O15: =SUM(JAN!O15)+(FEB!O15)+(MAC!O15)+(APRIL!O15)+(MEI!O15)+JUN!O15+JULAI!O15+OGOS!O15+SEPT!O15+OKT!O15+NOV!O15+DIS!O15 -> 0 | P15: =SUM(JAN!P15)+(FEB!P15)+(MAC!P15)+(APRIL!P15)+(MEI!P15)+JUN!P15+JULAI!P15+OGOS!P15+SEPT!P15+OKT!P15+NOV!P15+DIS!P15 -> 79 | R15: =IF(C15=0,0,(J15+K15)/C15*100) -> 83.493397
A16: Pipe and Tube | B16: =SUM(JAN!B16+FEB!B16+MAC!B16+APRIL!B16+MEI!B16+JUN!B16+JULAI!B16+OGOS!B16+SEPT!B16+OKT!B16+NOV!B16+DIS!B16) -> 0 | C16: =SUM(JAN!C16+FEB!C16+MAC!C16+APRIL!C16+MEI!C16+JUN!C16+JULAI!C16+OGOS!C16+SEPT!C16+OKT!C16+NOV!C16+DIS!C16) -> 8692 | D16: =SUM(JAN!D16+FEB!D16+MAC!D16+APRIL!D16+MEI!D16+JUN!D16+JULAI!D16+OGOS!D16+SEPT!D16+OKT!D16+NOV!D16+DIS!D16) -> 27 | E16: =SUM(JAN!E16+FEB!E16+MAC!E16+APRIL!E16+MEI!E16+JUN!E16+JULAI!E16+OGOS!E16+SEPT!E16+OKT!E16+NOV!E16+DIS!E16) -> 2490 | F16: =SUM(JAN!F16+FEB!F16+MAC!F16+APRIL!F16+MEI!F16+JUN!F16+JULAI!F16+OGOS!F16+SEPT!F16+OKT!F16+NOV!F16+DIS!F16) -> 0 | G16: =SUM(JAN!G16+FEB!G16+MAC!G16+APRIL!G16+MEI!G16+JUN!G16+JULAI!G16+OGOS!G16+SEPT!G16+OKT!G16+NOV!G16+DIS!G16) -> 782 | H16: =SUM(JAN!H16+FEB!H16+MAC!H16+APRIL!H16+MEI!H16+JUN!H16+JULAI!H16+OGOS!H16+SEPT!H16+OKT!H16+NOV!H16+DIS!H16) -> 132 | I16: =SUM(JAN!I16+FEB!I16+MAC!I16+APRIL!I16+MEI!I16+JUN!I16+JULAI!I16+OGOS!I16+SEPT!I16+OKT!I16+NOV!I16+DIS!I16) -> 6 | ... K16: =SUM(JAN!K16+FEB!K16+MAC!K16+APRIL!K16+MEI!K16+JUN!K16+JULAI!K16+OGOS!K16+SEPT!K16+OKT!K16+NOV!K16+DIS!K16) -> 1540 | L16: =SUM(JAN!L16)+(FEB!L16)+(MAC!L16)+(APRIL!L16)+(MEI!L16)+JUN!L16+JULAI!L16+OGOS!L16+SEPT!L16+OKT!L16+NOV!L16+DIS!L16 -> 0 | M16: =SUM(JAN!M16)+(FEB!M16)+(MAC!M16)+(APRIL!M16)+(MEI!M16)+JUN!M16+JULAI!M16+OGOS!M16+SEPT!M16+OKT!M16+NOV!M16+DIS!M16 -> 14 | N16: =SUM(JAN!N16)+(FEB!N16)+(MAC!N16)+(APRIL!N16)+(MEI!N16)+JUN!N16+JULAI!N16+OGOS!N16+SEPT!N16+OKT!N16+NOV!N16+DIS!N16 -> 0 | O16: =SUM(JAN!O16)+(FEB!O16)+(MAC!O16)+(APRIL!O16)+(MEI!O16)+JUN!O16+JULAI!O16+OGOS!O16+SEPT!O16+OKT!O16+NOV!O16+DIS!O16 -> 0 | P16: =SUM(JAN!P16)+(FEB!P16)+(MAC!P16)+(APRIL!P16)+(MEI!P16)+JUN!P16+JULAI!P16+OGOS!P16+SEPT!P16+OKT!P16+NOV!P16+DIS!P16 -> 88 | R16: =IF(C16=0,0,(J16+K16)/C16*100) -> 92.303267
A17: Elec. Galvanised | B17: =SUM(JAN!B17+FEB!B17+MAC!B17+APRIL!B17+MEI!B17+JUN!B17+JULAI!B17+OGOS!B17+SEPT!B17+OKT!B17+NOV!B17+DIS!B17) -> 0 | C17: =SUM(JAN!C17+FEB!C17+MAC!C17+APRIL!C17+MEI!C17+JUN!C17+JULAI!C17+OGOS!C17+SEPT!C17+OKT!C17+NOV!C17+DIS!C17) -> 5221 | D17: =SUM(JAN!D17+FEB!D17+MAC!D17+APRIL!D17+MEI!D17+JUN!D17+JULAI!D17+OGOS!D17+SEPT!D17+OKT!D17+NOV!D17+DIS!D17) -> 10 | E17: =SUM(JAN!E17+FEB!E17+MAC!E17+APRIL!E17+MEI!E17+JUN!E17+JULAI!E17+OGOS!E17+SEPT!E17+OKT!E17+NOV!E17+DIS!E17) -> 1361 | F17: =SUM(JAN!F17+FEB!F17+MAC!F17+APRIL!F17+MEI!F17+JUN!F17+JULAI!F17+OGOS!F17+SEPT!F17+OKT!F17+NOV!F17+DIS!F17) -> 0 | G17: =SUM(JAN!G17+FEB!G17+MAC!G17+APRIL!G17+MEI!G17+JUN!G17+JULAI!G17+OGOS!G17+SEPT!G17+OKT!G17+NOV!G17+DIS!G17) -> 329 | H17: =SUM(JAN!H17+FEB!H17+MAC!H17+APRIL!H17+MEI!H17+JUN!H17+JULAI!H17+OGOS!H17+SEPT!H17+OKT!H17+NOV!H17+DIS!H17) -> 41 | I17: =SUM(JAN!I17+FEB!I17+MAC!I17+APRIL!I17+MEI!I17+JUN!I17+JULAI!I17+OGOS!I17+SEPT!I17+OKT!I17+NOV!I17+DIS!I17) -> 0 | ... K17: =SUM(JAN!K17+FEB!K17+MAC!K17+APRIL!K17+MEI!K17+JUN!K17+JULAI!K17+OGOS!K17+SEPT!K17+OKT!K17+NOV!K17+DIS!K17) -> 551 | L17: =SUM(JAN!L17)+(FEB!L17)+(MAC!L17)+(APRIL!L17)+(MEI!L17)+JUN!L17+JULAI!L17+OGOS!L17+SEPT!L17+OKT!L17+NOV!L17+DIS!L17 -> 0 | M17: =SUM(JAN!M17)+(FEB!M17)+(MAC!M17)+(APRIL!M17)+(MEI!M17)+JUN!M17+JULAI!M17+OGOS!M17+SEPT!M17+OKT!M17+NOV!M17+DIS!M17 -> 11 | N17: =SUM(JAN!N17)+(FEB!N17)+(MAC!N17)+(APRIL!N17)+(MEI!N17)+JUN!N17+JULAI!N17+OGOS!N17+SEPT!N17+OKT!N17+NOV!N17+DIS!N17 -> 0 | O17: =SUM(JAN!O17)+(FEB!O17)+(MAC!O17)+(APRIL!O17)+(MEI!O17)+JUN!O17+JULAI!O17+OGOS!O17+SEPT!O17+OKT!O17+NOV!O17+DIS!O17 -> 0 | P17: =SUM(JAN!P17)+(FEB!P17)+(MAC!P17)+(APRIL!P17)+(MEI!P17)+JUN!P17+JULAI!P17+OGOS!P17+SEPT!P17+OKT!P17+NOV!P17+DIS!P17 -> 91 | R17: =IF(C17=0,0,(J17+K17)/C17*100) -> 85.194407
A18: Galvanised Iron | B18: =SUM(JAN!B18+FEB!B18+MAC!B18+APRIL!B18+MEI!B18+JUN!B18+JULAI!B18+OGOS!B18+SEPT!B18+OKT!B18+NOV!B18+DIS!B18) -> 0 | C18: =SUM(JAN!C18+FEB!C18+MAC!C18+APRIL!C18+MEI!C18+JUN!C18+JULAI!C18+OGOS!C18+SEPT!C18+OKT!C18+NOV!C18+DIS!C18) -> 543 | D18: =SUM(JAN!D18+FEB!D18+MAC!D18+APRIL!D18+MEI!D18+JUN!D18+JULAI!D18+OGOS!D18+SEPT!D18+OKT!D18+NOV!D18+DIS!D18) -> 1 | E18: =SUM(JAN!E18+FEB!E18+MAC!E18+APRIL!E18+MEI!E18+JUN!E18+JULAI!E18+OGOS!E18+SEPT!E18+OKT!E18+NOV!E18+DIS!E18) -> 103 | F18: =SUM(JAN!F18+FEB!F18+MAC!F18+APRIL!F18+MEI!F18+JUN!F18+JULAI!F18+OGOS!F18+SEPT!F18+OKT!F18+NOV!F18+DIS!F18) -> 0 | G18: =SUM(JAN!G18+FEB!G18+MAC!G18+APRIL!G18+MEI!G18+JUN!G18+JULAI!G18+OGOS!G18+SEPT!G18+OKT!G18+NOV!G18+DIS!G18) -> 54 | H18: =SUM(JAN!H18+FEB!H18+MAC!H18+APRIL!H18+MEI!H18+JUN!H18+JULAI!H18+OGOS!H18+SEPT!H18+OKT!H18+NOV!H18+DIS!H18) -> 4 | I18: =SUM(JAN!I18+FEB!I18+MAC!I18+APRIL!I18+MEI!I18+JUN!I18+JULAI!I18+OGOS!I18+SEPT!I18+OKT!I18+NOV!I18+DIS!I18) -> 1 | ... K18: =SUM(JAN!K18+FEB!K18+MAC!K18+APRIL!K18+MEI!K18+JUN!K18+JULAI!K18+OGOS!K18+SEPT!K18+OKT!K18+NOV!K18+DIS!K18) -> 124 | L18: =SUM(JAN!L18)+(FEB!L18)+(MAC!L18)+(APRIL!L18)+(MEI!L18)+JUN!L18+JULAI!L18+OGOS!L18+SEPT!L18+OKT!L18+NOV!L18+DIS!L18 -> 0 | M18: =SUM(JAN!M18)+(FEB!M18)+(MAC!M18)+(APRIL!M18)+(MEI!M18)+JUN!M18+JULAI!M18+OGOS!M18+SEPT!M18+OKT!M18+NOV!M18+DIS!M18 -> 0 | N18: =SUM(JAN!N18)+(FEB!N18)+(MAC!N18)+(APRIL!N18)+(MEI!N18)+JUN!N18+JULAI!N18+OGOS!N18+SEPT!N18+OKT!N18+NOV!N18+DIS!N18 -> 0 | O18: =SUM(JAN!O18)+(FEB!O18)+(MAC!O18)+(APRIL!O18)+(MEI!O18)+JUN!O18+JULAI!O18+OGOS!O18+SEPT!O18+OKT!O18+NOV!O18+DIS!O18 -> 0 | P18: =SUM(JAN!P18)+(FEB!P18)+(MAC!P18)+(APRIL!P18)+(MEI!P18)+JUN!P18+JULAI!P18+OGOS!P18+SEPT!P18+OKT!P18+NOV!P18+DIS!P18 -> 10 | R18: =IF(C18=0,0,(J18+K18)/C18*100) -> 87.292818
A19: Strip | B19: =SUM(JAN!B19+FEB!B19+MAC!B19+APRIL!B19+MEI!B19+JUN!B19+JULAI!B19+OGOS!B19+SEPT!B19+OKT!B19+NOV!B19+DIS!B19) -> 0 | C19: =SUM(JAN!C19+FEB!C19+MAC!C19+APRIL!C19+MEI!C19+JUN!C19+JULAI!C19+OGOS!C19+SEPT!C19+OKT!C19+NOV!C19+DIS!C19) -> 630 | D19: =SUM(JAN!D19+FEB!D19+MAC!D19+APRIL!D19+MEI!D19+JUN!D19+JULAI!D19+OGOS!D19+SEPT!D19+OKT!D19+NOV!D19+DIS!D19) -> 0 | E19: =SUM(JAN!E19+FEB!E19+MAC!E19+APRIL!E19+MEI!E19+JUN!E19+JULAI!E19+OGOS!E19+SEPT!E19+OKT!E19+NOV!E19+DIS!E19) -> 131 | F19: =SUM(JAN!F19+FEB!F19+MAC!F19+APRIL!F19+MEI!F19+JUN!F19+JULAI!F19+OGOS!F19+SEPT!F19+OKT!F19+NOV!F19+DIS!F19) -> 0 | G19: =SUM(JAN!G19+FEB!G19+MAC!G19+APRIL!G19+MEI!G19+JUN!G19+JULAI!G19+OGOS!G19+SEPT!G19+OKT!G19+NOV!G19+DIS!G19) -> 62 | H19: =SUM(JAN!H19+FEB!H19+MAC!H19+APRIL!H19+MEI!H19+JUN!H19+JULAI!H19+OGOS!H19+SEPT!H19+OKT!H19+NOV!H19+DIS!H19) -> 7 | I19: =SUM(JAN!I19+FEB!I19+MAC!I19+APRIL!I19+MEI!I19+JUN!I19+JULAI!I19+OGOS!I19+SEPT!I19+OKT!I19+NOV!I19+DIS!I19) -> 0 | ... K19: =SUM(JAN!K19+FEB!K19+MAC!K19+APRIL!K19+MEI!K19+JUN!K19+JULAI!K19+OGOS!K19+SEPT!K19+OKT!K19+NOV!K19+DIS!K19) -> 136 | L19: =SUM(JAN!L19)+(FEB!L19)+(MAC!L19)+(APRIL!L19)+(MEI!L19)+JUN!L19+JULAI!L19+OGOS!L19+SEPT!L19+OKT!L19+NOV!L19+DIS!L19 -> 0 | M19: =SUM(JAN!M19)+(FEB!M19)+(MAC!M19)+(APRIL!M19)+(MEI!M19)+JUN!M19+JULAI!M19+OGOS!M19+SEPT!M19+OKT!M19+NOV!M19+DIS!M19 -> 1 | N19: =SUM(JAN!N19)+(FEB!N19)+(MAC!N19)+(APRIL!N19)+(MEI!N19)+JUN!N19+JULAI!N19+OGOS!N19+SEPT!N19+OKT!N19+NOV!N19+DIS!N19 -> 0 | O19: =SUM(JAN!O19)+(FEB!O19)+(MAC!O19)+(APRIL!O19)+(MEI!O19)+JUN!O19+JULAI!O19+OGOS!O19+SEPT!O19+OKT!O19+NOV!O19+DIS!O19 -> 0 | P19: =SUM(JAN!P19)+(FEB!P19)+(MAC!P19)+(APRIL!P19)+(MEI!P19)+JUN!P19+JULAI!P19+OGOS!P19+SEPT!P19+OKT!P19+NOV!P19+DIS!P19 -> 6 | R19: =IF(C19=0,0,(J19+K19)/C19*100) -> 78.571429
A20: Besi Keluli | B20: =SUM(JAN!B20+FEB!B20+MAC!B20+APRIL!B20+MEI!B20+JUN!B20+JULAI!B20+OGOS!B20+SEPT!B20+OKT!B20+NOV!B20+DIS!B20) -> 0 | C20: =SUM(JAN!C20+FEB!C20+MAC!C20+APRIL!C20+MEI!C20+JUN!C20+JULAI!C20+OGOS!C20+SEPT!C20+OKT!C20+NOV!C20+DIS!C20) -> 36 | D20: =SUM(JAN!D20+FEB!D20+MAC!D20+APRIL!D20+MEI!D20+JUN!D20+JULAI!D20+OGOS!D20+SEPT!D20+OKT!D20+NOV!D20+DIS!D20) -> 0 | E20: =SUM(JAN!E20+FEB!E20+MAC!E20+APRIL!E20+MEI!E20+JUN!E20+JULAI!E20+OGOS!E20+SEPT!E20+OKT!E20+NOV!E20+DIS!E20) -> 0 | F20: =SUM(JAN!F20+FEB!F20+MAC!F20+APRIL!F20+MEI!F20+JUN!F20+JULAI!F20+OGOS!F20+SEPT!F20+OKT!F20+NOV!F20+DIS!F20) -> 0 | G20: =SUM(JAN!G20+FEB!G20+MAC!G20+APRIL!G20+MEI!G20+JUN!G20+JULAI!G20+OGOS!G20+SEPT!G20+OKT!G20+NOV!G20+DIS!G20) -> 1 | H20: =SUM(JAN!H20+FEB!H20+MAC!H20+APRIL!H20+MEI!H20+JUN!H20+JULAI!H20+OGOS!H20+SEPT!H20+OKT!H20+NOV!H20+DIS!H20) -> 0 | I20: =SUM(JAN!I20+FEB!I20+MAC!I20+APRIL!I20+MEI!I20+JUN!I20+JULAI!I20+OGOS!I20+SEPT!I20+OKT!I20+NOV!I20+DIS!I20) -> 0 | ... K20: =SUM(JAN!K20+FEB!K20+MAC!K20+APRIL!K20+MEI!K20+JUN!K20+JULAI!K20+OGOS!K20+SEPT!K20+OKT!K20+NOV!K20+DIS!K20) -> 30 | L20: =SUM(JAN!L20)+(FEB!L20)+(MAC!L20)+(APRIL!L20)+(MEI!L20)+JUN!L20+JULAI!L20+OGOS!L20+SEPT!L20+OKT!L20+NOV!L20+DIS!L20 -> 0 | M20: =SUM(JAN!M20)+(FEB!M20)+(MAC!M20)+(APRIL!M20)+(MEI!M20)+JUN!M20+JULAI!M20+OGOS!M20+SEPT!M20+OKT!M20+NOV!M20+DIS!M20 -> 0 | N20: =SUM(JAN!N20)+(FEB!N20)+(MAC!N20)+(APRIL!N20)+(MEI!N20)+JUN!N20+JULAI!N20+OGOS!N20+SEPT!N20+OKT!N20+NOV!N20+DIS!N20 -> 0 | O20: =SUM(JAN!O20)+(FEB!O20)+(MAC!O20)+(APRIL!O20)+(MEI!O20)+JUN!O20+JULAI!O20+OGOS!O20+SEPT!O20+OKT!O20+NOV!O20+DIS!O20 -> 0 | P20: =SUM(JAN!P20)+(FEB!P20)+(MAC!P20)+(APRIL!P20)+(MEI!P20)+JUN!P20+JULAI!P20+OGOS!P20+SEPT!P20+OKT!P20+NOV!P20+DIS!P20 -> 0 | R20: =IF(C20=0,0,(J20+K20)/C20*100) -> 97.222222
A21: Tepung | B21: =SUM(JAN!B21+FEB!B21+MAC!B21+APRIL!B21+MEI!B21+JUN!B21+JULAI!B21+OGOS!B21+SEPT!B21+OKT!B21+NOV!B21+DIS!B21) -> 171 | C21: =SUM(JAN!C21+FEB!C21+MAC!C21+APRIL!C21+MEI!C21+JUN!C21+JULAI!C21+OGOS!C21+SEPT!C21+OKT!C21+NOV!C21+DIS!C21) -> 771 | D21: =SUM(JAN!D21+FEB!D21+MAC!D21+APRIL!D21+MEI!D21+JUN!D21+JULAI!D21+OGOS!D21+SEPT!D21+OKT!D21+NOV!D21+DIS!D21) -> 0 | E21: =SUM(JAN!E21+FEB!E21+MAC!E21+APRIL!E21+MEI!E21+JUN!E21+JULAI!E21+OGOS!E21+SEPT!E21+OKT!E21+NOV!E21+DIS!E21) -> 54 | F21: =SUM(JAN!F21+FEB!F21+MAC!F21+APRIL!F21+MEI!F21+JUN!F21+JULAI!F21+OGOS!F21+SEPT!F21+OKT!F21+NOV!F21+DIS!F21) -> 0 | G21: =SUM(JAN!G21+FEB!G21+MAC!G21+APRIL!G21+MEI!G21+JUN!G21+JULAI!G21+OGOS!G21+SEPT!G21+OKT!G21+NOV!G21+DIS!G21) -> 13 | H21: =SUM(JAN!H21+FEB!H21+MAC!H21+APRIL!H21+MEI!H21+JUN!H21+JULAI!H21+OGOS!H21+SEPT!H21+OKT!H21+NOV!H21+DIS!H21) -> 0 | I21: =SUM(JAN!I21+FEB!I21+MAC!I21+APRIL!I21+MEI!I21+JUN!I21+JULAI!I21+OGOS!I21+SEPT!I21+OKT!I21+NOV!I21+DIS!I21) -> 0 | ... K21: =SUM(JAN!K21+FEB!K21+MAC!K21+APRIL!K21+MEI!K21+JUN!K21+JULAI!K21+OGOS!K21+SEPT!K21+OKT!K21+NOV!K21+DIS!K21) -> 146 | L21: =SUM(JAN!L22)+(FEB!L22)+(MAC!L21)+(APRIL!L21)+(MEI!L21)+JUN!L21+JULAI!L21+OGOS!L21+SEPT!L21+OKT!L21+NOV!L21+DIS!L21 -> 0 | M21: =SUM(JAN!M22)+(FEB!M22)+(MAC!M21)+(APRIL!M21)+(MEI!M21)+JUN!M21+JULAI!M21+OGOS!M21+SEPT!M21+OKT!M21+NOV!M21+DIS!M21 -> 0 | N21: =SUM(JAN!N22)+(FEB!N22)+(MAC!N21)+(APRIL!N21)+(MEI!N21)+JUN!N21+JULAI!N21+OGOS!N21+SEPT!N21+OKT!N21+NOV!N21+DIS!N21 -> 2 | O21: =SUM(JAN!O22)+(FEB!O22)+(MAC!O21)+(APRIL!O21)+(MEI!O21)+JUN!O21+JULAI!O21+OGOS!O21+SEPT!O21+OKT!O21+NOV!O21+DIS!O21 -> 0 | P21: =SUM(JAN!P22)+(FEB!P22)+(MAC!P21)+(APRIL!P21)+(MEI!P21)+JUN!P21+JULAI!P21+OGOS!P21+SEPT!P21+OKT!P21+NOV!P21+DIS!P21 -> 14 | Q21: =IF(B21=0,0,(H21+H22+I21+I22)/B21*100) -> 85.964912 | R21: =IF(C21=0,0,(J21+K21)/C21*100) -> 80.933852
A22: Lain-lain | B22: =SUM(JAN!B22+FEB!B22+MAC!B22+APRIL!B22+MEI!B22+JUN!B22+JULAI!B22+OGOS!B22+SEPT!B22+OKT!B22+NOV!B22+DIS!B22) -> 31 | C22: =SUM(JAN!C22+FEB!C22+MAC!C22+APRIL!C22+MEI!C22+JUN!C22+JULAI!C22+OGOS!C22+SEPT!C22+OKT!C22+NOV!C22+DIS!C22) -> 2073 | D22: =SUM(JAN!D22+FEB!D22+MAC!D22+APRIL!D22+MEI!D22+JUN!D22+JULAI!D22+OGOS!D22+SEPT!D22+OKT!D22+NOV!D22+DIS!D22) -> 27 | E22: =SUM(JAN!E22+FEB!E22+MAC!E22+APRIL!E22+MEI!E22+JUN!E22+JULAI!E22+OGOS!E22+SEPT!E22+OKT!E22+NOV!E22+DIS!E22) -> 313 | F22: =SUM(JAN!F22+FEB!F22+MAC!F22+APRIL!F22+MEI!F22+JUN!F22+JULAI!F22+OGOS!F22+SEPT!F22+OKT!F22+NOV!F22+DIS!F22) -> 0 | G22: =SUM(JAN!G22+FEB!G22+MAC!G22+APRIL!G22+MEI!G22+JUN!G22+JULAI!G22+OGOS!G22+SEPT!G22+OKT!G22+NOV!G22+DIS!G22) -> 116 | H22: =SUM(JAN!H22+FEB!H22+MAC!H22+APRIL!H22+MEI!H22+JUN!H22+JULAI!H22+OGOS!H22+SEPT!H22+OKT!H22+NOV!H22+DIS!H22) -> 144 | I22: =SUM(JAN!I22+FEB!I22+MAC!I22+APRIL!I22+MEI!I22+JUN!I22+JULAI!I22+OGOS!I22+SEPT!I22+OKT!I22+NOV!I22+DIS!I22) -> 3 | ... K22: =SUM(JAN!K22+FEB!K22+MAC!K22+APRIL!K22+MEI!K22+JUN!K22+JULAI!K22+OGOS!K22+SEPT!K22+OKT!K22+NOV!K22+DIS!K22) -> 442 | L22: =SUM(JAN!L24)+(FEB!L24)+(MAC!L22)+(APRIL!L22)+(MEI!L22)+JUN!L22+JULAI!L22+OGOS!L22+SEPT!L22+OKT!L22+NOV!L22+DIS!L22 -> 3 | M22: =SUM(JAN!M24)+(FEB!M24)+(MAC!M22)+(APRIL!M22)+(MEI!M22)+JUN!M22+JULAI!M22+OGOS!M22+SEPT!M22+OKT!M22+NOV!M22+DIS!M22 -> 4 | N22: =SUM(JAN!N24)+(FEB!N24)+(MAC!N22)+(APRIL!N22)+(MEI!N22)+JUN!N22+JULAI!N22+OGOS!N22+SEPT!N22+OKT!N22+NOV!N22+DIS!N22 -> 0 | O22: =SUM(JAN!O24)+(FEB!O24)+(MAC!O22)+(APRIL!O22)+(MEI!O22)+JUN!O22+JULAI!O22+OGOS!O22+SEPT!O22+OKT!O22+NOV!O22+DIS!O22 -> 0 | P22: =SUM(JAN!P24)+(FEB!P24)+(MAC!P22)+(APRIL!P22)+(MEI!P22)+JUN!P22+JULAI!P22+OGOS!P22+SEPT!P22+OKT!P22+NOV!P22+DIS!P22 -> 53 | R22: =IF(C22=0,0,(J22+K22)/C22*100) -> 89.773275
A23: JUMLAH | B23: =SUM(JAN!B26+FEB!B26+MAC!B23+APRIL!B23+MEI!B23+JUN!B23+JULAI!B23+OGOS!B23+SEPT!B23+OKT!B23+NOV!B23+DIS!B23) -> 4909 | C23: =SUM(JAN!C26+FEB!C26+MAC!C23+APRIL!C23+MEI!C23+JUN!C23+JULAI!C23+OGOS!C23+SEPT!C23+OKT!C23+NOV!C23+DIS!C23) -> 168803 | D23: =SUM(FEB!D26+FEB!D26+MAC!D23+APRIL!D23+MEI!D23+JUN!D23+JULAI!D23+OGOS!D23+SEPT!D23+OKT!D23+NOV!D23+DIS!D23) -> 452 | E23: =SUM(FEB!E26+FEB!E26+MAC!E23+APRIL!E23+MEI!E23+JUN!E23+JULAI!E23+OGOS!E23+SEPT!E23+OKT!E23+NOV!E23+DIS!E23) -> 34337 | F23: =SUM(FEB!F26+FEB!F26+MAC!F23+APRIL!F23+MEI!F23+JUN!F23+JULAI!F23+OGOS!F23+SEPT!F23+OKT!F23+NOV!F23+DIS!F23) -> 52 | G23: =SUM(FEB!G26+FEB!G26+MAC!G23+APRIL!G23+MEI!G23+JUN!G23+JULAI!G23+OGOS!G23+SEPT!G23+OKT!G23+NOV!G23+DIS!G23) -> 4294 | H23: =SUM(JAN!H26+FEB!H26+MAC!H23+APRIL!H23+MEI!H23+JUN!H23+JULAI!H23+OGOS!H23+SEPT!H23+OKT!H23+NOV!H23+DIS!H23) -> 2359 | I23: =SUM(JAN!I26+FEB!I26+MAC!I23+APRIL!I23+MEI!I23+JUN!I23+JULAI!I23+OGOS!I23+SEPT!I23+OKT!I23+NOV!I23+DIS!I23) -> 212 | J23: =SUM(JAN!J26+FEB!J26+MAC!J23+APRIL!J23+MEI!J23+JUN!J23+JULAI!J23+OGOS!J23+SEPT!J23+OKT!J23+NOV!J23+DIS!J23) -> 139744 | K23: =SUM(JAN!K26+FEB!K26+MAC!K23+APRIL!K23+MEI!K23+JUN!K23+JULAI!K23+OGOS!K23+SEPT!K23+OKT!K23+NOV!K23+DIS!K23) -> 9995 | L23: =SUM(JAN!L26)+(FEB!L26)+(MAC!L23)+(APRIL!L23)+(MEI!L23)+JUN!L23 -> 14 | M23: =SUM(JAN!M26)+(FEB!M26)+(MAC!M23)+(APRIL!M23)+(MEI!M23)+JUN!M23 -> 47 | N23: =SUM(JAN!N26)+(FEB!N26)+(MAC!N23)+(APRIL!N23)+(MEI!N23)+JUN!N23 -> 136 | O23: =SUM(JAN!O26)+(FEB!O26)+(MAC!O23)+(APRIL!O23)+(MEI!O23)+JUN!O23 -> 6 | P23: =SUM(JAN!P26)+(FEB!P26)+(MAC!P23)+(APRIL!P23)+(MEI!P23)+JUN!P23 -> 864 | Q23: =IF(B23=0,0,(H23+I23)/B23*100) -> 52.373192 | R23: =IF(C23=0,0,(J23+K23)/C23*100) -> 88.706362
A24: =A4 -> Aktiviti Utama Dalam Piagam Pelanggan | B24: =B4 -> Bil. Permohonan | D24: =D4 -> Permohonan Lulus | F24: =F4 -> Permohonan Tolak | H24: Permohonan Diproses | L24: =L4 -> Workflow & Status | N24: =N4 -> Slip Batal | O24: =O4 -> Belum Cetak | Q24: =Q4 -> % Capaian Piagam
B25: A | C25: B | D25: C | E25: D | F25: E | G25: F | H25: G | I25: H | J25: I | K25: J | L25: K | M25: L | N25: M | O25: N | P25: O | Q25: P = (G +H)/A x 100 | R25: Q =(I+J)/ B x 100
A26: =A6 -> Produk | B26: =B6 -> Kaunter | C26: =C6 -> Online | D26: =D6 -> Kaunter | E26: =E6 -> Online | F26: =F6 -> Kaunter | G26: =G6 -> Online | H26: Kaunter (7 Hari Bekerja) | I26: Kaunter Reject (7 hari bekerja) | J26: Online (5 Hari Bekerja) | K26: Online Reject (5 hari bekerja) | L26: =L6 -> Kaunter | M26: =M6 -> Online | N26: =N6 -> Bil. | O26: =O6 -> Kaunter | P26: =P6 -> Online | Q26: =Q6 -> Kaunter | R26: =R6 -> Online
A27: EKSPORT
A28: Besi Keluli (Long Product) | B28: =SUM(JAN!B31)+FEB!B31+MAC!B28+APRIL!B28+MEI!B28+JUN!B28+JULAI!B28+OGOS!B28+SEPT!B28+OKT!B28+NOV!B28+DIS!B28 -> 0 | C28: =SUM(JAN!C31)+FEB!C31+MAC!C28+APRIL!C28+MEI!C28+JUN!C28+JULAI!C28+OGOS!C28+SEPT!C28+OKT!C28+NOV!C28+DIS!C28 -> 481 | D28: =SUM(JAN!D31)+FEB!D31+MAC!D28+APRIL!D28+MEI!D28+JUN!D28+JULAI!D28+OGOS!D28+SEPT!D28+OKT!D28+NOV!D28+DIS!D28 -> 0 | E28: =SUM(JAN!E31)+FEB!E31+MAC!E28+APRIL!E28+MEI!E28+JUN!E28+JULAI!E28+OGOS!E28+SEPT!E28+OKT!E28+NOV!E28+DIS!E28 -> 0 | F28: =SUM(JAN!F31)+FEB!F31+MAC!F28+APRIL!F28+MEI!F28+JUN!F28+JULAI!F28+OGOS!F28+SEPT!F28+OKT!F28+NOV!F28+DIS!F28 -> 0 | G28: =SUM(JAN!G31)+FEB!G31+MAC!G28+APRIL!G28+MEI!G28+JUN!G28+JULAI!G28+OGOS!G28+SEPT!G28+OKT!G28+NOV!G28+DIS!G28 -> 0 | H28: =SUM(JAN!H31)+FEB!H31+MAC!H28+APRIL!H28+MEI!H28+JUN!H28+JULAI!H28+OGOS!H28+SEPT!H28+OKT!H28+NOV!H28+DIS!H28 -> 0 | I28: =SUM(JAN!I31)+FEB!I31+MAC!I28+APRIL!I28+MEI!I28+JUN!I28+JULAI!I28+OGOS!I28+SEPT!I28+OKT!I28+NOV!I28+DIS!I28 -> 0 | ... M28: =SUM(JAN!M31)+FEB!M31+MAC!M28+APRIL!M28+MEI!M28+JUN!M28+JULAI!M28+OGOS!M28+SEPT!M28+OKT!M28+NOV!M28+DIS!M28 -> 0 | N28: 0 | O28: =SUM(JAN!O31)+FEB!O31+MAC!O28+APRIL!O28+MEI!O28+JUN!O28+JULAI!O28+OGOS!O28+SEPT!O28+OKT!O28+NOV!O28+DIS!O28 -> 0 | P28: =SUM(JAN!P31)+FEB!P31+MAC!P28+APRIL!P28+MEI!P28+JUN!P28+JULAI!P28+OGOS!P28+SEPT!P28+OKT!P28+NOV!P28+DIS!P28 -> 0 | Q28: =IF(B28=0,0,(H28+H29+#REF!+#REF!+#REF!+H30+#REF!+I28+I29+#REF!+#REF!+#REF!+I30+#REF!)/B28*100) -> 0 | R28: =IF(C28=0,0,(J28+K28)/C28*100) -> 100
A29: Scrap | C29: =SUM(JAN!C32)+FEB!C32+MAC!C29+APRIL!C29+MEI!C29+JUN!C29+JULAI!C29+OGOS!C29+SEPT!C29+OKT!C29+NOV!C29+DIS!C29 -> 497 | D29: =SUM(JAN!D32)+FEB!D32+MAC!D29+APRIL!D29+MEI!D29+JUN!D29+JULAI!D29+OGOS!D29+SEPT!D29+OKT!D29+NOV!D29+DIS!D29 -> 0 | E29: =SUM(JAN!E32)+FEB!E32+MAC!E29+APRIL!E29+MEI!E29+JUN!E29+JULAI!E29+OGOS!E29+SEPT!E29+OKT!E29+NOV!E29+DIS!E29 -> 477 | F29: =SUM(JAN!F32)+FEB!F32+MAC!F29+APRIL!F29+MEI!F29+JUN!F29+JULAI!F29+OGOS!F29+SEPT!F29+OKT!F29+NOV!F29+DIS!F29 -> 0 | G29: =SUM(JAN!G32)+FEB!G32+MAC!G29+APRIL!G29+MEI!G29+JUN!G29+JULAI!G29+OGOS!G29+SEPT!G29+OKT!G29+NOV!G29+DIS!G29 -> 25 | H29: =SUM(JAN!H32)+FEB!H32+MAC!H29+APRIL!H29+MEI!H29+JUN!H29+JULAI!H29+OGOS!H29+SEPT!H29+OKT!H29+NOV!H29+DIS!H29 -> 0 | I29: =SUM(JAN!I32)+FEB!I32+MAC!I29+APRIL!I29+MEI!I29+JUN!I29+JULAI!I29+OGOS!I29+SEPT!I29+OKT!I29+NOV!I29+DIS!I29 -> 0 | J29: =SUM(JAN!J32)+FEB!J32+MAC!J29+APRIL!J29+MEI!J29+JUN!J29+JULAI!J29+OGOS!J29+SEPT!J29+OKT!J29+NOV!J29+DIS!J29 -> 461 | ... M29: =SUM(JAN!M32)+FEB!M32+MAC!M29+APRIL!M29+MEI!M29+JUN!M29+JULAI!M29+OGOS!M29+SEPT!M29+OKT!M29+NOV!M29+DIS!M29 -> 0 | O29: =SUM(JAN!O32)+FEB!O32+MAC!O29+APRIL!O29+MEI!O29+JUN!O29+JULAI!O29+OGOS!O29+SEPT!O29+OKT!O29+NOV!O29+DIS!O29 -> 0 | P29: =SUM(JAN!P32)+FEB!P32+MAC!P29+APRIL!P29+MEI!P29+JUN!P29+JULAI!P29+OGOS!P29+SEPT!P29+OKT!P29+NOV!P29+DIS!P29 -> 0 | R29: =IF(C29=0,0,(J29+K29)/C29*100) -> 100
A30: Lain-lain | C30: =SUM(JAN!C35)+FEB!C35+MAC!C30+APRIL!C30+MEI!C30+JUN!C30+JULAI!C30+OGOS!C30+SEPT!C30+OKT!C30+NOV!C30+DIS!C30 -> 149 | D30: =SUM(JAN!D35)+FEB!D35+MAC!D30+APRIL!D30+MEI!D30+JUN!D30+JULAI!D30+OGOS!D30+SEPT!D30+OKT!D30+NOV!D30+DIS!D30 -> 0 | E30: =SUM(JAN!E35)+FEB!E35+MAC!E30+APRIL!E30+MEI!E30+JUN!E30+JULAI!E30+OGOS!E30+SEPT!E30+OKT!E30+NOV!E30+DIS!E30 -> 95 | F30: =SUM(JAN!F35)+FEB!F35+MAC!F30+APRIL!F30+MEI!F30+JUN!F30+JULAI!F30+OGOS!F30+SEPT!F30+OKT!F30+NOV!F30+DIS!F30 -> 0 | G30: =SUM(JAN!G35)+FEB!G35+MAC!G30+APRIL!G30+MEI!G30+JUN!G30+JULAI!G30+OGOS!G30+SEPT!G30+OKT!G30+NOV!G30+DIS!G30 -> 32 | H30: =SUM(JAN!H35)+FEB!H35+MAC!H30+APRIL!H30+MEI!H30+JUN!H30+JULAI!H30+OGOS!H30+SEPT!H30+OKT!H30+NOV!H30+DIS!H30 -> 0 | I30: =SUM(JAN!I35)+FEB!I35+MAC!I30+APRIL!I30+MEI!I30+JUN!I30+JULAI!I30+OGOS!I30+SEPT!I30+OKT!I30+NOV!I30+DIS!I30 -> 0 | J30: =SUM(JAN!J35)+FEB!J35+MAC!J30+APRIL!J30+MEI!J30+JUN!J30+JULAI!J30+OGOS!J30+SEPT!J30+OKT!J30+NOV!J30+DIS!J30 -> 95 | ... M30: =SUM(JAN!M35)+FEB!M35+MAC!M30+APRIL!M30+MEI!M30+JUN!M30+JULAI!M30+OGOS!M30+SEPT!M30+OKT!M30+NOV!M30+DIS!M30 -> 0 | O30: =SUM(JAN!O35)+FEB!O35+MAC!O30+APRIL!O30+MEI!O30+JUN!O30+JULAI!O30+OGOS!O30+SEPT!O30+OKT!O30+NOV!O30+DIS!O30 -> 0 | P30: =SUM(JAN!P35)+FEB!P35+MAC!P30+APRIL!P30+MEI!P30+JUN!P30+JULAI!P30+OGOS!P30+SEPT!P30+OKT!P30+NOV!P30+DIS!P30 -> 0 | R30: =IF(C30=0,0,(J30+K30)/C30*100) -> 100
A31: JUMLAH | B31: =SUM(B28:B30) -> 0 | C31: =SUM(JAN!C37)+FEB!C37+MAC!C31+APRIL!C31+MEI!C31+JUN!C31 -> 742 | D31: =SUM(JAN!D37)+FEB!D37+MAC!D31+APRIL!D31+MEI!D31+JUN!D31 -> 0 | E31: =SUM(JAN!E37)+FEB!E37+MAC!E31+APRIL!E31+MEI!E31+JUN!E31 -> 271 | F31: =SUM(JAN!F37)+FEB!F37+MAC!F31+APRIL!F31+MEI!F31+JUN!F31 -> 0 | G31: =SUM(JAN!G37)+FEB!G37+MAC!G31+APRIL!G31+MEI!G31+JUN!G31 -> 43 | H31: =SUM(JAN!H37)+FEB!H37+MAC!H31+APRIL!H31+MEI!H31+JUN!H31 -> 0 | I31: =SUM(JAN!I37)+FEB!I37+MAC!I31+APRIL!I31+MEI!I31+JUN!I31 -> 0 | J31: =SUM(JAN!J37)+FEB!J37+MAC!J31+APRIL!J31+MEI!J31+JUN!J31 -> 662 | ... M31: =SUM(JAN!M37)+FEB!M37+MAC!M31+APRIL!M31+MEI!M31+JUN!M31 -> 0 | N31: =SUM(N28:N30) -> 0 | O31: =SUM(JAN!O37)+FEB!O37+MAC!O31+APRIL!O31+MEI!O31+JUN!O31 -> 0 | P31: =SUM(JAN!P37)+FEB!P37+MAC!P31+APRIL!P31+MEI!P31+JUN!P31 -> 0 | Q31: =IF(B31=0,0,(H31+I31)/B31*100) -> 0 | R31: =IF(C31=0,0,(J31+K31)/C31*100) -> 100
A33: Makluman | B33: : | C33: Peratusan Piagam Pelanggan bagi Kaunter diambil daripada Permohonan lengkap diterima di kaunter sehingga AP dicetak
C34: Peratusan Piagam Pelanggan bagi Online diambil daripada Permohonan diterima sehingga AP diluluskan.
C36: Eksport: Data daripada e-Permit -Dagangnet
